{"text_format":"1","workbook":"xlsx","n_sheets":38,"sheets":["Inhalt","1","2","3","4","Übung 1-4","5","Übung 5","6","Übung 6","7","Übung 7","8","8.5 Bilanz","8.6 GuV","Übung 8","8 Anlage","8 Anlage Bilanz","9","Schaubild GWG","10","11","12","Anlage 12","13","14","15","16","17","18","19","20","21 Übungen","Klausur","Vorlage","Punkte","Vorlage (2)","Tabelle1"],"not_rendered":{"charts":0,"images":0,"macros":0,"external_links":0,"defined_names":96,"comments":0,"pivot_tables":0},"unopened":[],"bounds":{"document_bytes":16777216,"sheet_cells":100000,"rows_first":2000,"rows_last":500,"rows_between":2000,"halvings":0,"cell_chars":16384,"cell_head_chars":4096},"cells_cut":0,"cells_raw":0,"read":"whole","date_system":"1900"}

{"sheet":"Inhalt","index":0,"n_rows":94,"n_cols":3,"rows_kept":94,"cut":false,"hidden":false,"merged":[[1,0,1,52],[50,0,50,52]]}
[]
[1]
[]
[null,{"$f":"'1'!_Toc440802779","v":1},{"$f":"'1'!C4","v":"Grundlagen der kaufmännischen Rechnungslegung"}]
[null,"1.1","Adressaten der kaufmännischen Rechnungslegung"]
[null,{"$f":"'1'!B12","v":"1.2"},{"$f":"'1'!C12","v":"Aufgaben des Rechnungswesens"}]
[null,{"$f":"'1'!B18","v":"1.3"},{"$f":"'1'!C18","v":"Gliederung des Rechnungswesens"}]
[null,{"$f":"'2'!_Toc440802779","v":2},{"$f":"'2'!C4","v":"Rechtsgrundlagen des Rechnungswesens"}]
[null,{"$f":"'2'!B10","v":"2.1"},{"$f":"'2'!C10","v":"Gesetzliche Grundlagen"}]
[null,{"$f":"'2'!B21","v":"2.1.1"},{"$f":"'2'!C21","v":"Handelsrechtliche Vorschriften"}]
[null,{"$f":"'2'!B39","v":"2.1.2"},{"$f":"'2'!C39","v":"Steuerrechtliche Vorschriften"}]
[null,{"$f":"'3'!_Toc440802779","v":3},{"$f":"'3'!C4","v":"Die Grundsätze der ordnungsgemäßen Buchführung (\"GoB\")"}]
[null,{"$f":"'3'!B12","v":"3.1"},{"$f":"'3'!C12","v":"Dokumentationsgrundsätze"}]
[null,{"$f":"'3'!B28","v":"3.2"},{"$f":"'3'!C28","v":"Bilanzierungsgrundsätze"}]
[null,{"$f":"'3'!B43","v":"3.3"},{"$f":"'3'!C43","v":"Ordnungsgemäße computergestützte Buchhaltung"}]
[null,{"$f":"'4'!_Toc440802779","v":4},{"$f":"'4'!C4","v":"Aufzeichnungs- und Buchführungspflichten"}]
[null,{"$f":"'4'!B8","v":"4.1"},{"$f":"'4'!C8","v":"Buchführungspflicht der Kaufleute nach Handelsrecht"}]
[null,{"$f":"'4'!B25","v":"4.2"},{"$f":"'4'!C25","v":"Steuerrechtliche Buchführungspflicht"}]
[null,{"$f":"'4'!B33","v":"4.3"},{"$f":"'4'!C33","v":"Weitere Aufzeichnungspflichten"}]
[null,{"$f":"'5'!_Toc440802779","v":5},{"$f":"'5'!C4","v":"Organisation der Buchführung"}]
[null,{"$f":"'5'!B6","v":"5.1"},{"$f":"'5'!C6:D6","v":"Grund- und Hauptbuch"}]
[null,{"$f":"'5'!B10","v":"5.2"},{"$f":"'5'!C10","v":"Nebenbuchhaltung (Nebenbücher)"}]
[null,{"$f":"'5'!B44","v":"5.3"},{"$f":"'5'!C44","v":"Aufbewahrungspflichten"}]
[null,{"$f":"'5'!B52","v":"5.4"},{"$f":"'5'!C52","v":"Aufbewahrungsfristen"}]
[null,{"$f":"'5'!B63","v":"5.5"},{"$f":"'5'!C63","v":"Unterscheidung der Belege"}]
[null,{"$f":"'5'!B73","v":"5.6"},{"$f":"'5'!C73:D73","v":"Behandlung von Belegen nach den GoBs"}]
[null,{"$f":"'6'!_Toc440802779","v":6},{"$f":"'6'!C4:G4","v":"Inventur und Inventar"}]
[null,{"$f":"'6'!B6:D6","v":"6.1"},{"$f":"'6'!C6:G6","v":"Das Inventar"}]
[null,{"$f":"'6'!B45","v":"6.2"},{"$f":"'6'!C45:G45","v":"Begriffsunterscheidung Inventar / Inventur"}]
[null,{"$f":"'6'!B54","v":"6.3"},{"$f":"'6'!C54:G54","v":"Die Inventur: grundlegende Definition"}]
[null,{"$f":"'6'!B58:D58","v":"6.4"},{"$f":"'6'!C58","v":"Bewertung und Bewertungsvereinfachung"}]
[null,{"$f":"'6'!B70","v":"6.5"},{"$f":"'6'!C70:G70","v":"Besondere Arten der Inventur"}]
[null,{"$f":"'7'!_Toc440802779","v":7},{"$f":"'7'!C4","v":"Inventar => Bilanz und GuV"}]
[null,{"$f":"'7'!B8","v":"7.1"},{"$f":"'7'!C8","v":"Bilanz"}]
[null,{"$f":"'7'!B72","v":"7.2"},{"$f":"'7'!C72","v":"Bilanz und GuV"}]
[null,{"$f":"'8'!_Toc440802779","v":8},{"$f":"'8'!C4","v":"Die Ableitung der Buchungsmethodik"}]
[null,{"$f":"'8'!B8","v":"8.1"},{"$f":"'8'!C8","v":"Buchungsregeln"}]
[null,{"$f":"'8'!B73","v":"8.2"},{"$f":"'8'!C73:D73","v":"Ableitung von Buchungssätzen"}]
[null,{"$f":"'8'!B90","v":"8.3"},{"$f":"'8'!C90","v":"Beispiele für Buchungssätze"}]
[null,{"$f":"'8'!B117","v":"8.4"},{"$f":"'8'!C117","v":"Die vier elementaren Buchungsfälle"}]
[null,{"$f":"'8'!B143","v":"8.5"},{"$f":"'8'!C143","v":"Der Buchungskreislauf der Bilanz-Konten (siehe Anlagen)"}]
[null,{"$f":"'8'!B147","v":"8.6"},{"$f":"'8'!C147","v":"Erfolgskonten, GuV und Eigenkapital (siehe Anlagen)"}]
[null,{"$f":"'9'!B4","v":9},{"$f":"'9'!C4","v":"Verbuchung von Abschreibungen"}]
[null,{"$f":"'9'!B8","v":"9.1"},{"$f":"'9'!C8","v":"Arten der Abschreibungen"}]
[null,{"$f":"'9'!B13","v":"9.2"},{"$f":"'9'!C13","v":"Buchungstechnik bei Abschreibungen"}]
[null,{"$f":"'9'!B22","v":"9.3"},{"$f":"'9'!C22","v":"Planmäßige und außerplanmäßige Abschreibung"}]
[null,{"$f":"'9'!B30","v":"9.4"},{"$f":"'9'!C30","v":"Degressive und lineare Abschreibung"}]
[null,{"$f":"'9'!B109","v":"9.5"},{"$f":"'9'!C109","v":"Geringwertige Wirtschaftsgüter (Bewertungsvereinfachung)"}]
[null,{"$f":"'9'!B128","v":"9.6"},{"$f":"'9'!C128","v":"Übungen zu Abschreibungen"}]
[]
[{"$f":"A2+1","v":2}]
[]
[null,{"$f":"'10'!B4","v":10},{"$f":"'10'!C4","v":"Die Umsatzsteuer"}]
[null,{"$f":"'10'!B6","v":"10.1"},{"$f":"'10'!C6","v":"Umsatzsteuerpflicht"}]
[null,{"$f":"'10'!_Toc440802780","v":"10.2"},{"$f":"'10'!C10","v":"Systematik der Umsatzsteuer"}]
[null,{"$f":"'10'!B22","v":"10.3"},{"$f":"'10'!C22","v":"Umsatzsteuer im Einkauf- und Verkaufsprozess"}]
[null,{"$f":"'10'!B94","v":"10.4"},{"$f":"'10'!C94","v":"Verbuchung der Umsatzsteuer"}]
[null,{"$f":"'11'!B4","v":11},{"$f":"'11'!C4","v":"Das Privatkonto"}]
[null,{"$f":"'11'!B18","v":"11.2"},{"$f":"'11'!C18","v":"Gewinn-Ermittlungsmethode durch EK-Vergleich"}]
[null,{"$f":"'11'!B187","v":"11.2"},{"$f":"'11'!C187","v":"Übungsfälle"}]
[null,{"$f":"'12'!B4","v":12},{"$f":"'12'!C4","v":"Organisation der Buchführung"}]
[null,{"$f":"'12'!B6","v":"12.1"},{"$f":"'12'!C6","v":"Der Gemeinschaftskontenrahmen der Industrie (GKR)"}]
[null,{"$f":"'12'!B10","v":"12.2"},{"$f":"'12'!C10","v":"Der Kontenplan"}]
[null,{"$f":"'13'!B4","v":13},{"$f":"'13'!C4","v":"Buchungen im Personalbereich"}]
[null,{"$f":"'13'!B6","v":"13.1"},{"$f":"'13'!C6","v":"Ausweis- und Rechnungslegungspflichten"}]
[null,{"$f":"'13'!B29","v":"13.2"},{"$f":"'13'!C29","v":"Übungsfälle zur Lohn-/Gehaltsverbuchung"}]
[null,{"$f":"'14'!B4","v":14},{"$f":"'14'!C4","v":"Buchungen im Ein- und Verkaufsbereich"}]
[null,{"$f":"'14'!B8","v":"14.1"},{"$f":"'14'!C8","v":"Zur Definition des Materialbegriffes"}]
[null,{"$f":"'14'!B14","v":"14.2"},{"$f":"'14'!C14","v":"Buchungen der Roh-, Hilfs- und Betriebsstoffe"}]
[null,{"$f":"'14'!B34","v":"14.3"},{"$f":"'14'!C34","v":"Buchungen des Warenverkehrs"}]
[null,{"$f":"'14'!B46","v":"14.4"},{"$f":"'14'!C46","v":"Grundlagen zu (nachträglichen) Preisnachlässen"}]
[null,{"$f":"'15'!B4","v":15},{"$f":"'15'!C4","v":"Zahlungen mit Skontoabzug"}]
[null,{"$f":"'16'!B4","v":16},{"$f":"'16'!C4","v":"Buchungen im Sachanlagebereich"}]
[null,{"$f":"'16'!B8","v":"16.1"},{"$f":"'16'!C8","v":"Buchungen neuer Anlagen (Anschaffung/Kauf)"}]
[null,{"$f":"'16'!B154","v":"16.2"},{"$f":"'16'!C154","v":"Abgrenzung zu den geringwertigen Wirtschaftgütern"}]
[null,{"$f":"'16'!B173","v":"16.3"},{"$f":"'16'!C173","v":"Instandhaltung und Investition"}]
[null,{"$f":"'16'!B185","v":"16.4"},{"$f":"'16'!C185","v":"Aktivierte Eigenleistungen"}]
[null,{"$f":"'16'!B258","v":"16.5"},{"$f":"'16'!C258","v":"Abgang / Verkauf von gebrauchten Anlagegütern"}]
[null,{"$f":"'16'!B394","v":"16.6"},{"$f":"'16'!C394","v":"Anlagenkauf mit „Inzahlunggabe“ gebrauchter Anlagen"}]
[null,{"$f":"'17'!B4","v":17},{"$f":"'17'!C4","v":"Steuern im Unternehmen"}]
[null,{"$f":"'18'!B4","v":18},{"$f":"'18'!C4","v":"Bestandsveränderungen an unfertigen und fertigen Erzeugnissen"}]
[null,{"$f":"'19'!B5","v":"19"},{"$f":"'19'!C5","v":"Zeitliche Abgrenzung"}]
[null,{"$f":"'19'!B6","v":"19.1"},{"$f":"'19'!C6","v":"Vier Formen von Rechnungsabgrenzungsposten"}]
[null,{"$f":"'19'!B27","v":"19.2"},{"$f":"'19'!C27","v":"Verbuchung von Rechnungsabgrenzungsposten (RAP)"}]
[null,{"$f":"'19'!B44","v":"19.3"},{"$f":"'19'!C44","v":"Übungsfälle zur Abgrenzung sonstiger Erträge / Aufwendungen"}]
[null,{"$f":"'19'!B289","v":"19.4"},{"$f":"'19'!C289","v":"Rückstellungen"}]
[null,{"$f":"'20'!_Toc440802779","v":"20"},{"$f":"'20'!C5","v":"Wertberichtigung von Forderungen"}]
[null,{"$f":"'20'!B7","v":"20.1"},{"$f":"'20'!C7","v":"Bewertung von Forderungen"}]
[null,{"$f":"'20'!B30","v":"20.2"},{"$f":"'20'!C30","v":"Übung zu Forderungsausfällen"}]
[null,{"$f":"'21 Übungen'!B2","v":"21"},{"$f":"'21 Übungen'!C2","v":"Übungsaufgaben aus ehemaligen Klausuren"}]
[null,null,{"$f":"'9'!C114","v":0}]
[null,null,{"$f":"'9'!C135","v":0}]
[null,null,{"$f":"'6'!C77:G77","v":0}]
[null,null,{"$f":"'5'!C83:D83","v":0}]

{"sheet":"1","index":1,"n_rows":34,"n_cols":35,"rows_kept":34,"cut":false,"hidden":false,"merged":[[27,0,27,52],[29,1,29,51],[31,1,31,51],[33,1,33,51],[7,1,7,51],[9,1,9,51],[13,1,13,51],[25,1,25,51],[1,0,1,52],[15,1,15,51],[19,1,19,10],[19,12,19,21],[19,23,19,32],[19,34,19,43]]}
[]
[{"$f":"Inhalt!A51+1","v":3}]
[]
[null,1,"Grundlagen der kaufmännischen Rechnungslegung"]
[]
[null,"1.1","Adressaten der kaufmännischen Rechnungslegung"]
[]
[null,"Rechnungslegung ist der Oberbegriff für die Gesamtheit der Aufzeichnungspflichten, mit denen internen und externen Interessenten Rechenschaft über die Geschäftsvorfälle und die Lage des Unternehmens gegeben wird."]
[]
[null,"Externe Interessenten können sein:\n- Banken\n- Gläubiger (z. B. Lieferanten)\n- Behörden, insbesondere das Finanzamt\n- Kapitalanleger (z. B. Aktionäre)\n\nInterne Interessenten sind insbesondere\n- die Geschäftsleitung\n- Controller und interne Revision\n- Mitarbeiter, insbesondere leitende Angestellte\n- (Kapital-) Eigentümer\n"]
[]
[null,"1.2","Aufgaben des Rechnungswesens"]
[]
[null,"Das Rechnungswesen hat die Aufgabe, das gesamte Unternehmensgeschehen zahlenmäßig zu erfassen, zu überwachen und auszuwerten. \nMan unterscheidet grundsätzlich:"]
[]
[null,"1. Dokumentationsaufgabe: Aufzeichnung sämtlicher Geschäftsfälle anhand von Belegen: zeitnah, zeitrichtig, geordnet, lückenlos, wahr und fortlaufend.\n2. Rechenschaftslegungs- und Informationsaufgabe: Periodenweise (jährliche) Berichterstattung an Unternehmenseigner, Behörden, Gläubiger (Kreditgeber) usw. über die Vermögens-, Finanz- und Ertragslage (Jahresabschluss).\n3. Kontrollaufgabe: Aussagen über Produktivität, Wirtschaftlichkeit und Rentabilität des Unternehmens, seiner Betriebe und anderen Teilsysteme (z. B. Kostenstellen).\n4. Dispositionsaufgabe: Bereitstellung von Zahlenmaterial als Grundlage für unternehmerische Entscheidungen, z. B. über Investitionen, Märkte, Produktsortimente\noder Absatzpolitiken.\n"]
[]
[null,"1.3","Gliederung des Rechnungswesens"]
[]
[null,"Buchführung",null,null,null,null,null,null,null,null,null,null,"Kosten- und \nLeistungsrechnung",null,null,null,null,null,null,null,null,null,null,"Statistik",null,null,null,null,null,null,null,null,null,null,"Planrechnung"]
[]
[null,"unternehmensbezogene",null,null,null,null,null,null,null,null,null,null,"betriebsbezogene",null,null,null,null,null,null,null,null,null,null,"Vergleichsrechnung",null,null,null,null,null,null,null,null,null,null,"Vorschaurechnung"]
[null,"Zeitraum- und Zeitpunkt-",null,null,null,null,null,null,null,null,null,null,"Stück- und Gesamt-",null,null,null,null,null,null,null,null,null,null,"(Zeit-, Unternehmens-",null,null,null,null,null,null,null,null,null,null,"zu Investition, Einkauf,"]
[null,"rechnung",null,null,null,null,null,null,null,null,null,null,"rechnung",null,null,null,null,null,null,null,null,null,null,"und Betriebsvergleich)",null,null,null,null,null,null,null,null,null,null,"Absatz, Produktion usw."]
[]
[null,"Die (Finanz-) Buchführung ist eine unternehmensbezogene Zeitraum- und Zeitpunktrechnung. \nDie zeitraumbezogene Rechnungslegung wird in der Gewinn- und Verlustrechnung (GuV) und die zeitpunktbezogene Rechnungslegung in der Bilanz abgebildet.\n"]
[]
[{"$f":"A2+1","v":4}]
[]
[null,"Damit die Finanzverwaltung ihrer Aufgabe, Steuern gleichmäßig festzusetzen und zu erheben nachkommen kann, ist der Steuerpflichtige zur Mitwirkung bei der Ermittlung des Sachverhalts verpflichtet.  Hierfür hat er unter anderem Aufzeichnungs- und Buchführungspflichten nachzukommen, die sich aus dem Handelsrecht, aus dem Steuerrecht und aus sonstigen Rechtsvorschriften ergeben können."]
[]
[null,"Aufzeichnungen sind alle dauerhaft verkörperten Erklärungen über Geschäftsvorfälle in Schriftform oder auf Medien mit Schriftersatzfunktion (z.B. CD, DVD, Disketten, EDV-Magnetbänder).  \nUnter dem Begriff Buchführung versteht man die geordnete Dokumentation des betrieblichen Geschehens durch „Bücher”, die mindestens in einem Grundbuch eine zeitnahe und geordnete Erfassung sämtlicher Geschäftsvorfälle gewährleistet und\ndie turnusmässige Erstellung eines Inventars beinhaltet."]
[]
[null,"Hierdurch ist gewährleistet, dass die Buchführung den Stand (Inventur) und die Veränderungen („laufende Buchführung”) des Anlage - und Umlaufvermögens, des Eigen- und Fremdkapitals sowie der Aufwendungen und Erträge abbildet. Auf der Grundlage der Buchführung haben Kaufleute zum Schluss des Wirtschaftsjahres den Jahresabschluss zu erstellen, der aus der Bilanz und der Gewinn- und Verlustrechnung besteht und bei Kapitalgesellschaften bzw. bestimmten Personengesellschaften zusätzlich um einen Anhang und ggf. einen Lagebericht zu erweitern ist. Bücher und Aufzeichnungen, die den Vorschriften der §§ 140 bis 148 AO entsprechen, sind der Besteuerung zu Grunde zu legen, soweit nach den Umständen kein Anlass besteht, ihre sachliche Richtigkeit zu beanstanden (sog. Beweiskraft)."]

{"sheet":"2","index":2,"n_rows":41,"n_cols":25,"rows_kept":41,"cut":false,"hidden":false,"merged":[[17,2,17,21],[18,2,18,21],[24,1,24,51],[36,1,36,51],[15,2,15,21],[16,2,16,21],[32,1,32,51],[34,1,34,51],[17,24,17,43],[18,24,18,43],[40,1,40,51],[1,0,1,52],[30,0,30,52],[22,1,22,51],[26,1,26,51],[28,1,28,51],[5,1,5,51],[7,1,7,51],[11,2,11,21],[11,24,11,43],[13,2,13,21],[14,2,14,21],[13,24,13,43],[14,24,14,43],[15,24,15,43],[16,24,16,43]]}
[]
[{"$f":"'1'!A28:BA28+1","v":5}]
[]
[null,2,"Rechtsgrundlagen des Rechnungswesens"]
[]
[null,"Die Buchhaltung ist stark reglementiert und von zahlreichen Rechtsquellen geregelt."]
[]
[null,"Hierbei ist die Gesamtheit aller Rechtsnormen, die die Rechnungslegung regeln, von Bedeutung. Man unterscheidet dabei kodifiziertes Recht (Gesetze), Rechtsprechung und Gewohnheitsrecht. Alle drei Arten von Rechtsnormen kommen im Rechnungswesen vor:\n"]
[]
[null,"2.1","Gesetzliche Grundlagen"]
[]
[null,null,"Handelsrecht",null,null,null,null,null,null,null,null,null,null,null,null,null,null,null,null,null,null,null,null,null,"Steuerrecht"]
[]
[null,null,"Aktiengesetz (AktG)",null,null,null,null,null,null,null,null,null,null,null,null,null,null,null,null,null,null,null,null,null,"EStG"]
[null,null,"GmbHG",null,null,null,null,null,null,null,null,null,null,null,null,null,null,null,null,null,null,null,null,null,"KStG"]
[null,null,"GenG",null,null,null,null,null,null,null,null,null,null,null,null,null,null,null,null,null,null,null,null,null,"UStG, GewStG"]
[null,null,"PublG",null,null,null,null,null,null,null,null,null,null,null,null,null,null,null,null,null,null,null,null,null,"BewG"]
[null,null,"HGB",null,null,null,null,null,null,null,null,null,null,null,null,null,null,null,null,null,null,null,null,null,"AO"]
[null,null,"und allgemeine GoB",null,null,null,null,null,null,null,null,null,null,null,null,null,null,null,null,null,null,null,null,null,"Verordnungen, EU-Recht"]
[]
[null,"2.1.1","Handelsrechtliche Vorschriften"]
[]
[null,"Die handelsrechtlichen Vorschriften sind im 3. Buch des Handelsgesetzbuches (= HGB) in folgende Teile geregelt:\n1. §§ 238–263 HGB: Grundlegende Vorschriften für alle Kaufleute\n2. §§ 264–335b HGB: Zusätzliche Vorschriften für Kapitalgesellschaften\n3. §§ 336–339 HGB: Zusätzliche Vorschriften für eingetragene Genossenschaften und weitere\n"]
[]
[null,"Die für die Buchführung wichtigsten Vorschriften finden sich in den §§ 238 bis 263 sowie in den §§ 264 bis 335b HGB."]
[]
[null,"Rechtsformenspezifische Vorschriften finden sich u. a. auch in den gesellschaftsrechtlichen Regelungen des Handelsgesetzbuches für die offene Handelsgesellschaft (OHG) und die\nKommanditgesellschaft (KG), ferner für die Aktiengesellschaft im Aktiengesetz (AktG) sowie für die GmbH im GmbHG. "]
[]
[null,"Allgemein kann man sagen, dass für Kapitalgesellschaften wesentlich detailliertere und spezifischere Regelungen gelten als für Einzelunternehmen und Personengesellschaften. Dies kann insbesondere mit dem viel größeren volkswirtschaftlichen Risiko begründet werden, das in Kapitalgesellschaften präsent ist, insbesondere bei Insolvenz (Gläubigerschutz).\n"]
[]
[{"$f":"A2+1","v":6}]
[]
[null,"Beispiel: Jeder buchführungspflichtige Kaufmann ist verpflichtet, einen handelsrechtlichen Jahresabschluss aufzustellen (§ 242 Abs. 1 HGB). Dieser hat nach § 246 Abs. 1 Satz 1 HGB sämtliche Vermögensgegenstände, Schulden, Rechnungsabgrenzungen, Aufwendungen und Erträge zu enthalten. \nIn der Bilanz müssen das Anlage- und das Umlaufvermögen, das Eigen- und Fremdkapital und die Rechnungsabgrenzungen gesondert ausgewiesen und „hinreichend aufgegliedert“ werden (siehe hierzu § 247 Abs. 1 HGB). Wie weit diese „hinreichende Aufgliederung“ geht, ist jedoch nirgendwo geregelt. \nEine Kapitalgesellschaft hingegen ist hinsichtlich der Inhalte der Bilanz an das Gliederungsschema des § 266 Abs. 2 und 3 HGB gebunden. Während den Personengesellschaften vergleichsweise weitreichende Freiheiten in Art und Inhalt der Bilanz gewährt werden, sind Kapitalgesellschaften an sehr detaillierte Vorschriften gebunden."]
[]
[null,"Größenspezifische Vorschriften sind insbesondere im Handelsgesetzbuch (z. B. § 267 HGB) und im Publizitätsgesetz enthalten. Die Größenklassenregelung ist insbesondere für den Grad der Differenziertheit des Ausweises des Jahresabschlusses bedeutungsvoll. Kleine und mittelgroße Gesellschaften haben Erleichterungen hinsichtlich Zahl und Umfang der im Jahresabschluss offenzulegenden Tatsachen (u. a. §§ 266 Abs. 1 Satz 3 i. V. m. § 327 Nr. 1 HGB oder § 288 HGB). Alte Vorschriften, wonach nur große Gesellschaften im Bundesanzeiger publizieren müssen, sind jedoch inzwischen abgeschafft worden: \njetzt müssen alle im Unternehmensregister elektronisch offenlegen.\nhttps://www.ebundesanzeiger.de"]
[]
[null,"Eine Besonderheit gilt für Kapitalgesellschaften und Co. Durch die Neufassung insbesondere der größenspezifischen Offenlegungsvorschriften gelten die speziellen Regelungen für Kapitalgesellschaften ab 2000 indirekt auch für bestimmte Personengesellschaften, die mindestens einen unbeschränkt\nhaftenden Gesellschafter haben, der eine Kapitalgesellschaft ist. Das betrifft insbesondere Mischgesellschaftsformen wie die GmbH & Co KG."]
[]
[null,"2.1.2","Steuerrechtliche Vorschriften"]
[]
[null,"Das grundlegende steuerliche Regelwerk ist die Abgabenordnung (AO), die alle grundsätzlichen Regelungen zum Steuerschuldrecht, zum Steuerverfahren und zur Bestrafung von Steuersündern enthält. In einer  Anzahl von Fällen sind insbesondere Verfahrensdetails zur Erreichung konkreter steuerlicher Einzelziele relevant. \n\nEinzelne Steuergesetze betreffen in der Regel jeweils einzelne Steuerarten, d. h. zu jeder Steuerart gibt es ein Steuergesetz. Zu den wichtigsten gehören das Einkommensteuergesetz (EStG), das Körperschaftsteuergesetz (KStG), das Bewertungsgesetz (BewG), das Umsatzsteuergesetz (UStG), das Gewerbesteuergesetz (GewStG) und eine Vielzahl weiterer Gesetze."]

{"sheet":"3","index":3,"n_rows":45,"n_cols":3,"rows_kept":45,"cut":false,"hidden":false,"merged":[[1,0,1,52],[40,1,40,51],[20,0,20,52],[36,0,36,52],[29,1,29,51],[31,1,31,51],[33,1,33,51],[38,1,38,51],[15,1,15,51],[44,1,44,51],[5,1,5,51],[24,1,24,51],[7,1,7,51],[9,1,9,51],[13,1,13,51],[17,1,17,51],[22,1,22,51],[25,1,25,51]]}
[]
[{"$f":"'2'!A31:BA31+1","v":7}]
[]
[null,3,"Die Grundsätze der ordnungsgemäßen Buchführung (\"GoB\")"]
[]
[null,"Die \"GoB\" sind ein mehr oder weniger unbestimmter Rechtsbegriff (Generalklausel), der die Gesamtheit der kodifizierten und nichtkodifizierten Vorschriften und Normen umschreibt, die für die Buchführung, die Jahresabschlussgliederung, den Ansatz und die Bewertung im handelsrechtlichen Jahresabschluss maßgebend sind. Man unterscheidet zwei Gruppen von „GoB“:"]
[]
[null,"1. Grundsätze, die der Dokumentation dienen sind der Grundsatz der Übersichtlichkeit, der Grundsatz der Richtigkeit, der Grundsatz der Vollständigkeit und der Grundsatz der Ordnungsmäßigkeit des Belegwesens;"]
[]
[null,"2. Bilanzierungsgrundsätze sind der Grundsatz der Klarheit, der Grundsatz der Wahrheit, der Grundsatz der Kontinuität und der Grundsatz der Vorsicht. "]
[]
[null,"3.1","Dokumentationsgrundsätze"]
[]
[null,"Grundsatz der Übersichtlichkeit: \nDieser verlangt eine solche Beschaffenheit der Buchführung, dass sie einem sachverständigen Dritten innerhalb angemessener Zeit einen Überblick über die Geschäftsvorfälle und über die Lage des Unternehmens vermitteln kann. Die Geschäftsvorfälle müssen sich in ihrer Entstehung und Abwicklung verfolgen lassen (§ 238 Abs. 1 Satz 2 HGB, § 145 AO). Darüber hinaus fordert § 243 Abs. 2 HGB, dass der Jahresabschluss klar und übersichtlich sein muß."]
[]
[null,"Grundsatz der Richtigkeit:\nDieser verlangt richtige Verbuchung und Aufzeichnung von Geschäftsvorfällen (§ 239 Abs. 2 HGB)."]
[]
[null,"Grundsatz der Vollständigkeit: \nDieser gebietet, sämtliche Vermögensgegenstände, Schulden, Rechnungsabgrenzungsposten, Aufwendungen und Erträge in den Jahresabschluss einzubeziehen, soweit gesetzlich nichts anderes bestimmt ist (§ 246 Abs. 1 HGB). Dabei dürfen Bilanzierungswahlrechte und Bilanzierungsverbote nur im gesetzlich genau umgrenzten Rahmen wahrgenommen werden.\n \nEs gilt das allgemeine Verrechnungsverbot (Saldierungsverbot), wonach keine Verrechnung von Posten der Aktivseite mit Posten der Passivseite, von Aufwendungen mit Erträgen, von Grundstücksrechten mit Grundstückslasten zulässig ist (§ 246 Abs. 2 HGB). \n\nDarüber hinaus sind alle Geschäftsvorfälle einzeln aufzuzeichnen (und grundsätzlich auch einzeln zu bewerten).\n"]
[]
[]
[{"$f":"A2+1","v":8}]
[]
[null,"Grundsatz der Ordnungsmäßigkeit des Belegwesens: \nDamit sich die Geschäftsvorfälle in ihrer Entstehung und Abwicklung verfolgen lassen (§ 238 Abs. 1 Satz 3 HGB), müssen bei der Belegbehandlung folgende Regeln beachtet werden:\n\n"]
[]
[null,"1. Belegzwang für Buchungen: Keine Buchung ohne Beleg.\n2. Rechnerische Richtigkeit des Beleginhalts.\n3. Datumspflicht von Buchungsbelegen: Jeder Beleg ist mit einem Ausstellungsdatum zu versehen.\n4. Unmißverständlicher Belegtext bei hinreichender Erklärung des Geschäftsvorfalls: Belege müssen in einer lebenden Sprache gehalten werden (§ 239 Abs. 1 HGB), Aufstellung des Jahresabschlusses dagegen in deutscher Sprache (§244 HGB). Bedeutung von Abkürzungen, Ziffern, Buchstaben und Symbolen muss eindeutig festliegen (§ 239 Abs. 1 Satz 2 HGB).\n5. Gegenseitiges Verweisprinzip: Von der Buchung zum Beleg, vom Beleg zur Buchung.\n6. Korrekturverbot: Keine nachträgliche Veränderung einer Eintragung oder Aufzeichnung, so dass der ursprüngliche Inhalt nicht mehr feststellbar ist (§ 239 Abs. 3 Satz 1 HGB). Auch keine Vornahme solcher Änderungen, deren Beschaffenheit es ungewiß läßt, ob sie ursprünglich oder erst später gemacht worden sind (§ 239 Abs. 3 Satz 2 HGB). Pflicht zum Storno fehlerhafter Eintragungen, Aufzeichnungen und Buchungen (der fehlerhafte Vorgang ist aus Gründen der Klarheit und Übersichtlichkeit offen rückgängig zu machen).\n"]
[null,"ergänzend: Bundesministerium der Finanzen (IV A 4 - S-0316 / 13 / 10003); Schreiben (koordinierter Ländererlass) vom 14.11.2014 "]
[]
[null,"3.2","Bilanzierungsgrundsätze"]
[]
[null,"Grundsatz der Klarheit: \nDieser schreibt vor, den Jahresabschluss klar und übersichtlich aufzustellen (§ 243 Abs. 2 HGB). Er dokumentiert sich u. a. in den Vorschriften einer Postengliederung nach vorgeschriebener Reihenfolge (§ 265 Abs. 1 HGB), in der Verpflichtung zu zutreffender und eindeutiger Postenbezeichnung, im Verrechnungsverbot (§ 246 Abs. 2 HGB), in der Pflicht zur Einhaltung der vorgeschriebenen Ausweisformen\nKontoform für Bilanz (§ 266 Abs. 1 HGB) \nStaffelform für GuV-Rechnung (§ 275 Abs. 1 HGB) \nsowie in der Pflicht zur Beachtung des Grundsatzes der Wesentlichkeit (z. B. § 265 Abs. 3 HGB).\n"]
[]
[null,"Grundsatz der Wahrheit: \nDieser bezieht sich auf die materielle, inhaltliche Ordnungsmäßigkeit in bezug auf Ansatz- und Bewertungsfragen, umfaßt den Vollständigkeitsgrundsatz (§ 246 Abs. 1 HGB), das Verbot der Täuschung oder Irreführung Dritter (d. h., Pflicht zur Orientierung an der Generalklausel nach § 264 Abs. 2 HGB) und die Pflicht zu materiell richtiger Verbuchung von Geschäftsvorfällen und Gestaltung des Jahresabschlusses.\n"]
[]
[null,"Grundsatz der Kontinuität: \nDieser gliedert sich in Bilanzidentität (die die Übereinstimmung der Eröffnungsbilanz mit der Schlussbilanz des Vorjahres hinsichtlich Gliederung, Ansatz und Bewertung fordert), formelle Kontinuität (welche die Beibehaltung von Gliederung und Postenbezeichnung im Zeitablauf verlangt) und in materielle Kontinuität (welche auf die Beibehaltung des Wertzusammenhangs durch Wertfortführung im Zeitablauf zielt).\n"]
[]
[]
[{"$f":"A21+1","v":9}]
[]
[null,"Grundsatz der Vorsicht: \nDieses auch als Vorsichtsprinzip bzw. Grundsatz der kaufmännischen Vorsicht bekannte Grundprinzip (§ 252 Abs. 1 Nr. 4 HGB) ist auch nach der Bilanzrechtsmodernisierung noch bedeutsam. Nach dieser Grundregel hat sich ein Kaufmann bei Bilanzierung im Zweifel ärmer darzustellen, als er ist. Oberbegriff für eine Vielzahl von Einzelgrundsätzen und Vorschriften, die darauf abzielen, dass der Ausweis im Jahresabschluss nicht zu optimistisch ausfällt, sondern allen erkennbaren Risiken und Gefahren Rechnung trägt. Das Vorsichtsprinzip wird überall dort zur Leitlinie, wo aufgrund unvollständiger Information oder der Unsicherheit künftiger Ereignisse Ermessensspielräume bestehen. In diesen Fällen bedeutet das Vorsichtsprinzip, dass alle Gesichtspunkte, die für die Bewertung von Bedeutung sein können, sorgfältig und vollständig zu erfassen sind, insbesondere solche, die eingetretene Verluste erkennen lassen oder die auf bestehende Risiken hindeuten. \n"]
[]
[null,"Der Grundsatz der Vorsicht verlangt nicht, dass von der verlustbringendsten Annahme auszugehen ist, allerdings sollte von mehreren Schätzungsalternativen eine etwas pessimistischere als die wahrscheinlichste gewählt werden. Richtschnur und Grenze für das Vorsichtsprinzip ist die vernünftige kaufmännische Beurteilung, die fordert, dass für eine Maßnahme sachliche Gründe vorliegen müssen. Die willkürliche Bildung stiller Rücklagen (stille Reserven) mit dem Ziel, andere Gesellschafter zu benachteiligen und den Informationsgehalt des Jahresabschlusses zu vermindern, ist durch den Grundsatz der Vorsicht nicht gedeckt. Das Vorsichtsprinzip kommt insbesondere bei der Bemessung der Abschreibungen, der Bewertung des Vorratsvermögens (Vorräte) und der Forderungen sowie der Dotierung der Rückstellungen zum Tragen.\n"]
[]
[null,"3.3","Ordnungsgemäße computergestützte Buchhaltung"]
[]
[null,"Die Ordnungsmäßigkeit einer Datenverarbeitunggestützten Buchführung ist grundsätzlich nach den gleichen Prinzipien zu beurteilen wie die einer manuell erstellten Buchführung. Mit den GoBs sollen die allgemeinen GoB – der Maßstab für die Ordnungsmäßigkeit der Buchführung – für den Bereich der DV-gestützten Buchführung präzisiert werden. Zu beachten sind neben den handelsrechtlichen Grundsätzen ordnungsmäßiger Buchführung (vgl. hierzu insbesondere §§ 238, 257 und 261 HGB) die §§ 145 bis 147 AO. Auch an die DV-gestützte Buchführung wird die Anforderung gestellt, dass Geschäftsvorfälle retrograd und progressiv prüfbar bleiben müssen. Zur Erfüllung der Belegfunktionen sind deshalb Angaben zur Kontierung, zum Ordnungskriterium für die Ablage und zum Buchungsdatum auf dem Beleg erforderlich. Die Reihenfolge der Buchungen ist zu dokumentieren. Die ordnungsgemäße Anwendung des jeweiligen Verfahrens ist zu belegen. Der Nachweis der Durchführung der in dem jeweiligen Verfahren vorgesehenen Kontrollen ist u. a. durch Programmprotokolle sowie durch die Verfahrensdokumentation zu erbringen. Detailvorschriften der Grundsätze ordnungsgemäßer Buchführung bei computergestützten Verfahren umfassen Beleg-, Journal- und Kontenfunktion, Buchung, Internes Kontrollsystem, Datensicherheit, Dokumentation und Prüfbarkeit, Aufbewahrungsfristen, Wiedergabe der auf Datenträgern geführten Unterlagen und Verantwortlichkeit."]

{"sheet":"4","index":4,"n_rows":37,"n_cols":3,"rows_kept":37,"cut":false,"hidden":false,"merged":[[36,1,36,51],[1,0,1,52],[22,0,22,52],[30,1,30,51],[17,1,17,51],[34,1,34,51],[9,1,9,51],[13,1,13,51],[11,1,11,51],[15,1,15,51],[19,1,19,51],[26,1,26,51],[28,1,28,51],[5,1,5,51]]}
[]
[{"$f":"'3'!A37:BA37+1","v":10}]
[]
[null,4,"Aufzeichnungs- und Buchführungspflichten"]
[]
[null,"Damit insbesondere die Finanzverwaltung ihrer Aufgabe, Steuern gleichmäßig festzusetzen und zu erheben nachkommen kann, ist der Steuerpflichtige zur Mitwirkung bei der Ermittlung des Sachverhalts verpflichtet. Hierfür hat er unter anderem Aufzeichnungs- und Buchführungspflichten nachzukommen, die sich aus dem Handelsrecht, aus dem Steuerrecht und aus sonstigen Rechtsvorschriften ergeben können."]
[]
[null,"4.1","Buchführungspflicht der Kaufleute nach Handelsrecht"]
[]
[null,"Gemäß § 238 Abs. 1 HGB ist jeder Kaufmann verpflichtet, Bücher zu führen und in diesen seine Handelsgeschäfte und die Lage seines Vermögens nach den Grundsätzen ordnungsmäßiger Buchführung ersichtlich zu machen. Seit der Neuregelung des Kaufmannsbegriffes zum 1. Juli 1998 gelten diese Vorschriften für alle eingetragenen Kaufleute, d. h., für alle Gewerbetreibende. Als Kaufleute im Sinne der Buchführungsvorschriften sind anzusehen:\n"]
[]
[null,"1. Nach § 1 HGB nunmehr seit 1. Juli 1998 alle Gewerbetreibende, wobei die alte branchenbezogene Definition abgeschafft wurde;\n2. Land- und Forstwirte, die nach § 3 Abs. 2 HGB die Eintragung in das Handelsregister wegen ihres Geschäftsumfanges herbeigeführt haben (sogenannter „Kannkaufmann“);\n3. Handelsgesellschaften im Sinne des § 6 Abs. 1 HGB, d. h., alle Kapitalgesellschaften;\n4. Eingetragene Genossenschaften (§ 17 Abs. 2 GenG);\n5. Versicherungsunternehmen, die nicht kleinere Vereine sind (§53 Abs. 1 VAG).\n"]
[]
[null,"Die handelsrechtliche Buchführungspflicht trifft jedoch nur Kaufleute, deren Gewerbebetrieb nach Art und Umfang eine kaufmännische Einrichtung erfordert (§ 1 Abs. 2 HGB). Es handelt sich um einen unbestimmten Rechtsbegriff (= qualitative/quantitative Kriterien: Kontokorrentverkehr, Kaufmännische Betriebsführung, Vielzahl zu erbringender Leistungen, Vielzahl von Geschäftsverbindungen, Bilanzsumme, Umsatzerlöse, Zahl der Arbeitnehmer, Zahl der Betriebsstätten etc.).\nDurch das Bilanzrechtsmodernisierungsgesetz (BilMoG) wurde ab 2009/2010 ein neuer § 241a HGB mit eigenständigen handelsrechtlichen Grenzwerten eingeführt. Nach dieser Neuregelung brauchen Einzelkaufleute (nicht Personengesellschaften), \ndie in zwei aufeinanderfolgenden Geschäftsjahren\n"]
[]
[null,"1) 600.000 Euro Umsatzerlöse und\n2) 60.000 Euro Jahresüberschuss/Gewinn\n"]
[]
[null,"nicht überschreiten, die §§ 238 bis 241 HGB nicht anzuwenden. \n\nDie Buchführungspflicht (§ 238 HGB) und die Pflicht zur Inventur und zur Führung eines Inventars (§§ 239, 240 HGB) sowie die Inventurvereinfachungsverfahren (§ 241 HGB) entfallen somit dann.\n"]
[]
[null,"Die Regel ist zudem „nur“ eine rechtsformenspezifische Erleichterung; Kapitalgesellschaften sind hiervon nicht betroffen.\n\n"]
[]
[]
[{"$f":"A2+1","v":11}]
[]
[null,"4.2","Steuerrechtliche Buchführungspflicht"]
[]
[null,"Die steuerliche Buchführungspflicht unterscheidet nicht nach Tätigkeit oder der Rechtsform, sondern nach dem dabei erzielten Erfolg. Allerdings beschränkt sich auch die steuerrechtliche Buchführungspflicht auf Gewerbetreibende. Anders als das Handelsrecht unterscheidet das Steuerrecht aber zwischen „normalem“ Gewerbebetrieb und der Land- und Forstwirtschaft. Nach § 141 AO ist buchführungspflichtig, wer\n"]
[]
[null,"1. pro Jahr über 600.000 Euro Umsatz macht oder\n2. selbstgenutzte landwirtschaftliche Flächen im Wert von über 25.000 Euro (ab 2004) besitzt, festzustellen nach Bewertungsgesetz, oder\n3. pro Jahr 60.000 (50.000 Euro (2008 bis 2015) bzw. 30.000 Euro (2004 bis 2007)) Gewinn aus Gewerbebetrieb oder Land- und Fortwirtschaft erzielt.\n"]
[]
[null,"Bei der steuerlichen Buchführungspflicht wird ferner die abgeleitete von der originären Buchführungspflicht unterschieden. \nDie abgeleitete (derivative) Buchführungspflicht ergibt sich aus § 140 AO: Wer nach anderen als den Steuergesetzen Bücher und Aufzeichnungen zu führen hat, die für die Besteuerung von Bedeutung sind, hat die damit auferlegten Verpflichtungen auch im Interesse der Besteuerung zu erfüllen. Daneben beschreibt § 141 Abs. 1 AO eine originäre steuerliche Buchführungspflicht für gewerbliche Unternehmen (Gewerbebetriebe) sowie Land- und Forstwirte, die bestimmte Größenmerkmale erfüllen.\n"]
[]
[null,"4.3","Weitere Aufzeichnungspflichten"]
[]
[null,"Gesonderte steuerliche Aufzeichnungspflichten, die an sich keine eigentliche Buchführungspflicht sind, die aber von der Buchführung wahrgenommen werden, bestehen hinsichtlich Warenein- und -ausgang (Führung des Wareneingangsbuch und Warenausgangsbuch, §§ 143, 144 AO), aufgrund von umsatzsteuerlichen Tatbeständen (§ 22 UStG, §§ 63 ff. UStDV), zur Berücksichtigung bestimmter Betriebsausgaben bei der Gewinnermittlung, z. B. Geschenke, Bewirtungsaufwendungen (§ 4 Abs. 5 und Abs. 7 EStG), für Arbeitnehmerdaten auf dem Lohnkonto (§ 41 EStG, § 4 LStDV), für Anbauverzeichnisse bei Land- und Forstwirten (§ 142 AO).\n"]
[]
[null,"EXKURS: In einer Vielzahl außersteuerlicher Gesetze und Rechtsverordnungen sind Pflichten zur Führung bestimmter Bücher und Aufzeichnungen vorgesehen, die als sog. abgeleitete Aufzeichnungspflichten auch für die Besteuerung zu erfüllen sind.\n\nBeispielhaft können genannt werden: \n■ Altenheime, Altenwohn- und Pflegeheime (Aufzeichnungen nach dem HeimG), \n■ Apotheken (Herstellungs- und Prüfungsbücher), \n■ Handelsmakler (Tagebücher),\n■ Krankenhäuser( Bücher),\n■ Lohnsteuerhilfevereine (Aufzeichnungen über Einnahmen und Ausgaben), \n■ Spielbanken (Identifizierungs- und Aufzeichnungspflichten), \n■ Hersteller von Wein (Wein- und Analysebücher). "]

{"sheet":"Übung 1-4","index":5,"n_rows":12,"n_cols":3,"rows_kept":12,"cut":false,"hidden":false,"merged":[[3,1,3,51],[11,1,11,51],[4,1,4,51],[8,1,8,51],[9,1,9,51],[10,1,10,51]]}
[]
[null,"1 - 4","Übungsaufgaben: Grundlagen der Buchführung"]
[]
[null,"1. Nennen Sie die vier Bestandteile des kaufmännischen Rechnungswesens!\n2. Nennen Sie mindestens drei Aufgaben, die das kaufmännische Rechnungswesen erfüllen soll!\n3. Zählen Sie vier externe und vier interne Interessenten an den Daten der Buchführung auf!\n4. Nennen Sie zwei Fälle, in denen Gewohnheitsrecht für die Buchführungspraxis bedeutsam ist!\n5. In § 267 HGB sind großenspezifische Vorschriften gegeben; diese dienen der Staffelung der Offenlegungspflichten. Große Unternehmen müssen dabei mehr Daten offenlegen und dies schneller tun. Welchen Grund könnte diese Regelung haben?\n6. Nennen Sie jeweils vier Dokumentations- und vier Bilanzierungsgrundsätze!\n7. Welche Anforderungen stellen Sie an ein Datenbanksystem, das für die Buchhaltung verwendet werden\nsoll? Nennen Sie mindestens drei verschiedene Anforderungen an eine solche Software!\n8. Bitte bestimmen Sie, ob es sich in den folgenden Fällen um Kaufleute handelt. Begründen Sie Ihre\nAnsicht: 8.1 Arzt, 8.2 Zahntechniker, 8.3 Rechtsanwalt, 8.4 Dozent, der zugleich auch ein Buch vertreibt, 8.5 Hotelier, 8.6 Maschinenbaubetrieb (Rechtsform GmbH), 8.7 Handwerksbetrieb, 8.8 Landwirtschaftlicher Familienbetrieb\n"]
[null,"\n9. Sind die folgenden Personen bzw. Organisationen handelsrechtlich buchführungspflichtig? \nBitte begründen Sie Ihre Ansicht!\n9.1. Hotelier, 400 Zimmer, über 600.000 € Umsatz\n9.2. Arzt, Gewinn über 200.000 € pro Jahr\n9.3. Der bekannte Dozent, wenn er mit seinem Buch pro Monat knapp unter 2.000 € Gewinn erzielt und einen Umsatz von ca. 50.000 € pro Jahr erreicht, und seine Umsätze aus Lehrtätigkeit nochmal weitere 50.000 € pro Jahr betragen\n9.4. Der Handwerker, der einen Umsatz von 150.000 € pro Jahr und einen Gewinn von 24.000 € pro Jahr erzielt\n9.5. Der Handwerker aus der vorstehenden Aufgabe, wenn sein jährlicher Gewinn auf 80.000 € ansteigt\n9.6. Ein Landwirt, dessen Gewinn 20.000 € pro Jahr erreicht und dessen landwirtschaftliche Fläche 35.000 € wert ist\n9.7. Der Landwirt aus der vorstehenden Aufgabe, wenn sein Gewinn auf 60.000 € steigt"]
[]
[null,"1 - 4","Lösungen: Grundlagen der Buchführung"]
[]
[null,"1. Buchführung, Kosten- und Leistungsrechnung, Statistik (Betriebsstatistik), Planrechnung (Budgetierung)\n2. Dokumentation, Rechenschaftslegung, Information, Kontrolle, Disposition\n3. Externe: Banken, Finanzamt, Behörden, Kapitalanleger, Stellenbewerber, Kunden; \nInterne: Geschäftsführung, Controller, Revisoren, Mitarbeiter, Kapitaleigentümer\n4. Handelsbräuche nach § 346 HGB, Treu und Glauben nach §157 BGB, Buchungssätze mit „Soll“ und „Haben“,\nZahlreiche Grundsätze im Rechnungswesen, soweit diese nicht kodifiziert sind\n5. Großunternehmen sollen schärferen Vorschriften unterliegen, um die mit ihnen verbundenen Risiken\n(Arbeitsplätze, Kapitalmarkt) besser kontrollieren und damit minimieren zu können.\n6. Dokumentation: Übersichtlichkeit, Richtigkeit, Vollständigkeit, Ordnung des Belegwesens; \nBilanzierung: Klarheit, Wahrheit, Kontinuität, Vorsicht.\n"]
[null,"7. Es muß den GoB genügen, d. h. die buchungspflichtigen Geschäftsvorfälle müssen richtig, vollständig\nund zeitgerecht erfaßt sein sowie sich in ihrer Entstehung und Abwicklung verfolgen lassen (Beleg- und\nJournalfunktion), die Geschäftsvorfälle sind so zu verarbeiten, dass sie geordnet darstellbar sind und ein Überblick über die Vermögens- und Ertragslage gewährleistet ist (Kontenfunktion), die Buchungen müssen\neinzeln und geordnet nach Konten und diese fortgeschrieben nach Kontensummen oder Salden\nsowie nach Abschlussposition dargestellt und jederzeit lesbar gemacht werden können, ein sachverständiger\nDritter muss sich in dem jeweiligen Verfahren der Buchführung in angemessener Zeit zurechtfinden und\nsich einen Überblick über die Geschäftsvorfälle und die Lage des Unternehmens verschaffen können, das\nVerfahren der DV-Buchführung muss durch eine Verfahrensdokumentation, die sowohl die aktuellen als auch die historischen Verfahrensinhalte nachweist, verständlich und nachvollziehbar gemacht werden\nund es muss gewährleistet sein, dass das in der Dokumentation beschriebene Verfahren dem in der\nPraxis eingesetzten Programm (Version) voll entspricht (Programmidentität)."]
[null,"8. Prüfung der Kaufmannseigenschaft:\n8.1. kein Kaufmann, wegen Freiberuflichkeit\n8.2. Kaufmann, wegen Gewerblichkeit, ggfs. Kleinkaufmann - sonst Musskaufmann\n8.3. kein Kaufmann, wegen Freiberuflichkeit\n8.4. Kaufmann oder ggfs. Kleinkaufmann mit Vertrieb der Bücher, ansonsten kein Kaufmann wegen\nFreiberuflichkeit\n8.5. Kaufmann, wegen Gewerblichkeit, ggfs. Kleinkaufmann - sonst Musskaufmann\n8.6. Formkaufmann (wegen GmbH)\n8.7. Kaufmann, wegen Gewerblichkeit, ggfs. Kleinkaufmann - sonst Musskaufmann\n8.8. Kannkaufmann\n9. Buchführungspflicht:\n9.1. Ja, wegen Überschreitung der Umsatzgrenze\n9.2. Nein, wegen Nichtgewerblichkeit\n9.3. Nein, bei der Gewerbetätigkeit (Bücher) sind die Grenzwerte nicht überschritten und die Lehrtätigkeit\nist kein Gewerbe und daher nicht buchführungspflichtig\n9.4. Nein, Grenzwerte nicht überschritten\n9.5. Ja, Gewinngrenze überschritten\n"]
[null,"9.6. Ja, Wert der landwirtschaftlichen Flächen sind überschritten\n9.7. Ja, Gewinngrenze überschritten\n"]

{"sheet":"5","index":6,"n_rows":78,"n_cols":48,"rows_kept":78,"cut":false,"hidden":false,"merged":[[77,1,77,51],[64,1,64,51],[66,1,66,51],[68,1,68,51],[70,1,70,51],[74,1,74,51],[25,14,25,16],[21,1,21,13],[22,1,22,13],[23,1,23,13],[24,1,24,13],[25,1,25,13],[21,14,21,16],[22,14,22,16],[23,14,23,16],[24,14,24,16],[1,0,1,52],[7,1,7,51],[15,1,15,13],[19,1,19,13],[20,1,20,13],[15,14,15,16],[19,14,19,16],[20,14,20,16],[15,18,15,33],[16,18,16,33],[17,18,17,33],[11,1,11,51],[13,1,13,51],[60,0,60,52],[57,1,57,51],[55,1,55,51],[53,1,53,51],[41,0,41,52],[45,1,45,51],[47,1,47,51],[49,1,49,51],[32,19,32,32],[31,37,31,41],[33,39,33,45],[38,1,38,13],[27,35,27,50],[28,35,28,50],[29,35,29,50],[27,18,27,33],[28,18,28,33],[29,18,29,33],[34,19,34,32],[35,19,35,32],[36,19,36,32],[33,19,33,32],[31,19,31,32],[23,19,23,32],[24,19,24,32],[25,19,25,32],[19,19,19,32],[20,19,20,32],[21,19,21,32],[22,19,22,32]]}
[]
[{"$f":"'4'!A23:BA23+1","v":12}]
[]
[null,5,"Organisation der Buchführung"]
[]
[null,"5.1","Grund- und Hauptbuch"]
[]
[null,"Man unterscheidet zunächst in\n1. Grundbuch mit zeitlicher Aufzeichnung aller Geschäftsfälle in Form von Buchungssätzen und\n2. Hauptbuch mit sachlicher Ordnung aller Geschäftsfälle auf Konten.\n \nBei elektronischer Buchhaltung muss nur das Grundbuch durch den Buchhalter durch die Eingabe von Buchungssätzen geführt werden; die Konten des Hauptbuches werden automatisch vom Programm geführt.\n"]
[]
[null,"5.2","Nebenbuchhaltung (Nebenbücher)"]
[]
[null,"Ferner unterscheidet man\n1. die Nebenbuchhaltungen, die spezielle buchhalterische Tatbestände und Informationen verarbeiten, z. B. Löhne und Gehälter, Wechsel, Anlagen. Diese leistet Zuarbeiten, die in der\n2. Hauptbuchhaltung verarbeitet werden. Nur die Hauptbuchhaltung liefert dem Leser ein vollständiges Bild über die Geschäftsvorfälle und die Lage des Unternehmens.\n"]
[]
[null,"Die Belege für beide Bereiche der Buchhaltung sind geordnet gemäß den handels- und steuerrechtlichen Aufbewahrungsvorschriften aufzubewahren.\n"]
[]
[null,"Belege",null,null,null,null,null,null,null,null,null,null,null,null,null,null,null,null,"Nebenbücher"]
[null,null,null,null,null,null,null,null,null,null,null,null,null,null,null,null,null,null,"je nach Bedarf"]
[]
[]
[null,"Eingangsrechnungen",null,null,null,null,null,null,null,null,null,null,null,null,null,null,null,null,null,"Lohn-/Gehaltsbuch"]
[null,"Ausgangsrechnungen",null,null,null,null,null,null,null,null,null,null,null,null,null,null,null,null,null,"Kassenbuch"]
[null,"Bankkontoauszüge",null,null,null,null,null,null,null,null,null,null,null,null," =>",null,null,null,null,"Anlagenbuch/-gitter"]
[null,"Kassenbelege",null,null,null,null,null,null,null,null,null,null,null,null,null,null,null,null,null,"Kontokorrentbuch"]
[null,"Barquittungen",null,null,null,null,null,null,null,null,null,null,null,null,null,null,null,null,null,"Offene Posten Buch"]
[null,"etc.",null,null,null,null,null,null,null,null,null,null,null,null,null,null,null,null,null,"Debitorenbuch"]
[null,null,null,null,null,null,null,null,null,null,null,null,null,null,null,null,null,null,null,"Kreditorenbuch etc."]
[]
[null,null,null,null,null,null,null,null,null,null,null,null,null,null,null,null,null,null,"Grundbuch (Journal)",null,null,null,null,null,null,null,null,null,null,null,null,null,null,null,null,"Hauptbuch"]
[null,null,null,null,null,null,null,null,null,null,null,null,null,null,null,null,null,null,"Zeitliche Ordnung der",null,null,null,null,null,null,null,null,null,null,null,null,null,null,null,null,"sachliche Ordnung"]
[null,null,null,null,null,null,null,null,null,null,null,null,null,null,null,null,null,null,"Buchungsaufzeichnungen",null,null,null,null,null,null,null,null,null,null,null,null,null,null,null,null,"der Buchungen"]
[]
[null,null,null,null,null,null,null,null,null,null,null,null,null,null,null,null,null,null,null,"Eröffnungsbuchungen",null,null,null,null,null,null,null,null,null,null,null,null,null,null,null,null,null,"Bsp."]
[null,null,null,null,null,null,null,null,null,null,null,null,null,null,null,null,null,null,null,"laufende Buchungen"]
[null,null,null,null,null,null,null,null,null,null,null,null,null,null,null,null,null,null,null,"vorbereitenden",null,null,null,null,null,null,null,null,null,null,null,null,null,null,null,null,null,"A",null,"Maschinen",null,null,null,null,null,null,null,"P"]
[null,null,null,null,null,null,null,null,null,null,null,null,null,null,null,null,null,null,null,"Abschlussbuchungen"]
[null,null,null,null,null,null,null,null,null,null,null,null,null,null,null,null,null,null,null,"Jahresabschluss"]
[]
[]
[]
[]
[]
[{"$f":"A2+1","v":13}]
[]
[null,"5.3","Aufbewahrungspflichten"]
[]
[null,"Die Aufbewahrung war im Steuerrecht und im Handelsrecht übereinstimmend geregelt; durch die Neufassung des § 147 AO ergeben sich ab 2002 jedoch gravierende Änderungen. \nKaufleute sind gemäß § 257 HGB und § 147 AO zunächst zur Aufbewahrung folgender Unterlagen verpflichtet:\n"]
[]
[null,"1. Handelsbücher, Inventare, Eröffnungsbilanzen, Jahresabschlüsse, Lageberichte, Konzernabschlüsse, Konzernlageberichte sowie die zu ihrem Verständnis erforderlichen Arbeitsanweisungen und sonstigen Organisationsunterlagen,\n2. Empfangene Handels- oder Geschäftsbriefe,\n3. Wiedergaben der abgesandten Handels- oder Geschäftsbriefe,\n4. Buchungsbelege,\n5. sonstige Unterlagen, soweit sie für die Besteuerung von Bedeutung sind.\n"]
[]
[null,"Aufzubewahrende Unterlagen sind in systematisch und chronologisch (zeitlich) geordneter Weise bis zum Ende der Aufbewahrungsfrist so zu verwahren, dass sie „innerhalb angemessener Frist“ verfügbar sind. Ab 2002 müssen die aufzubewahrenden Aufzeichnungen während der Dauer der Aufbewahrungsfrist „jederzeit“, also nicht mehr innerhalb der „angemessenen Frist“ verfügbar sein und maschinell ausgewertet werden können (§ 147 Abs. 2 Nr. 2 AO). "]
[]
[null,"5.4","Aufbewahrungsfristen"]
[]
[null,"1. Einer 10jährigen Aufbewahrungsfrist unterliegen Handelsbücher bzw. Bücher und Aufzeichnungen, Inventare, Eröffnungsbilanzen, Jahres- und Konzernabschlüsse, Lageberichte und Konzernlageberichte, die zum Verständnis erforderlichen Arbeitsanweisungen und sonstige Organisationspapiere sowie ab 1999 auch die Belege.\n"]
[]
[null,"2. Einer 6jährigen Aufbewahrungsfrist unterliegen empfangene Handels- oder Geschäftsbriefe, die Wiedergabe der abgesandten Handels- oder Geschäftsbriefe, sonstige Unterlagen, soweit sie für die Besteuerung von Bedeutung sind, sowie bis 1998 die Belege.\n"]
[]
[null,"Die Aufbewahrungsfrist beginnt mit dem Schluss des Kalenderjahres, in dem die letzte Eintragung in das Handelsbuch bzw. Buch gemacht, das Inventar aufgestellt, die Eröffnungsbilanz oder der Jahresabschluß festgestellt, der Konzernabschluss aufgestellt, der Handels- oder Geschäftsbrief empfangen oder abgesandt, der Buchungsbeleg entstanden, die Aufzeichnung vorgenommen oder die sonstigen Unterlagen entstanden sind (§ 257 HGB, § 147 AO)."]
[]
[]
[{"$f":"A42+1","v":14}]
[]
[null,"5.5","Unterscheidung der Belege"]
[]
[null,"Allgemein kennt die Buchhaltung zwei Kategorien von Belegen:\nFremdbelege sind Belege, die von einem anderen Wirtschaftsteilnehmer erstellt wurden, und uns im Geschäftsverkehr zugegangen sind:"]
[]
[null,"* Eingangsrechnungen\n* Quittungen\n* Bank- und Postbelege\n* Erhaltene Wechsel und Schecks\n* Erhaltene Begleitbriefe zu Schecks und Wechseln\n* Erhaltene sonstige Handelsbriefe\n* Gutschriftenanzeigen von Lieferanten\n* Steuerbescheide\n* Strafbescheide\n"]
[]
[null,"Eigenbelege sind alle Belege, die wir im Wirtschaftsverkehr mit anderen selbst hergestellt haben"]
[]
[null,"* Ausgangsrechnungen\n* Quittungsdurchschriften\n* Kopien eigener Wechsel und Schecks\n* Kopien abgesandter Handelsbriefe\n* Gutschriftenanzeigen an Kunden\n* Entnahmebelege\n* Lohn- und Gehaltslisten\n* Belege über Storno, Umbuchungen und Buchungsfehler\n* Ergebnisverwendungebeleg\n"]
[]
[null,"5.6","Behandlung von Belegen nach den GoBs"]
[]
[null,"1. Vorbereitende Arbeiten\n1.1. Prüfung auf sachliche und rechnerische Richtigkeit\n1.2. Bestimmung des Buchungsbeleges und Zusammenführung von Doppelbelegen (Vermeidung\nvon Doppelbuchungen)\n1.3. Ordnen nach Belegarten (Belegkategorisierung)\n1.4. Fortlaufende und kategorienweise Nummerierung der Belege\n1.5. Vorkontierung der Belege\n2. Buchen der Belege\n2.1. Buchung in Nebenbuchhaltung, wenn erforderlich \n2.2. Buchung im Grundbuch\n2.3. Buchung im Hauptbuch (in EDV-Buchhaltung automatisch aus Journalbuchung)\n3. Ablage und Aufbewahren \nFristen: § 257 Abs. 4 HGB\n"]
[null,null,"Aktueller Hinweis:"]
[]
[null,"Verfahrensrecht | Verkürzung der Aufbewahrungsfrist und § 147 Absatz 3 AO (Bundesregierung): Die Bundesregierung hat sich zu der Frage geäußert, inwieweit § 147 Absatz 3 AO den Änderungen durch das Zweite Bürokratieentlastungsgesetz im Hinblick auf die Verkürzung der steuerlichen Aufbewahrungsfrist von Lieferscheinen entgegen steht, da diese auch Unterlagen mit Bedeutung für Steuern darstellen. Hierzu der Parlamentarische Staatssekretär Dr. Michael Meister: \nDurch das Zweite Bürokratieentlastungsgesetz wurden in § 147 Absatz 3 AO Neuregelungen zu Lieferscheinen, die keine Buchungsbelege nach § 147 Absatz 1 Nummer 4 Abgabenordnung sind, aufgenommen. Beim Empfang solcher Lieferscheine endet die Aufbewahrungsfrist mit dem Erhalt der Rechnung. Beim Versand solcher Lieferscheine, endet sie mit dem Versand der Rechnung. \n\nDamit müssen diejenigen Lieferscheine nicht mehr aufbewahrt werden, deren Inhalt eingangs- bzw. ausgangsseitig durch entsprechende Rechnungen nach § 14 Absatz 4 UStG dokumentiert ist. \n\n§ 147 Absatz 3 AO steht daher der Verkürzung der steuerlichen Aufbewahrungsfrist von Lieferscheinen nicht entgegen. \n\nQuelle: BT-Drucks. 18/12750, Antwort auf die Frage 23 des Abgeordneten Richard Pitterle (DIE LINKE.) (il)\n"]

{"sheet":"Übung 5","index":7,"n_rows":11,"n_cols":3,"rows_kept":11,"cut":false,"hidden":false,"merged":[[3,1,3,51],[4,1,4,51],[8,1,8,51],[9,1,9,51],[10,1,10,51]]}
[]
[null,"5","Übungsaufgaben: Belegwesen"]
[]
[null,"1. Welchen grundlegenden Zweck erfüllen die Nebenbuchhaltungen?\n2. Unterscheiden Sie das Grundbuch (auch Journal genannt) grundsätzlich vom Hauptbuch!\n3. In welchen Buchungskreis geben Sie Daten am Computer ein? Grundbuch oder Journal oder beide?\n4. Nennen Sie je drei Fremd- und je drei Eigenbelege!\n5. Ihr Buchhalter wird die Durchschriften der Ausgangsrechnungen in den Müll und behauptet, dass es\ngenüge, die Daten auf Datenträger zu speichern. Hierfür genüge insbesondere eine Datenbank mit Buchungssätzen. Hat er Recht?\n6. Könnte mit den Eingangsrechnungen ebenso verfahren werden?\n7. Wäre es zulässig, Belege per Mikrofilm zu speichern?\n8. Bis zu welchem Tag müssen die folgenden Belege aufbewahrt werden?\n8.1. Tankquittung vom 14.04.2003\n8.2. Kopie der Rechnung an Kunden vom 15.05.2003\n8.3. Jahresabschluss 2003, Stichtag 31.12.2003, aufgestellt am 13.02.2004\n8.4. Datei mit Hauptbuch 2001 (letzter Buchungssatz vom 31.12.2001)\n8.5. Software-Handbuch zu Buchführungssoftware, die im Frühjahr 2003 gekauft wurde\n8.6. Verfahrensanweisungen des Qualitätsmanagements für die Buchhaltung aus 2002\n"]
[null,"8.7. Steuerbescheid zur Gewerbesteuer 2002 mit Festsetzung einer Nachzahlung vom 10.07.2003\n8.8. Verbindliches Angebot eines Lieferanten vom 03.09.2003\n8.9. Zahlungserinnerung an Kunden vom 19.06.2003 ohne Festsetzung von Mahngebühren, Zinsen oder Kosten\n9. Bringen Sie die folgenden Schritte durch Sortieren in die richtige Reihenfolge:\n_  Nummerieren der Belege\n_  Buchung im Grundbuch\n_  Prüfung auf rechnerische+sachliche Richtigkeit\n_  Vorkontieren\n_  Buchung im Hauptbuch\n_  Einordnen in Belegablage + Aufbewahrung\n_  Zusammenführen von Doppelbelegen\n"]
[]
[null,"5","Lösungen: Belegwesen"]
[]
[null,"1. Daten bereitzustellen, die die Hauptbuchhaltung nicht enthält und auch nicht kennt, die aber zur Erstellung der Buchungen bedeutsam sind, etwa die vielen persönlichen Daten der Mitarbeiter, die für die Lohn- und Gehaltsabrechnung erforderlich sind.\n2. Im Grundbuch ist der Buchungsstoff zeitlich, im Hauptbuch sachlich geordnet. Das Grundbuch enthält Buchungssätze, das Hauptbuch die Konten.\n3. Nur im Grundbuch; die Konten des Hauptbuches werden automatisch vom System geführt.\n4. Fremdbelege: Eingangsrechnungen, Quittungen, Bank- und Postbelege, Erhaltene Wechsel und Schecks, Erhaltene Begleitbriefe zu Schecks und Wechseln, Erhaltene sonstige Handelsbriefe, Gutschriftenanzeigen von Lieferanten, Steuerbescheide, Strafbescheide; Eigenbelege: Ausgangsrechnungen, Quittungsdurchschriften, Kopien eigener Wechsel und Schecks,  Kopien abgesandter Handelsbriefe, Gutschriftenanzeigen an Kunden, Entnahmebelege, Lohn- und Gehaltslisten, Belege über Storno, Umbuchungen und Buchungsfehler, Ergebnisverwendungebeleg/-protokoll. \n5. Ja, aber nur, wenn die Inhalte der Datenbank „inhaltlich“ mit den weggeworfenen Originalbelegen übereinstimmen (§ 257 Abs. 3 Nr. 1 HGB).\n"]
[null,"6. Nein, weil hier eine bildliche Übereinstimmung erforderlich ist (§ 257 Abs. 3 Nr. 1 HGB). Es wäre jedoch ausreichend, wenn die Datenbank Scans der Belege enthält und diese als Bilder wiedergeben kann.\n7. Aus handelsrechtlicher Sicht ja; aus steuerrechtlicher Sicht nein, weil dies keine Auswertung durch die Finanzbehörden i.S.d. § 147 Abs. 6 AO zulässt.\n8. Aufbewahrungsfristen:\n8.1. 31.12.2013\n8.2. 31.12.2013\n8.3. 31.12.2013\n8.4. 31.12.2011\n8.5. 31.12.2013 (Organisationsunterlagen sind ebenfalls aufbewahrungspflichtig!); die Frist würde bei tatsächlich längerer Nutzung der Software ebenfalls länger sein, weil das Handbuch dann noch für die Besteuerung relevant wäre.\n8.6. 31.12.2012 (wie vorstehend; es bestünde aber gar keine Aufbewahrungspflicht, wenn die Verfahrensanweisungen nicht die Buchhaltung betreffen bzw. nicht steuerlich relevant wären)\n"]
[null,"8.7. 31.12.2013 (das Belegdatum zählt, nicht der Veranlagungszeitraum der Steuer!)\n8.8. 31.12.2009 (Angebote sind „Handelsbriefe“ im Sinne der §§ 257 HGB und 147 AO)\n8.9. 31.12.2009 (Die Mahnung ist ein „Handelsbrief“, solange aus ihr keine Buchungen resultieren; wären Zinsen, Gebühren oder Kosten festgesetzt worden, so wäre die Mahnung ein Buchungsbeleg und die Frist daher 10 Jahre, also bis zum 31.12.2013)\n9. Die richtige Reihenfolge ist:\n_  Prüfung auf rechnerische Richtigkeit\n_  Zusammenführen von Doppelbelegen\n_  Nummerieren der Belege\n_  Vorkontieren\n_  Buchung im Grundbuch\n_  Buchung im Hauptbuch\n_  Einordnen in Belegablage\n"]

{"sheet":"6","index":8,"n_rows":78,"n_cols":49,"rows_kept":78,"cut":false,"hidden":false,"merged":[[22,22,22,30],[22,31,22,34],[28,22,28,30],[28,31,28,34],[31,44,31,47],[28,44,28,47],[29,42,29,47],[30,0,30,8],[32,44,32,47],[32,22,32,30],[32,31,32,34],[39,31,39,34],[34,42,34,47],[75,1,75,51],[59,1,59,51],[61,1,61,51],[63,1,63,51],[65,1,65,51],[71,1,71,51],[73,1,73,51],[46,1,46,51],[48,1,48,51],[43,0,43,8],[43,22,43,30],[43,31,43,34],[43,44,43,47],[41,0,41,8],[41,22,41,30],[42,42,42,47],[41,44,41,47],[41,31,41,34],[40,48,40,51],[35,44,35,47],[36,22,36,30],[37,44,37,47],[35,31,35,34],[38,42,38,47],[36,44,36,47],[39,22,39,30],[40,0,40,28],[35,0,35,8],[35,22,35,30],[39,0,39,8],[40,42,40,47],[36,0,36,8],[39,44,39,47],[21,44,21,47],[24,42,24,47],[79,1,79,51],[30,31,30,34],[29,0,29,28],[29,48,29,51],[28,0,28,8],[42,48,42,51],[32,0,32,8],[30,44,30,47],[77,1,77,51],[22,44,22,47],[36,31,36,34],[30,22,30,30],[23,42,23,47],[21,9,21,17],[17,42,17,47],[15,22,15,30],[15,31,15,34],[18,42,18,47],[19,42,19,47],[20,42,20,47],[15,44,15,47],[1,0,1,52],[51,0,51,52],[67,0,67,52],[21,22,21,30],[7,1,7,51],[33,44,33,47],[55,1,55,51],[21,31,21,34],[16,44,16,47],[26,42,26,47],[27,42,27,47],[9,1,9,51],[11,1,11,51],[25,42,25,47]]}
[]
[{"$f":"'5'!A61:BA61+1","v":15}]
[]
[null,6,"Inventur und Inventar"]
[]
[null,"6.1","Das Inventar"]
[]
[null,"Unter einem Inventar versteht man eine detaillierte Zusammenstellung der am Bilanzstichtag im Jahresabschluss anzusetzenden Vermögensgegenstände und Schulden einer Unternehmung, und zwar nach Art, Menge und Wert. Der besondere Vorzug des Inventars gegenüber der Bilanz\nliegt in seinem bis ins einzelne gehenden Nachweis. Das Inventar folgt dabei der Staffelform und gliedert sich in\n"]
[]
[null,"1. Vermögenswerte,\n2. Schuldwerte sowie\n3. Reinvermögen"]
[]
[null,"Die Vermögenswerte (unterteilt in Anlage- und Umlaufvermögen) gliedert man nach ihrer zeitlichen Bindung bzw. steigenden Liquidierbarkeit (beginnend mit Immobilien, endend mit Kassenbestand), die Schulden nach Fälligkeit bzw. Dringlichkeit der Zahlung (beginnend mit langfristigen, endend mit kurzfristigen Schulden).\n"]
[]
["Beispiel für ein Inventar (vereinfacht):"]
[]
["A. Anlagevermögen"]
[null,"I. Sachanlagevermögen (Buchwerte)"]
[null,null,"1. Grundstück und Gebäude",null,null,null,null,null,null,null,null,null,null,null,null,null,null,null,null,null,null,null,null,null,null,null,null,null,null,null,null,null,null,null,null,null,null,null,null,null,null,null,100000]
[null,null,"2. Fuhrpark",null,null,null,null,null,null,null,null,null,null,null,null,null,null,null,null,null,null,null,null,null,null,null,null,null,null,null,null,null,null,null,null,null,null,null,null,null,null,null,5000]
[null,null,"3. Maschinen",null,null,null,null,null,null,null,null,null,null,null,null,null,null,null,null,null,null,null,null,null,null,null,null,null,null,null,null,null,null,null,null,null,null,null,null,null,null,null,20000]
[null,null,"4. Betriebs- und Geschäftsausstattung",null,null,null,null,null,null,null,null,null,null,null,null,null,null,null,null,null,null,null,null,null,null,null,null,null,null,null,null,null,null,null,null,null,null,null,null,null,null,null,10000]
[]
["B. Umlaufvermögen"]
[null,null,"1. Roh-, Hilfs- und Betriebsstoffe",null,null,null,null,null,null,null,null,null,null,null,null,null,null,null,null,null,null,null,null,null,null,null,null,null,null,null,null,null,null,null,null,null,null,null,null,null,null,null,24000]
[null,null,"2. Unfertige und fertige Erzeugnisse",null,null,null,null,null,null,null,null,null,null,null,null,null,null,null,null,null,null,null,null,null,null,null,null,null,null,null,null,null,null,null,null,null,null,null,null,null,null,null,6000]
[null,null,"3. Forderungen aus Lieferungen und Leistungen",null,null,null,null,null,null,null,null,null,null,null,null,null,null,null,null,null,null,null,null,null,null,null,null,null,null,null,null,null,null,null,null,null,null,null,null,null,null,null,7000]
[null,null,"4. Bank(guthaben)",null,null,null,null,null,null,null,null,null,null,null,null,null,null,null,null,null,null,null,null,null,null,null,null,null,null,null,null,null,null,null,null,null,null,null,null,null,null,null,2000]
[null,null,"5. Kasse",null,null,null,null,null,null,null,null,null,null,null,null,null,null,null,null,null,null,null,null,null,null,null,null,null,null,null,null,null,null,null,null,null,null,null,null,null,null,null,1000]
[]
["= Summe des Vermögens",null,null,null,null,null,null,null,null,null,null,null,null,null,null,null,null,null,null,null,null,null,null,null,null,null,null,null,null,null,null,null,null,null,null,null,null,null,null,null,null,null,null,null,null,null,null,null,{"$f":"SUM(AQ18:AV30)","v":175000}]
[]
["C: Schulden/Verbindlichkeiten  (Fremdkapital)"]
[]
[null,"I.  Langfristige Schulden"]
[null,null,"1. Darlehen bei Sparkasse",null,null,null,null,null,null,null,null,null,null,null,null,null,null,null,null,null,null,null,null,null,null,null,null,null,null,null,null,null,null,null,null,null,null,null,null,null,null,null,-60000]
[]
[]
[null,"II.  kurzfristige Schulden"]
[null,null,"1. Verbindlichkeiten aus Lieferungen u. Leistungen ",null,null,null,null,null,null,null,null,null,null,null,null,null,null,null,null,null,null,null,null,null,null,null,null,null,null,null,null,null,null,null,null,null,null,null,null,null,null,null,-20000]
[]
["= Summe der Schulden",null,null,null,null,null,null,null,null,null,null,null,null,null,null,null,null,null,null,null,null,null,null,null,null,null,null,null,null,null,null,null,null,null,null,null,null,null,null,null,null,null,null,null,null,null,null,null,{"$f":"SUM(AQ35:AV41)","v":-80000}]
[]
["Vermögen - Schulden = Eigenkapital bzw. Reinvermögen",null,null,null,null,null,null,null,null,null,null,null,null,null,null,null,null,null,null,null,null,null,null,null,null,null,null,null,null,null,null,null,null,null,null,null,null,null,null,null,null,null,null,null,null,null,null,null,{"$f":"SUM(AW30:AZ41)","v":95000}]
[]
[null,"6.2","Begriffsunterscheidung Inventar / Inventur"]
[]
[null,"Inventar (= Bestandsverzeichnis):\nausführliches Bestandsverzeichnis des Vermögens und der Schulden"]
[]
[null,"Inventur (= Bestandsaufnahme):\nArt-, mengen- und wertmäßige Bestandsaufname des Vermögens und der Schulden\n"]
[]
[]
[{"$f":"A2+1","v":16}]
[]
[null,"6.3","Die Inventur: grundlegende Definition"]
[]
[null,"Unter einer Inventur versteht man die tatsächliche Bestandsaufnahme des Vermögens und der Schulden zwecks Aufstellung des Inventars. Die Inventur ist bei Beginn oder Beendigung des Handelsgewerbes sowie bei Geschäftsjahresschluss durchzuführen (§ 240 Abs. 1 und 2 HGB) und muss sämtliche Vermögensgegenstände und Schulden umfassen. Normalfall ist die Stichtagsinventur, bei der zu einem Stichtag eine Gesamtaufnahme aller Vermögensgegenstände stattfindet. Diese muss zeitnah, regelmäßig binnen 10 Tagen vor und nach dem Bilanzstichtag (R 30 EStR), erfolgen. Zwischenzeitliche Bestandsveränderungen sind ordnungsgemäß aufzuzeichnen. Daneben sind als Inventurerleichterungen die permanente Inventur und die verlegte Inventur sowie die Stichprobeninventur zulässig.\n"]
[]
[null,"6.4","Bewertung und Bewertungsvereinfachung"]
[]
[null,"Grundsätzlich gilt stets der Grundsatz der Einzelbewertung (§ 252 Abs. 1 Nr. 3 HGB), der besagt, dass jeder Vermögensgegenstand und Schuldposten einzeln zu bewerten ist. Hierbei ist die Verkehrsfähigkeit zugrundezulegen, d. h., die selbständige Nutzbarkeit. Jede Schraube ist daher prinzipiell ein eigenständiger Vermögensgegenstand, der einzeln zu bewerten wäre. Dies ist in der Praxis kaum zu bewerkstelligen, so dass der Gesetzgeber drei wesentliche Arten von Erleichterungen vorgesehen hat:\n"]
[]
[null,"1. Vermögensgegenstände des Sachanlagevermögens sowie Roh-, Hilfs- und Betriebsstoffe können, wenn sie regelmäßig ersetzt werden und ihr Gesamtwert für das Unternehmen von nachrangiger Bedeutung ist, mit einer gleichbleibenden Menge und einem gleichbleibenden Wert angesetzt werden, sofern ihr Bestand in seiner Größe, seinem Wert und seiner Zusammensetzung nur geringen Veränderungen unterliegt (§ 240 Abs. 3 HGB). In diesem Fall ist dennoch alle drei Jahre eine körperliche Bestandsaufnahme erforderlich.\n"]
[]
[null,"2. Gleichartige Vermögensgegenstände des Vorratsvermögens sowie andere gleichartige oder annähernd gleichwertige bewegliche Vermögensgegenstände und Schulden können jeweils zu einer Gruppe zusammengefaßt und mit dem gewogenen Durchschnittswert angesetzt werden (§240 Abs. 4 HGB). Dieses Verfahren ist auch als Durchschnittsmethode bekannt.\n"]
[]
[null,"3. Soweit es den Grundsätzen ordnungsmäßiger Buchführung entspricht, d. h., soweit ein entsprechender belegmäßiger Nachweis geführt werden kann, darf für den Wertansatz gleichartiger Vermögensgegenstände des Vorratsvermögens unterstellt werden, dass die zuerst oder dass die zuletzt angeschafften oder hergestellten Vermögensgegenstände zuerst oder in einer sonstigen bestimmten Folge verbraucht oder veräußert worden sind. Dieses Verfahren ist auch als Verbrauchsfolgebewertung bekannt und umfaßt das FIFO-Verfahren und das LIFO-Verfahren."]
[]
[{"$f":"A52+1","v":17}]
[]
[null,"6.5","Besondere Arten der Inventur"]
[]
[null,"Da die Inventur eine große organisatorische Belastung darstellt, hat der Gesetzgeber nicht nur Bewertungserleichterungsvorschriften erlassen, sondern auch besondere Arten der Inventur ermöglicht, die die mit der vollständigen körperlichen Bestandsaufnahme verbundene Arbeitsbelastung verringern sollen.\n"]
[]
[null,"Permanente Inventur\nHierunter versteht man die Durchführung der Inventur über einen längeren Zeitraum oder ununterbrochen gemäß § 241 Abs. 2 HGB. Hier kann die Erfassung der einzelnen Bestände über das gesamte Geschäftsjahr verteilt werden (z. B. Bestandsaufnahme dann, wenn der jeweilige Bestand sehr niedrig ist). Sie setzt genaue Aufzeichnungen über Bestände, Zu- und Abgänge nach Tag, Art und Menge voraus, aus denen sich die Stichtagsbestände der einzelnen Wirtschaftsgüter ermitteln und bewerten lassen. Die permanente Inventur ist nur dann ordnungsgemäß, wenn gewährleistet ist, da jeder Inventurposten einmal im Jahr inventurmäßig erfasst wird; sie darf sich nicht nur auf Stichproben oder die Verprobung eines repräsentativen Querschnitts beschränken (vgl. R 30 EStR). Für Wirtschaftgüter, die besonders wertvoll sind oder unkontrollierbaren  Abgängen unterliegen, ist die permanente Inventur nicht zulässig (R 30 EStR).\n"]
[]
[null,"Verlegte Inventur\n§ 241 Abs. 3 HGB gestattet die Aufstellung eines besonderen Inventars auf einen Zeitpunkt innerhalb der letzten drei Monate vor oder der beiden ersten Monate nach dem Bilanzstichtag, dessen Inventarposten lediglich wertmäßig, nicht aber nach Art und Menge fortzuschreiben bzw. rückzurechnen sind.\nDieses besondere Inventar kann auch auf Grund einer permanenten Inventur erstellt werden. Die in dem besonderen Inventar erfaßten Vermögensgegenstände brauchen nicht im Inventar für den Schluss des Geschäftsjahres verzeichnet werden.\nDie zeitlich verlegte Inventur ist wie die permanente Inventur für Bestände, bei denen ins Gewicht fallende unkontrollierbare Abgänge eintreten, und für besonders wertvolle Wirtschaftsgüter nicht zugelassen (R 30 EStR).\n"]
[]
[null,"Stichprobeninventur\nBei der Aufstellung des Inventars darf der Bestand der Vermögensgegenstände nach Art, Menge und Wert auch mit Hilfe anerkannter mathematisch-statistischer Methoden auf Grund von Stichproben ermittelt werden (§ 241 Abs. 1 HGB). Der Aussagewert des auf diese Weise aufgestellten Inventars muß dem eines auf Grund einer körperlichen Bestandsaufnahme aufgestellten Inventars gleichkommen. Voraussetzung für die Anwendung dieser Methode ist, dass die Lagerpositionen durch Zufallsauswahl aus dem Lagerkollektiv in die Stichprobe gelangen. Das Verfahren muß den GoB entsprechen.\n"]

{"sheet":"Übung 6","index":9,"n_rows":9,"n_cols":3,"rows_kept":9,"cut":false,"hidden":false,"merged":[[3,1,3,51],[4,1,4,51],[7,1,7,51],[8,1,8,51]]}
[]
[null,"6","Übungsaufgaben: Inventur"]
[]
[null,"1. Ordnen Sie die folgenden Inventurobjekte dem Vermögen bzw. den Schulden zu:\n1.1. Forderung gegen Finanzamt aus Umsatzsteuer\n1.2. Verbindlichkeit gegenüber der Gemeinde/Stadt aus Gewerbesteuer\n1.3. Summe aller unbezahlten Rechnungen an Lieferanten beträgt ... Euro\n1.4. Hypothekendarlehen von der Bank\n1.5. Unbezahlte Produktionsmaschine\n1.6. Girokonto bei der Bank, hoch überzogen\n1.7. Girokonto bei einer anderen Bank, mit Guthabensaldo\n2. Ordnen Sie die folgenden Vermögensgegenstände dem Anlage- bzw. dem Umlaufvermögen zu:\n1.1. VW Golf, auf dem Hof eines Autohändlers zum Verkauf ausgestellt\n1.2. Wie vorstehend, jedoch als Dienstfahrzeug des Autohändlers verwendet\n1.3. Mietwagen einer Mietwagenfirma, zur Vermietung an Kunden\n1.4. Wertpapiere, zur Spekulation gehalten\n1.5. Wertpapiere, zur langfristigen Anlage von Geld\n1.6. Wertpapiere des Inhabers, für seine Altersvorsorge gehalten"]
[null,"3. Nennen Sie die Grenzen des Einzelwertprinzipes!\n4. Im Bereich des Materialwesens soll der Arbeitsaufwand durch die Inventur verringert werden. Wäre es zulässig, die Inventur der Hilfsstoffe ganz zu unterlassen? \n5. Welche Werte können sich im Unternehmen befinden, aber im Rahmen einer Inventur nicht erfaßt werden?\n"]
[null,"6","Lösungen: Inventur"]
[]
[null,"1. Zuordnung Vermögen/Schulden:\n1.1. Vermögen\n1.2. Schulden\n1.3. Schulden\n1.4. Schulden\n1.5. Vermögen (auch, wenn unbezahlt - die Verbindlichkeit wäre separat zu erfassen!)\n1.6. Schulden\n1.7. Vermögen\nHinweis: Das Bankkonto kann sowohl ein Aktiv- als auch ein Passivkonto sein kann!\n2. Zuordnen Anlage- und Umlaufvermögen:\n1.1. Umlaufvermögen\n1.2. Anlagevermögen\n1.3. Anlagevermögen\n"]
[null,"1.4. Umlaufvermögen\n1.5. Anlagevermögen\n1.6. Gar kein Vermögensgegenstand, weil nicht betrieblich und damit nicht Gegenstand der Inventur!\n3. Die Bewertungsvereinfachungsvorschriften sehen bei Roh-, Hilfs- und Betriebsstoffe, wenn sie regelmäßig ersetzt werden und ihr Gesamtwert für das Unternehmen von nachrangiger Bedeutung ist (§ 240 Abs. 3 Satz 1 HGB), die Durchschnitts- und die Verbrauchsfolgebewertung vor. Diese entschärfen gleichsam das bei einer großen Zahl von kleinen Einzelobjekten nicht unbeschränkt durchführbare Einzelwertprinzip.\n4. Ja, max. alle drei Jahre bei Gleichbewertung i.S.d. § 240 Abs. 3 Satz 2 HGB.\n5. Werte, die einem Bilanzierungsverbot unterliegen, wie z. B. § 248 Abs. 2 HGB; auch Werte, die durch frühere Buchungen der Wertminderung wie z.B. Abschreibung ausgebucht wurden, aber immernoch vorhanden sind.\n"]

{"sheet":"7","index":10,"n_rows":115,"n_cols":38,"rows_kept":115,"cut":false,"hidden":false,"merged":[[14,18,14,21],[14,22,14,30],[14,31,14,34],[43,1,43,51],[22,22,22,30],[22,31,22,34],[18,9,18,17],[24,31,24,34],[27,9,27,17],[24,18,24,21],[25,22,25,30],[25,31,25,34],[26,9,26,17],[26,18,26,21],[45,1,45,51],[48,8,48,35],[50,12,50,31],[51,9,51,17],[9,1,9,51],[51,18,51,21],[51,22,51,30],[51,31,51,34],[46,1,46,51],[27,18,27,21],[27,22,27,30],[23,22,23,30],[26,22,26,30],[26,31,26,34],[30,1,30,51],[21,9,21,17],[21,18,21,21],[21,22,21,30],[21,31,21,34],[19,31,19,34],[20,9,20,17],[20,18,20,21],[24,9,24,17],[14,9,14,17],[52,31,52,34],[53,18,53,21],[54,18,54,21],[54,22,54,30],[52,9,52,17],[52,18,52,21],[52,22,52,30],[53,9,53,17],[53,31,53,34],[60,9,60,17],[60,18,60,21],[60,22,60,30],[60,31,60,34],[56,9,56,17],[56,18,56,21],[56,22,56,30],[53,22,53,30],[56,31,56,34],[57,9,57,17],[57,18,57,21],[57,22,57,30],[57,31,57,34],[54,9,54,17],[54,31,54,34],[55,9,55,17],[55,18,55,21],[55,22,55,30],[55,31,55,34],[97,1,97,51],[100,1,100,51],[91,1,91,51],[93,1,93,51],[79,1,79,51],[81,1,81,51],[65,9,65,17],[65,18,65,21],[65,22,65,30],[65,31,65,34],[83,1,83,51],[85,1,85,51],[87,1,87,51],[89,1,89,51],[61,9,61,17],[61,18,61,21],[61,22,61,30],[61,31,61,34],[62,9,62,17],[62,18,62,21],[15,22,15,30],[15,31,15,34],[16,9,16,17],[16,18,16,21],[16,22,16,30],[16,31,16,34],[20,22,20,30],[20,31,20,34],[17,22,17,30],[18,31,18,34],[19,9,19,17],[58,18,58,21],[58,22,58,30],[58,31,58,34],[59,9,59,17],[59,18,59,21],[59,22,59,30],[59,31,59,34],[112,1,112,51],[108,1,108,51],[109,1,109,51],[114,1,114,51],[27,31,27,34],[42,1,42,51],[73,1,73,51],[75,1,75,51],[77,1,77,51],[31,1,31,51],[64,9,64,17],[64,18,64,21],[64,22,64,30],[64,31,64,34],[37,1,37,51],[102,1,102,51],[104,1,104,51],[62,22,62,30],[62,31,62,34],[63,9,63,17],[63,18,63,21],[63,22,63,30],[63,31,63,34],[58,9,58,17],[1,0,1,52],[40,0,40,52],[69,0,69,52],[95,0,95,52],[106,0,106,52],[111,1,111,51],[33,1,33,51],[35,1,35,51],[25,9,25,17],[25,18,25,21],[11,8,11,35],[24,22,24,30],[23,31,23,34],[18,18,18,21],[18,22,18,30],[17,31,17,34],[23,9,23,17],[23,18,23,21],[19,18,19,21],[19,22,19,30],[5,1,5,51],[13,12,13,31],[15,9,15,17],[15,18,15,21]]}
[]
[{"$f":"'6'!A68:BA68+1","v":18}]
[]
[null,7,"Inventar => Bilanz und GuV"]
[]
[null,"Dieser Abschnitt stellt dar, wie aus dem Inventar die Bilanz abgeleitet wird. Das ist grundlegend für die Diskussion der Buchungsmethodik, die sich anschließt. \n"]
[]
[null,"7.1","Bilanz"]
[]
[null,"Allgemein ist eine Bilanz eine Gegenüberstellung der Aktiva (Vermögensgegenstände) und Passiva (Kapitalpositionen) mit dem Ziel, als Restgröße (Nettovermögensgröße) das Eigenkapital zu ermitteln. Die Bilanz wird damit durch Zusammenfassung der Summen der Inventur gebildet:\n"]
[]
[null,null,null,null,null,null,null,null,"Bilanzschema"]
[]
[null,null,null,null,null,null,null,null,null,null,"Aktiva",null,"Bilanz 31.12.20XX",null,null,null,null,null,null,null,null,null,null,null,null,null,null,null,null,null,null,null,"Passiva"]
[null,null,null,null,null,null,null,null,null,"I. Anlagevermögen",null,null,null,null,null,null,null,null,null,null,null,null,"Eigenkapital"]
["zunehmende",null,null,null,null,null,null,null,null,null,null,null,null,null,null,null,null,null,null,null,null,null,null,null,null,null,null,null,null,null,null,null,null,null,null,null,null,"abnehmende"]
["Liquidität",null,null,null,null,null,null,null,null,null,null,null,null,null,null,null,null,null,null,null,null,null,null,null,null,null,null,null,null,null,null,null,null,null,null,null,null,"Fristigkeit"]
[null,null,null,null,null,null,null,null,null,"langfristige Nutzungsabsicht"]
["Mittel-",null,null,null,null,null,null,null,null,null,null,null,null,null,null,null,null,null,null,null,null,null,null,null,null,null,null,null,null,null,null,null,null,null,null,null,null,"Mittel-"]
["verwendung",null,null,null,null,null,null,null,null,null,null,null,null,null,null,null,null,null,null,null,null,null,null,null,null,null,null,null,null,null,null,null,null,null,null,null,null,"herkunft"]
[null,null,null,null,null,null,null,null,null,"II. Umlaufvermögen",null,null,null,null,null,null,null,null,null,null,null,null,"Fremdkapital"]
[]
[null,null,null,null,null,null,null,null,null,"kurzfristige Nutzungsabsicht",null,null,null,null,null,null,null,null,null,null,null,null,"Schulden"]
[null,null,null,null,null,null,null,null,null,null,null,null,null,null,null,null,null,null,null,null,null,null,"Verbindlichkeiten"]
[]
[null,null,null,null,null,null,null,null,null,"Aktive Rechnungsabgrenzung",null,null,null,null,null,null,null,null,null,null,null,null,"Passive Rechnungsabgrenzung"]
[]
[null,null,null,null,null,null,null,null,null,null,null,null,null,null,null,null,null,null,"Summe X",null,null,null,null,null,null,null,null,null,null,null,null,"Summe X"]
[]
[]
[null,"Während im Inventar jedoch Einzelwerte aufgeführt sind, also Tausende von Einzelpositionen zu finden sind, werden in die Bilanz nur die Summen übertragen. Die Bilanz ist damit eine gedrängte Gegenüberstellung von Vermögen und Kapital der Unternehmung. Sie gründet sich auf das Inventar, also das Verzeichnis der Vermögensgegenstände und Schulden, liefert aber durch Kurzfassung der Ergebnisse der Inventur eine wesentlich übersichtlichere Gesamtdarstellung. Der Vorzug der Bilanz gegenüber dem Inventar besteht daher in ihrer Knappheit und Klarheit, da sie die vielen Einzelposten des Inventars in Gruppen zusammenfaßt.\n"]
[null,"Man kann eine Bilanz gut als Waage visualisieren. Tatsächlich kommt das Wort von ital. Bilancia, Balkenwaage. Das Bild stellt dar, dass die Bilanz stets ausgewogen sein muss, d. h., die Vermögensgegenstände müssen den Schulden und dem Eigenkapital entsprechen. Die Buchführung legt also stets doppelt Rechenschaft ab: einmal auf der Aktiv- und einmal auf der Passivseite. Man spricht in diesem Zusammenhang auch von der sogenannten doppelten Buchführung. Das Prinzip der doppelten Rechnungslegung ist kurz auch als Doppik bekannt.\n"]
[]
[null,"Die Aktivseite legt Rechenschaft ab über das Vermögen. Sie enthält Informationen über die Mittelverwendung, d. h., die Investition. Die Passivseite enthält Daten über die Mittelherkunft, d. h., das Kapital, also die Finanzierung.\n"]
[]
[null,"Die Aktivseite wird von § 247 Abs. 2 HGB in die Positionen „Anlagevermögen“ und „Umlaufvermögen“ unterteilt. Dabei entscheidet alleine die Nutzungsabsicht, und nicht das tatsächliche Verhalten: eine Ware, die eigenbetrieblich genutzt wird, geht in das Anlagevermögen über, während eine mit Verkaufsabsicht gehaltene Ware im Umlaufvermögen bleibt, selbst dann, wenn sie sich de facto nicht kurzfristig (sondern nur überhaupt irgendwann) verkaufen läßt.\n"]
[]
[null,"Das Eigenkapital ist das Kapital im Eigentum der Gesellschafter, also ohne Rückzahlungsfrist, während Fremdkapital Finanzierungsmittel sind, die einem externen Kapitalgeber zurückzuzahlen sind.\nDie Rechnungsabgrenzungsposten enthalten vorausgezahlte Aufwendungen oder vorauserhaltene Erlöse.\nAktiv- und Passivseite, d. h., Investition und Finanzierung, müssen einander stets entsprechen. Die Summe der verfügbaren Mittel (Passiva) muß der Summe der verfügten Mittel (Investition) entsprechen. Man sagt, die Bilanz müsse ausgewogen sein. Unterschiede in der Summe der Aktiva und Passiva deuten immer auf Fehler, z. B. auf Vermögensgegenstände, die in der Inventur vergessen worden sind. \n"]
[]
[]
[{"$f":"A2+1","v":19}]
[]
[null,"Die doppelte Rechenschaftslegung in der Bilanz setzt sich im gesamten System der Buchführung fort. Über jeden Euro wird zwei Mal Rechenschaft gelegt: wo er hergekommen ist (Finanzierung) und wo er hingekommen ist (Investition). Man spricht daher auch von der doppelten Buchführung.\n"]
[null,"Beispiel einer Bilanz"]
[]
[null,"Nachfolgend betrachten wir als Beispiel die Bilanz einer kleinen Kommanditgesellschaft (keine GmbH & Co. KG): Das Unternehmen ist ein Buchgeschäft in einer Einkaufszone. Die §§ 265 ff. HGB sind für Personengesellschaften nicht anwendbar, so dass das Anlage- und das Umlaufvermögen, Eigenkapital, Schulden und Rechnungsabgrenzungsposten nur „gesondert ausgewiesen und hinreichend aufgegliedert“ (§ 247 Abs. 1 HGB) sein müssen. Zur dieser hinreichenden Aufgliederung gehört die Trennung der verschiedenen Arten von Anlage- und Umlaufvermögen sowie die Aufstellung über die Einlagen der beteiligten Gesellschafter.\n"]
[null,"Es hätte in diesem Fall gereicht, die Kommanditisten gemeinsam in einer Position „Kommanditkapital“ auszuweisen. Aus Gründen des besseren Verständnisses wurde die Position jedoch separat dargestellt. Der Warenbestand umfaßt das Lager und den Warenbestand im Verkaufsbereich. Die sonstigen Forderungen enthalten u. a. auch die antizipativen Rechnungsabgrenzungsposten; in den sonstigen Verbindlichkeiten sind außer diesen auch die Umsatzsteuer-, Lohnsteuer- und Sozialversicherungs-verbindlichkeiten enthalten. In dieser Bilanz (wie auch in allen folgenden) sind die Unterschriften der persönlich haftenden Gesellschafter § 245 HGB) bzw. der entsprechenden Rechtsvertreter aus Vereinfachungsgründen weggelassen worden.\n"]
[]
[]
[null,null,null,null,null,null,null,null,null,null,null,null,null,null,null,null,null,null,"Max & Moritz KG, Pforzheim"]
[null,null,null,null,null,null,null,null,null,null,"Aktiva",null,"Bilanz 31.12.20XX",null,null,null,null,null,null,null,null,null,null,null,null,null,null,null,null,null,null,null,"Passiva"]
[null,null,null,null,null,null,null,null,null,"Anlagevermögen",null,null,null,null,null,null,null,null,null,null,null,null,"Eigenkapital"]
[null,null,null,null,null,null,null,null,null,"Maschinen und Anlagen",null,null,null,null,null,null,null,null,13300,null,null,null,"Komplementar X",null,null,null,null,null,null,null,null,25000]
["zunehmende",null,null,null,null,null,null,null,null,"Fahrzeuge/Fuhrpark",null,null,null,null,null,null,null,null,40000,null,null,null,null,null,null,null,null,null,null,null,null,null,null,null,null,null,null,"abnehmende"]
["Liquidität",null,null,null,null,null,null,null,null,"Betriebs- und",null,null,null,null,null,null,null,null,null,null,null,null,"Kommanditist Y",null,null,null,null,null,null,null,null,10000,null,null,null,null,null,"Fristigkeit"]
[null,null,null,null,null,null,null,null,null,"Geschäftsausstattung",null,null,null,null,null,null,null,null,35800,null,null,null,"Kommanditist Z",null,null,null,null,null,null,null,null,10000]
["Mittel-",null,null,null,null,null,null,null,null,null,null,null,null,null,null,null,null,null,null,null,null,null,null,null,null,null,null,null,null,null,null,null,null,null,null,null,null,"Mittel-"]
["verwendung",null,null,null,null,null,null,null,null,null,null,null,null,null,null,null,null,null,null,null,null,null,null,null,null,null,null,null,null,null,null,null,null,null,null,null,null,"herkunft"]
[null,null,null,null,null,null,null,null,null,"Umlaufvermögen",null,null,null,null,null,null,null,null,null,null,null,null,"Fremdkapital"]
[null,null,null,null,null,null,null,null,null,"Warenbestand",null,null,null,null,null,null,null,null,340500,null,null,null,"Verbindlichkeiten (Kreditinstitute)",null,null,null,null,null,null,null,null,240000]
[null,null,null,null,null,null,null,null,null,"Forderungen aus Lieferungen",null,null,null,null,null,null,null,null,125000,null,null,null,"Verbindlichkeiten Lieferungen",null,null,null,null,null,null,null,null,290000]
[null,null,null,null,null,null,null,null,null,"Sonstige Forderungen",null,null,null,null,null,null,null,null,29000,null,null,null,"sonstige Verbindlichkeiten",null,null,null,null,null,null,null,null,80000]
[null,null,null,null,null,null,null,null,null,"Schecks, Kasse, Bank",null,null,null,null,null,null,null,null,70000]
[null,null,null,null,null,null,null,null,null,"Aktive Rechnungsabgrenzung",null,null,null,null,null,null,null,null,1800,null,null,null,"Passive Rechnungsabgrenzung",null,null,null,null,null,null,null,null,400]
[]
[null,null,null,null,null,null,null,null,null,null,null,null,null,null,null,null,null,null,{"$f":"SUM(S53:V64)","v":655400},null,null,null,null,null,null,null,null,null,null,null,null,{"$f":"SUM(AF53:AI64)","v":655400}]
[]
[]
[]
[{"$f":"A41+1","v":20}]
[]
[null,"7.2","Bilanz und GuV"]
[]
[null,"In der Bilanz wird Rechenschaft über die Mittelherkunft, also die Finanzierung (das Kapital), und über die Mittelverwendung, also die Investition (das Vermögen) gelegt. Die Bilanz ist darum eine Beständerechnung, denn Vermögen und Kapital zeichnen sich durch eine gewisse Dauer aus. Sie sind Bestandsgrößen (Bestandskonten). Sie können daher im Rahmen der Inventur durch Zählen, Wiegen, Nachrechnen und ähnliche Arbeiten festgestellt werden. Es gibt aber auch Phänomene, die durch eine einzelne Inventur nicht zu erfassen sind:\n"]
[]
[null," - An Mitarbeiter werden Löhne gezahlt,\n - der Wert der Anlagen wird durch Abschreibung oder durch Beschädigung gemindert und\n - die Bank bucht Darlehenszinsen ab.\n"]
[]
[null,"Diese Vorgänge heißen Aufwendungen. Durch Aufwendungen werden Aktiva gemindert, also Vermögensgegenstände verbraucht:\n"]
[]
[null,"- der Wert von Anlagen sinkt durch Abschreibung,\n- durch die Auszahlung von Gehältern und Beiträgen zur Zwangsversicherung oder durch die Abbuchungen der Bank wird der Bestand an Bargeld gemindert.\n"]
[]
[null,"Diese Phänomene ließen sich aber erfassen, indem man die Ergebnisse zweier Inventuren nacheinander vergleicht. Dadurch würden die Wertminderungen offenbar. Das ist aber eine sehr ungenaue Methode. Also richtet man für jede Art von Aufwendung (Verbrauch) ein eigenes Konto ein. Diese Konten heißen Aufwandskonten. Wichtige Beispiele sind:\n"]
[]
[null,"- Materialaufwendungen,\n- Personalaufwendungen,\n- Abschreibungsaufwendungen,\n- Bestandsminderungen in Zwischen- und Ausgangslagern,\n- Büroaufwendungen,\n- Energieaufwendungen,\n- Zinsaufwendungen\n"]
[]
[null,"In der Praxis werden zur Vereinfachung hierbei viele Fehler gemacht. Dies gilt besonders für den Handel. Dort werden die Einkäufe von Waren oft sofort als Aufwand/Warenverbrauch gebucht obwohl die Ware noch im Warenbestand ist.\n"]
[]
[null,"- der Einkauf von Waren (oder anderen Materialarten, z. B. in der Industrie) ist ein ausschließlich bilanzieller Vorgang. Die eingekauften Bedarfsgegenstände sind in der Bilanz bei den Aktiva aufzuführen, denn sie werden ins Lager verbracht (= Lagerbestand). Sie sind Vermögensgegenstände.\n- Erst bei Entnahme der Bedarfsgegenstände aus dem Lager entsteht ein Aufwand. Dieser Aufwand ist ein Waren- oder Materialeinsatz. Der Buchungsbeleg ist in der Industrie ein Materialentnahmeschein und im Handel wird die Warenentnahme durch den Kunden mit der Scannerkasse erfasst.\n"]
[]
[null,"Neben den Aufwendungen gibt es noch ein zweites Phänomen, das nicht in der Bilanz zu erfassen ist:"]
[]
[null,"- An Kunden werden Produkte oder Waren verkauft,\n- an Kunden werden Dienstleistungen erbracht oder\n- der Bestand an Produkten in Zwischenlagern steigt.\n"]
[]
[null,"Diese Vorgänge heißen Erträge. Durch Erträge werden Bestände gemehrt:\n\n- das Lager wird größer oder\n- die Forderungen oder der Bestand an Geld steigt.\n"]
[]
[{"$f":"A70+1","v":21}]
[]
[null,"Erträge und Aufwendungen können gleichzeitig entstehen, müssen aber aufgrund des Einzelwertgrundsatzes (§ 252 Abs. 1 Nr. 3 HGB) und des Verrechnungsverbotes (§ 246 Abs. 2 Satz 1 HGB) jeweils separat ausgewiesen und gebucht werden. Den Aufwand (Warenentnahme durch den Kunden) mit dem Ertrag (Verkauf an den Kunden) zu verrechnen ist verboten, obwohl diese beiden Vorgänge in sachlichem Zusammenhang zueinander stehen, also unmittelbar gleichzeitig erfolgen.\n"]
[]
[]
[null,"Wichtige Beispiele für Erträge sind:\n- Verkäufe an Kunden (Hauptgeschäft),\n- Nebengeschäfte (z. B. Vermietung leerstehender Gebäude),\n- Verkäufe an Gesellschafter (Entnahmen),\n- Zinserträge aus vergebenen Darlehen,\n- Erträge aus Währungsumrechnung (Fremdwährung steigt und wir haben eine Forderung in dieser Fremdwährung),\n- Erträge aus Wertaufholung (§ 253 Abs. 5 HGB),\n- Mehrung in Zwischenlagern (Unfertige Erzeugnisse) und Ausgangslagern (Fertige Erzeugnisse)\n"]
[]
[null,"Der Bestandteil des Jahresabschlusses, in dem die Aufwendungen und Erträge auszuweisen sind, ist die Gewinn- und Verlustrechnung (GuV). Der Saldo der Gewinn- und Verlustrechnung verändert das Eigenkapitalkonto, denn Aufwendungen sind Minderungen und Erträge sind Mehrungen von Vermögensgegenständen. Das führt zu einer entsprechenden Veränderung des Eigenkapitals, denn die Bilanz muss ja stets ausgewogen sein.\n"]
[]
[null,"Die Gewinn- und Verlustrechnung ist eine Zeitraumrechnung. Sie wird jeweils für den Zeitraum zwischen\nzwei Bilanzstichtagen aufgestellt. Die allgemeine Form der Gewinn- und Verlustrechnung ist:\n\nErträge\n– Aufwendungen\n= Jahresergebnis\n\nIst das Jahresergebnis ein Gewinn, so nennt man es auch Jahresüberschuss. Ist das Jahresergebnis ein Verlust, so heißt es Jahresfehlbetrag. Dies ist eine Gewinndefinition von vielen möglichen Varianten. Man sollte daher nie von „Gewinn“ oder „Verlust“ reden; dies sind umgangssprachliche Termini und keine Fachbegriffe.\n"]
[]
[{"$f":"A96+1","v":22}]
[]
[null,"Gliederung nach § 275 HGB (Kapitalgesellschaften und Personengesellschaften & Co):   \nDie Gewinn- und Verlustrechnung ist in Staffelform nach dem Gesamtkostenverfahren oder dem Umsatzkostenverfahren aufzustellen.   Dabei sind die bezeichneten Posten in der angegebenen Reihenfolge gesondert auszuweisen. Bei Anwendung des Gesamtkostenverfahrens sind auszuweisen:\n1. Umsatzerlöse \n2. Erhöhung oder Verminderung des Bestands an fertigen und unfertigen Erzeugnissen \n3. andere aktivierte Eigenleistungen \n4. sonstige betriebliche Erträge \n5. Materialaufwand: \n a) Aufwendungen für Roh-, Hilfs- und Betriebsstoffe und für bezogene Waren \n b) Aufwendungen für bezogene Leistungen \n6. Personalaufwand: \n a) Löhne und Gehälter \n b) soziale Abgaben und Aufwendungen für Altersversorgung und für Unterstützung, \n  davon für Altersversorgung "]
[null,"7. Abschreibungen: \n a) auf immaterielle Vermögensgegenstände des Anlagevermögens und Sachanlagen \n b) auf Vermögensgegenstände des Umlaufvermögens, soweit diese die in der Kapitalgesellschaft üblichen Abschreibungen überschreiten \n8. sonstige betriebliche Aufwendungen \n9. Erträge aus Beteiligungen, \n davon aus verbundenen Unternehmen \n10. Erträge aus anderen Wertpapieren und Ausleihungen des Finanzanlagevermögens, \n davon aus verbundenen Unternehmen \n11. sonstige Zinsen und ähnliche Erträge, \n davon aus verbundenen Unternehmen \n12. Abschreibungen auf Finanzanlagen und auf Wertpapiere des Umlaufvermögens \n13. Zinsen und ähnliche Aufwendungen, \n davon an verbundene Unternehmen \n14. Steuern vom Einkommen und vom Ertrag \n15. Ergebnis nach Steuern \n16. sonstige Steuern \n17. Jahresüberschuss/Jahresfehlbetrag. "]
[]
[null,"- „Sonstige betriebliche Erträge“ sind ein Nebengeschäft\n- Die Bestandsminderung ist eine Aufwendung. Sie wird daher subtrahiert. „FE“ sind Fertigerzeugnisse\nund „UFE“ sind Unfertigerzeugnisse. Nur die Bestandsänderungen in Zwischen- und Ausgangslagern sind hier auszuweisen, nicht aber die in Eingangslagern: dort werden ja die Entnahmen schon als Aufwendungen gebucht, so dass keine Bestandsänderung mehr zu erfassen ist!\n- Die „Erträge aus Währungsumrechnung“ sind aufgrund § 256a HGB ausgewiesen und entstehen, wenn eine Forderung in Fremdwährung (nicht Euro) besteht, und der Kurs dieser Fremdwährung steigt.\n"]
[null,"- „Zinsaufwendungen“ sind natürlich nur die eigentlichen Zinszahlungen, die die Bank aufgrund eines\nDarlehens bucht. Die Rückzahlung des Darlehens selbst (die Tilgung) ist ein rein bilanzielles Phänomen\nund hat nichts in der GuV zu suchen, sondern ist erfolgsneutral zu buchen.\n"]
[]
[null,"Hinweis: Eine Personengesellschaft ist selbst nicht einkommensteuerpflichtig sondern jeweils ihre Gesellschafter. Die Einkommensteuer ist keine betriebliche Steuer und steht daher nicht in der GuV. \n"]

{"sheet":"Übung 7","index":11,"n_rows":161,"n_cols":49,"rows_kept":161,"cut":false,"hidden":false,"merged":[[110,1,110,51],[113,1,113,51],[109,1,109,51],[114,1,114,51],[67,1,67,51],[68,1,68,51],[71,1,71,51],[72,1,72,51],[108,1,108,51],[100,1,100,51],[119,1,119,51],[120,1,120,51],[121,1,121,51],[124,8,124,35],[126,12,126,31],[127,9,127,17],[127,18,127,21],[127,22,127,30],[127,31,127,34],[128,9,128,17],[128,18,128,21],[128,22,128,30],[128,31,128,34],[129,18,129,21],[129,22,129,30],[129,31,129,34],[131,9,131,17],[131,18,131,21],[131,22,131,30],[131,31,131,34],[130,9,130,17],[130,18,130,21],[130,22,130,30],[130,31,130,34],[132,9,132,17],[132,18,132,21],[132,22,132,30],[132,31,132,34],[133,9,133,17],[133,18,133,21],[133,22,133,30],[133,31,133,34],[134,9,134,17],[134,18,134,21],[134,22,134,30],[134,31,134,34],[135,9,135,17],[135,18,135,21],[135,22,135,30],[135,31,135,34],[136,9,136,17],[136,18,136,21],[136,22,136,30],[136,31,136,34],[137,9,137,17],[137,18,137,21],[137,22,137,30],[137,31,137,34],[138,9,138,17],[138,18,138,21],[138,22,138,30],[138,31,138,34],[145,1,145,51],[139,9,139,17],[139,18,139,21],[139,22,139,30],[139,31,139,34],[140,9,140,17],[140,18,140,21],[140,22,140,30],[140,31,140,34],[148,22,148,30],[148,31,148,34],[148,44,148,47],[157,22,157,30],[157,31,157,34],[150,42,150,47],[151,42,151,47],[149,42,149,47],[156,42,156,47],[155,42,155,47],[152,42,152,47],[153,42,153,47],[154,9,154,17],[154,22,154,30],[154,31,154,34],[154,42,154,47],[160,1,160,51],[157,0,157,8],[157,44,157,47],[158,0,158,28],[158,42,158,47],[158,48,158,51],[24,1,24,51],[26,1,26,51],[27,1,27,51],[30,8,30,35],[32,12,32,31],[33,9,33,17],[33,18,33,21],[33,22,33,30],[33,31,33,34],[37,22,37,30],[37,31,37,34],[34,22,34,30],[34,31,34,34],[35,18,35,21],[35,22,35,30],[35,31,35,34],[38,22,38,30],[38,31,38,34],[40,9,40,17],[40,18,40,21],[40,22,40,30],[40,31,40,34],[41,9,41,17],[41,18,41,21],[41,22,41,30],[41,31,41,34],[42,9,42,17],[42,18,42,21],[42,22,42,30],[42,31,42,34],[45,9,45,17],[45,18,45,21],[46,9,46,17],[46,18,46,21],[43,22,43,30],[43,31,43,34],[44,9,44,17],[44,18,44,21],[44,22,44,30],[44,31,44,34],[3,1,3,51],[5,8,5,35],[7,12,7,31],[8,9,8,17],[8,18,8,21],[8,22,8,30],[8,31,8,34],[9,9,9,17],[9,18,9,21],[9,22,9,30],[9,31,9,34],[10,9,10,17],[10,18,10,21],[10,22,10,30],[10,31,10,34],[11,22,11,30],[11,31,11,34],[12,9,12,17],[12,18,12,21],[12,22,12,30],[12,31,12,34],[13,9,13,17],[13,18,13,21],[13,22,13,30],[13,31,13,34],[14,9,14,17],[14,18,14,21],[14,22,14,30],[14,31,14,34],[15,9,15,17],[15,18,15,21],[15,22,15,30],[15,31,15,34],[16,22,16,30],[16,31,16,34],[17,9,17,17],[17,18,17,21],[17,22,17,30],[17,31,17,34],[18,9,18,17],[18,18,18,21],[18,22,18,30],[18,31,18,34],[19,9,19,17],[19,18,19,21],[19,22,19,30],[19,31,19,34],[20,9,20,17],[20,18,20,21],[20,22,20,30],[20,31,20,34],[103,1,103,51],[53,1,53,51],[55,1,55,51],[56,1,56,51],[21,9,21,17],[21,18,21,21],[21,22,21,30],[21,31,21,34],[47,9,47,17],[92,1,92,51],[91,1,91,51],[97,1,97,51],[99,1,99,51],[32,9,32,11],[45,22,45,34],[32,32,32,35],[47,18,47,21],[47,22,47,30],[47,31,47,34],[59,1,59,51],[60,1,60,51],[77,1,77,51],[81,1,81,51],[86,1,86,51],[89,1,89,51],[79,1,79,51],[83,1,83,51],[85,1,85,51],[65,1,65,51]]}
[]
[null,"7.1","Übungsaufgabe: Grundschema der Bilanz"]
[]
[null,"Betrachten Sie zunächst das allgemeine Grundschema der Bilanz:"]
[]
[null,null,null,null,null,null,null,null,"Bilanzschema"]
[]
[null,null,null,null,null,null,null,null,null,null,"Aktiva",null,"Bilanz 31.12.201X",null,null,null,null,null,null,null,null,null,null,null,null,null,null,null,null,null,null,null,"Passiva"]
[null,null,null,null,null,null,null,null,null,"Anlagevermögen",null,null,null,null,null,null,null,null,null,null,null,null,"Eigenkapital"]
["zunehmende",null,null,null,null,null,null,null,null,null,null,null,null,null,null,null,null,null,null,null,null,null,null,null,null,null,null,null,null,null,null,null,null,null,null,null,null,"abnehmende"]
["Liquidität",null,null,null,null,null,null,null,null,null,null,null,null,null,null,null,null,null,null,null,null,null,null,null,null,null,null,null,null,null,null,null,null,null,null,null,null,"Fristigkeit"]
[null,null,null,null,null,null,null,null,null,"langfristige Nutzungsabsicht"]
["Mittel-",null,null,null,null,null,null,null,null,null,null,null,null,null,null,null,null,null,null,null,null,null,null,null,null,null,null,null,null,null,null,null,null,null,null,null,null,"Mittel-"]
["verwendung",null,null,null,null,null,null,null,null,null,null,null,null,null,null,null,null,null,null,null,null,null,null,null,null,null,null,null,null,null,null,null,null,null,null,null,null,"herkunft"]
[null,null,null,null,null,null,null,null,null,"Umlaufvermögen",null,null,null,null,null,null,null,null,null,null,null,null,"Fremdkapital"]
[]
[null,null,null,null,null,null,null,null,null,"kurzfristige Nutzungsabsicht",null,null,null,null,null,null,null,null,null,null,null,null,"Schulden"]
[null,null,null,null,null,null,null,null,null,null,null,null,null,null,null,null,null,null,null,null,null,null,"Verbindlichkeiten"]
[]
[null,null,null,null,null,null,null,null,null,"Aktive Rechnungsabgrenzung",null,null,null,null,null,null,null,null,null,null,null,null,"Passive Rechnungsabgrenzung"]
[]
[null,null,null,null,null,null,null,null,null,null,null,null,null,null,null,null,null,null,"Summe X",null,null,null,null,null,null,null,null,null,null,null,null,"Summe X"]
[]
[]
[null,"In Ihrer Buchführung finden Sie die folgenden Konten, die hier leider völlig ungeordnet herumstehen:\n\n„Grundstücke und Gebäude“, „Sozialversicherungsschulden“„Langfristige Darlehensschuld Voba 123456“, „Wechselschulden“, „Maschinen“, „Betriebs- und Geschäftsausstattung“, „Steuerschulden“, „Ausgereichte (gewährte) Darlehen an Verbundunternehmen“, „Eigenkapital Vollhafter“, „Kapital Stiller Gesellschafter“, „Forderungen gegen Kunden aus Lieferungen“, „Girokonto mit Guthaben“, „Kasse“, „Beteiligungen an anderen Unternehmen“, „Eigenkapital Teilhafter“, „Verbindlichkeiten bei Lieferanten“, „Materiallager“, „Überzogenes Girokonto“\n\n"]
[]
[null,"Ordnen Sie diese Konten der jeweils richtigen Seite im Bilanzschema zu. Beginnen Sie beim Vermögen mit dem Anlagevermögen und beim Kapital mit den Eigentümerrechten, d.h. ordnen Sie die Aktiva nach Liquidität und die Passiva nach Fristigkeit:\n"]
[]
[null,"7.1","Lösung: Grundschema der Bilanz"]
[]
[]
[]
[null,null,null,null,null,null,null,null,null,"Aktiva",null,null,"Bilanz 31.12.201X",null,null,null,null,null,null,null,null,null,null,null,null,null,null,null,null,null,null,null,"Passiva"]
[null,null,null,null,null,null,null,null,null,"Anlagevermögen",null,null,null,null,null,null,null,null,null,null,null,null,"Eigenkapital"]
[null,null,null,null,null,null,null,null,null,"Grundstücke und Gebäude",null,null,null,null,null,null,null,null,null,null,null,null," Eigenkapital Vollhafter"]
["zunehmende",null,null,null,null,null,null,null,null,"Maschinen",null,null,null,null,null,null,null,null,null,null,null,null," Eigenkapital Teilhafter",null,null,null,null,null,null,null,null,null,null,null,null,null,null,"abnehmende"]
["Liquidität",null,null,null,null,null,null,null,null,"Betriebs- und Geschäftsausst.",null,null,null,null,null,null,null,null,null,null,null,null," Kapital stiller Gesellschafter",null,null,null,null,null,null,null,null,null,null,null,null,null,null,"Fristigkeit"]
["Mittel-",null,null,null,null,null,null,null,null,"Beteiligungen an anderen UN",null,null,null,null,null,null,null,null,null,null,null,null,null,null,null,null,null,null,null,null,null,null,null,null,null,null,null,"Mittel-"]
["verwendung",null,null,null,null,null,null,null,null,"Ausleihungen an Verbund-UN",null,null,null,null,null,null,null,null,null,null,null,null,null,null,null,null,null,null,null,null,null,null,null,null,null,null,null,"herkunft"]
[]
[null,null,null,null,null,null,null,null,null,"Umlaufvermögen",null,null,null,null,null,null,null,null,null,null,null,null,"Fremdkapital"]
[null,null,null,null,null,null,null,null,null,"Vorräte (Materiallager)",null,null,null,null,null,null,null,null,null,null,null,null,"Darlehen Voba 123456"]
[null,null,null,null,null,null,null,null,null,"Forderungen aus LuL",null,null,null,null,null,null,null,null,null,null,null,null,"Wechselschulden"]
[null,null,null,null,null,null,null,null,null,"Girokonto mit Guthaben",null,null,null,null,null,null,null,null,null,null,null,null,"Verbindlichkeiten LuL"]
[null,null,null,null,null,null,null,null,null,"Kasse",null,null,null,null,null,null,null,null,null,null,null,null,"Steuerschulden"]
[null,null,null,null,null,null,null,null,null,null,null,null,null,null,null,null,null,null,null,null,null,null,"überzogenes Girokonto"]
[null,null,null,null,null,null,null,null,null,null,null,null,null,null,null,null,null,null,null,null,null,null,"Sozialversicherungschulden"]
[null,null,null,null,null,null,null,null,null,null,null,null,null,null,null,null,null,null,{"$f":"SUM(S35:V46)","v":0},null,null,null,null,null,null,null,null,null,null,null,null,{"$f":"SUM(AF35:AI46)","v":0}]
[]
[]
[null,"7.2","Übungsaufgabe: Doppelte Buchführung - Bilanzkonten"]
[]
[]
[null,"Bitte ermitteln Sie für die nachstehenden Geschäftsvorfälle, um welchen Buchungstyp (Aktivtausch, Passivtausch, Bilanzverlängerung, Bilanzverkürzung) es sich im Bezugssystem der Bilanz handelt. Ordnen Sie alle Geschäftsfälle einem der vier genannten elementaren Buchungsfälle zu. Sind mehrere Alternativen genannt, so nennen Sie alle möglichen Alternativen. In dieser Übung wird die Umsatzsteuer aus Vereinfachung nicht betrachtet.\n"]
[]
[null,"1. Kauf eines Geschäftsfahrrades gegen bar\n2. Kauf von Waren gegen Barzahlung\n3. Kauf eines Bürocomputers „auf Ziel“ (d.h. auf Rechnung)\n4. Barzahlung der Rechnung aus der vorstehenden Aufgabe\n5. Kauf eines Computers gegen Überweisung\n6. Banküberweisung an einen Lieferer\n7. Ein Kunde zahlt seine Rechnung in bar\n8. Wir nehmen ein Darlehen bei der Bank auf\n9. Wir gewähren ein Darlehen\n10. Wir stunden einem Kunden seine Rechnung\n11. Barabhebung vom Bankkonto\n12. Wir überweisen der Bank eine Darlehenstilgung\n13. Wir zahlen eine Verbindlk. durch Übereignung einer Forderung\n14. Wir erhalten eine Zahlung durch Übereignung einer Forderung\n15. Kapitaleinlage des Inhabers durch Bareinzahlung\n"]
[]
[null,"7.2","Lösung: Doppelte Buchführung - Bilanzkonten"]
[]
[null,"1. Aktivtausch (Betriebs- und Geschäftsausstattung nimmt zu, Kasse nimmt ab)\n2. Aktivtausch\n3. Aktiv- Passiv-Zunahme, Bilanzverlängerung\n4. Aktiv- Passiv- Minderung, Bilanzverkürzung\n5. Aktivtausch wenn Bank im Guthaben, sonst Bilanzverlängerung\n6. Bilanzverkürzung wenn Bank im Guthaben, sonst Passivtausch\n7. Aktivtausch\n8. Bilanzverlängerung !!! wenn Bank im Guthaben, sonst Passivtausch\n9. Aktivtausch wenn Bank im Guthaben, sonst Bilanzverlängerung\n10. Aktivtausch\n11. Aktivtausch wenn Bank im Guthaben, sonst Aktiv- Passiv-Zuname = Bilanzverlängerung\n12. Bilanzverkürzung wenn Bank im Guthaben, sonst Passivtausch\n13. Aktiv- Passiv-Minderung, Bilanzverkürzung\n14. Aktivtausch\n15. Aktiv- Passiv-Zunahme, Bilanzverlängerung\n"]
[]
[]
[null,"7.3","Übungsaufgabe: Doppelte Buchführung - Bilanz- und Erfolgskonten"]
[]
[]
[null,"Bitte ermitteln Sie für die nachstehenden Geschäftsvorfälle, um welchen Buchungstyp es sich im Bezugssystem der Bilanz und der Gewinn- und Verlustrechnung handelt. Ordnen Sie alle Geschäftsfälle einem der vier genannten elementaren Buchungsfälle zu (Aktiv-, Passiv-, Bilanzverlängerung, Bilanzkürzung, Aufwand, Ertrag bzw. Erlös). Sind mehrere Alternativen genannt, so nennen Sie alle möglichen Alternativen. In dieser Übung wird die Umsatzsteuer nicht betrachtet. \n"]
[]
[null,"1. Wie nehmen ein Darlehen bei der Bank auf.\n2. Hierauf zahlen wir eine Tilgung in bar.\n3. Hierauf zahlen wir eine Tilgung durch Überweisung.\n4. Hierauf zahlen wir Zinsen in bar.\n5. Hierauf zahlen wir Zinsen durch Überweisung.\n6. Wir kaufen Waren auf Rechnung.\n7. Barzahlung dieser Rechnung.\n8. Zielverkauf der Waren aus Nr. 6. an einen Kunden.\n9. Der Kunde aus Nr. 8. zahlt seine Rechnung bar.\n10. Wir bestellen eine Produktionsmaschine.\n11. Baranzahlung auf Maschine aus 10. vor Herstellung.\n12. Lieferung und Abrechnung der Anlage aus 10./11..\n13. Erweiterungsinvestition in Maschine auf Rechnung.\n14. Reparatur einer Maschine gegen Barzahlung.\n15. Barkauf Faxgerät 1.500 Euro.\n16. Barkauf Kleincomputer 399,99 Euro.\n17. Barkauf Bürolocher 9,99 Euro.\n"]
[]
[null,"7.3","Lösung: Doppelte Buchführung - Bilanz- und Erfolgskonten"]
[]
[null,"1. Bilanzverlängerung (Bank im Guthaben) oder Passivtausch (Bank überzogen)\n2. Bilanzverkürzung\n3. Bilanzverkürzung (wenn Bank im Guthaben), sonst Passivtausch\n4. Aufwandsbuchung\n5. Aufwandsbuchung\n6. Bilanzverlängerung\n7. Bilanzverkürzung\n8. Ertragsbuchung\n9. Aktivtausch\n10. Keine Buchung\n11. Aktivtausch\n12. Bilanzverlängerung\n13. Bilanzverlängerung wenn auf Rechnung\n14. Aufwandsbuchung\n15. Aktivtausch\n16. Aktivtausch (auch bei gWG!)\n17. Aufwandsbuchung (Verbrauchsfiktion!)\n"]
[]
[]
[null,"7.4","Übungsaufgabe: Buchungssätze, Bestandsbuchungen"]
[]
[]
[null,"Bei dieser Übung müssen Sie Buchungssätze auf Bilanzkonten bilden. \n"]
[]
[null,"Teil A: Bitte entscheiden Sie, ob diese Fälle Bilanzverlängerungen, Bilanzverkürzungen, Aktivtäusche oder Passivtäusche sind, und bilden Sie dann Buchungssätze:\n"]
[]
[null,"1. Kauf einer Maschine gegen Barzahlung\n2. Kauf einer Maschine gegen Bankscheck\n3. Ein Lieferant gewährt uns auf eine seiner Forderungen eine langfristige Stundung\n4. Rückzahlung („Tilgung“) eines von uns aufgenommenen Darlehens in bar\n5. Tilgung eines von uns aufgenommenen Darlehens durch Banküberweisung einer Rate\n6. Kauf einer Maschine gegen Übereignung einer Forderung\n"]
[]
[null,"Teil B: Welche Geschäftsfälle haben zu den nachstehenden Buchungen geführt, und um welche Fälle handelt es sich?"]
[]
[null,"1. BGA AN Kasse\n2. BGA AN Verbindlichkeiten\n3. Kasse AN Forderungen\n4. Bank AN Forderungen\n5. Verbindlichkeiten AN Forderungen\n6. Darlehensforderungen AN Bank\n7. Bank AN Darlehensforderungen\n8. Bank AN Darlehensverbindlichkeiten\n9. Darlehensverbindlichkeiten AN Bank\n10. Darlehensverbindlichkeiten AN Forderungen\n"]
[]
[null,"7.4","Lösung: Buchungssätze, Bestandsbuchungen"]
[]
[null,"Teil A:\n1. Aktivtausch – Maschinen AN Kasse\n2. Aktivtausch/Bilanzverlängerung – Maschinen AN Bank\n3. Passivtausch – Verbindlichkeiten aus L&L AN Darlehensverbindlichkeiten\n4. Bilanzverkürzung – Darlehensverbindlichkeiten AN Kasse\n5. Bilanzverkürzung/Passivtausch – Darlehensverbindlichkeiten AN Bank\n6. Aktivtausch – Maschinen AN Forderungen\n"]
[]
[null,"Teil B:\n1. Barkauf von Büroausrüstungsgegenständen\n2. Zielkauf von Büroausrüstungsgegenständen\n3. Eingang einer Zahlung von einem Kunden in bar\n4. Eingang einer Zahlung von einem Kunden in per Überweisung\n5. Wir zahlen eine Verbindlichkeit durch Übereignung einer Forderung\n6. Wir gewähren ein Darlehen per Überweisung\n7. Unser Darlehensschuldner zahlt uns eine Tilgungsrate\n8. Wir nehmen ein Darlehen durch Überweisung auf\n9. Wir zahlen eine Darlehenstilgung auf ein von uns aufgenommenes Darlehen\n10. Wir zahlen eine Darlehenstilgung durch Übereignung einer Forderung\n"]
[]
[]
[]
[null,"7.4","Übungsaufgabe: Buchungssätze, Bestandsbuchungen"]
[]
[null,"Teil C: \nBitte beantworten Sie die folgenden theoretischen Fragen:"]
[]
[null,"1. Woran können Sie erkennen, ob die Bank ein Aktiv- oder ein Passivkonto ist?\n2. Gibt es außer der Bank noch weitere Konten, die in der Bilanz auf beiden Seiten stehen können?\n3. Wenn Sie einen Kontoauszug kriegen, und darauf ein Geldeingang dokumentiert ist, dann steht die Buchung im „Haben“. Dennoch müssen Sie als Buchhalter die Bank bei Eingang von Geld im „Soll“ buchen. Weshalb? Ist das nicht ein Widerspruch?\n4. Was ist auf der Aktivseite der Bilanz der grundlegende Unterschied zwischen „Anlagevermögen“ und „Umlaufvermögen“?\n5. In § 248 Abs. 2 HGB steht folgender Satz: „Für immaterielle Vermögensgegenstände des Anlagevermögens, die nicht entgeltlich erworben wurden, darf ein Aktivposten nicht angesetzt werden“. Was für Vermögensgegenstände könnten hier gemeint sein, und welchen Sinn hat diese Regelung?\n6. § 246 Abs. 2 HGB verbietet, Aktiva mit Passiva zu verrechnen. Was ist der Sinn dieser Regelung?\n7. Für welche Form von Fremdkapital müssen Sie normalerweise keine Zinsen entrichten?\n8. An welchem Kalendertag endet die Aufbewahrungsfrist für die Benzinquittung von heute morgen, wenn Sie den Dienstwagen betankt haben?\n9. Was ist der Unterschied zwischen Grundbuch und Hauptbuch?\n"]
[]
[null,"7.4","Lösung: Buchungssätze, Bestandsbuchungen"]
[]
[null,"Teil C:\n1. Am Saldo – und nur am Saldo!\n2. Forderungen und Verbindlichkeiten, wenn Schuldner zugleich Kunden sind; ferner das Postgirokonto.\n3. Die Bank bucht aus ihrer Sicht und nicht aus unserer!\n4. Anlagevermögen ist dazubestimmt, dem Betrieb langfristig zu dienen (§247 Abs. 2 HGB); es kommt also nur auf die Nutzungsabsicht an!\n5. Eigene Patente, Marken- und sonstige Schutzrechte sowie eigene Software; Gläubigerschutz.\n6. Forderungen und Verbindlichkeiten dürfen nicht aufgerechnet werden.\n7. Lieferantenrechnungen (ohne Skonti) und Kundenanzahlungen vor Erbringung und Abrechnung der  Leistung. Falsch aber Lieferantenrechnungen mit Skonto: „3% Skonto in 1 Woche, sonst 21 Tage Netto Kasse“ entspricht beispielsweise einem Zinssatz i.H.v. 78% p.a.!\n8. Ende des Jahres plus 10 Jahre (§§ 257 HGB, 147 AO).\n9. Im Grundbuch ist der Buchungsstoff zeitlich geordnet und im Hauptbuch ist er sachlich geordnet.\n"]
[]
[]
[null,"7.5","Übungsaufgabe: Buchungssätze, Bestands- und Erfolgsbuchungen"]
[]
[null,"1. Wareneinkauf AN Verbindlichkeiten L&L 1500 €\n2. Kasse AN Warenverkauf 750 €\n3. Verbindlichkeiten L&L AN Wareneinkauf 150 €\n4. Portokosten AN Kasse 19,50 €\n5. Kasse 1500 AN BGA 1000, sonstige betriebliche Erträge 500 €\n6. Kasse 4000, sonstige betriebliche Aufwand 1000 AN Maschinen 5000 €\n7. Maschinen AN Verbindlichkeiten L&L 12500 €\n8. Verbindlichkeiten L&L AN Maschinen 500 €\n9. Verbindlichkeiten L&L AN Bank 10000 €\n10. Verbindlichkeiten L&L AN Darlehensverbindlichkeiten 2000 €\n11. Instandhaltungsaufwendungen AN Kasse 59 €\n12. EDV-Lizenzrechte AN Bank 1650 €\n13. Forderungen L&L AN Warenverkauf 1850 €\n"]
[null,"14. Bank AN Forderungen L&L 1000 €\n15. Kasse AN Forderungen L&L 850 €\n16. A.o.Aufwand AN Kasse 100 €\n17. A.o.Aufwand AN Wareneinkauf 250 €\n18. Bank AN Zinserträge 65,10 €\n19. GuV AN Portokosten 654,60 €\n20. Warenverkauf AN GuV 295436,36 €\n21. SBK AN Wareneinkauf 54783,20 €\n22. GuV AN Eigenkapital 15478,30 €\n23. Eigenkapital AN GuV 21049,74 €"]
[]
[null,"7.5","Lösung: Buchungssätze, Bestands- und Erfolgsbuchungen"]
[]
[null,"1. Wareneinkauf auf Ziel\n2. Barverkauf von Waren\n3. Rücksendung oder Minderung von Waren\n4. Barzahlung von Postgebühren\n5. Verkauf von alten Anlagegegenständen über Buchwert (= Buchgewinn)\n6. Verkauf von alten Maschinen unter ihrem Buchwert (= Buchverlust)\n7. Kauf einer Maschine auf Ziel\n8. Rücksendung oder Minderung von Maschinenlieferant\n9. Zahlung eines Lieferanten durch Überweisung\n10. Langfristige Stundung eines Lieferanten\n11. Barzahlung einer Reparatur\n12. Kauf von Software per Scheck\n13. Zielverkauf von Waren\n"]
[null,"14. Zahlungseingang von Kunden auf Bankkonto\n15. Zahlungseingang von Kunden in bar\n16. Minderbetrag in Kasse (z.B. Diebstahl)\n17. Verlust oder Verderb von Waren\n18. Gutschrift von Zinserträgen bei der Bank\n19. Abschluss des Portoaufwandes in die GuV\n20. Abschluss des Warenverkaufes in die GuV\n21. Abschluss des Wareneinkaufes (d.h., des Schlussbestandes) in die Bilanz\n22. Abschluss der GuV mit Gewinn (Personengesellschaft)\n23. Abschluss der GuV mit Verlust (Personengesellschaft)\n"]
[]
[]
[null,"7.6","Übungsaufgabe: Bilanz"]
[]
[null,"Das Inventar (Staffelform) eines Handwerksbetriebes des Baugewerbes sieht zu einem Bilanzstichtag folgendermaßen aus:\nA. Vermögen:\n1. Fuhrpark: Bagger 60.000 €, Drehkran 80.000 €, Lastwagen 40.000 €, Baustellenfahrzeug 10.000 €, Dienstfahrzeug 12.000 €, \n2. Betriebs- und Geschäftsausstattung Computer 15.000 €, Büroeinrichtung 8.000 €, Sonstige Geräte  7.000 €, \n3. Rohstoffe: Zement, Beton 20.000 €, Div. Steine, Baumaterial 25.000 €, Div. Hilfsstoffe  5.000 €\n4. Forderungen an Kunden: Hinz 40.000 €, Kunz 60.000 €, Meier 100.000 €, Müller 50.000 €, \n5. Bankguthaben  3.000 €, Kasse 2.000 €\n"]
[null,"B. Schulden\n1. Darlehen\nSparkasse 150.000 €\nHypobank  50.000 €\n2. Verbindlichkeiten Lieferanten\nPeters oHG 25.000 €\nSchulz KG  40.000 €\nBauhof AG  1.000 €\n3. Sonstige Schulden\nSozialversicherung 6.000 €\nFinanzamt 4.000 €\n"]
[null,"Das Unternehmen gehört Herrn Sucht, der ein Einzelunternehmer ist (eingetragener Kaufmann). Stellen Sie die Bilanz für Hern Sucht auf. Ermitteln Sie den Wert der einzelnen Positionen und gliedern Sie die Bilanz nach Anlage- und Umlaufvermögen sowie nach Eigen- und Fremdkapital.\nDie gesetzliche Struktur der Bilanz nach § 266 HGB braucht nicht angewandt zu werden, da es sich nicht um eine Kapitalgesellschaft handelt!\n"]
[null,"7.6","Lösung: Bilanz"]
[]
[]
[null,null,null,null,null,null,null,null,null,null,null,null,null,null,null,null,null,null,"Einzelunternehmer Sucht"]
[null,null,null,null,null,null,null,null,null,null,"Aktiva",null,"Bilanz 31.12.",null,null,null,null,null,null,null,null,null,null,null,null,null,null,null,null,null,null,null,"Passiva"]
[null,null,null,null,null,null,null,null,null,"Anlagevermögen",null,null,null,null,null,null,null,null,null,null,null,null,"Eigenkapital"]
[null,null,null,null,null,null,null,null,null,"Fuhrpark",null,null,null,null,null,null,null,null,202000,null,null,null,null,null,null,null,null,null,null,null,null,261000]
["zunehmende",null,null,null,null,null,null,null,null,"Betriebs- und",null,null,null,null,null,null,null,null,null,null,null,null,null,null,null,null,null,null,null,null,null,null,null,null,null,null,null,"abnehmende"]
["Liquidität",null,null,null,null,null,null,null,null,"Geschäftsausstattung",null,null,null,null,null,null,null,null,30000,null,null,null,null,null,null,null,null,null,null,null,null,null,null,null,null,null,null,"Fristigkeit"]
["Mittel-",null,null,null,null,null,null,null,null,null,null,null,null,null,null,null,null,null,null,null,null,null,null,null,null,null,null,null,null,null,null,null,null,null,null,null,null,"Mittel-"]
["verwendung",null,null,null,null,null,null,null,null,null,null,null,null,null,null,null,null,null,null,null,null,null,null,null,null,null,null,null,null,null,null,null,null,null,null,null,null,"herkunft"]
[null,null,null,null,null,null,null,null,null,"Umlaufvermögen",null,null,null,null,null,null,null,null,null,null,null,null,"Fremdkapital"]
[null,null,null,null,null,null,null,null,null,"Roh-, Hilfs- und Betriebsstoffe",null,null,null,null,null,null,null,null,50000,null,null,null,"Verbindlichkeiten (Kreditinstitute)",null,null,null,null,null,null,null,null,200000]
[null,null,null,null,null,null,null,null,null,"Forderungen aus LuL",null,null,null,null,null,null,null,null,250000,null,null,null,"Verbindlichkeiten Lieferungen",null,null,null,null,null,null,null,null,66000]
[null,null,null,null,null,null,null,null,null,"Schecks, Kasse, Bank",null,null,null,null,null,null,null,null,5000,null,null,null,"sonstige Verbindlichkeiten",null,null,null,null,null,null,null,null,10000]
[]
[]
[]
[null,null,null,null,null,null,null,null,null,null,null,null,null,null,null,null,null,null,{"$f":"SUM(S129:V139)","v":537000},null,null,null,null,null,null,null,null,null,null,null,null,{"$f":"SUM(AF129:AI139)","v":537000}]
[]
[]
[null,"7.7","Übungsaufgaben: GuV"]
[]
[null,"An einem Stichtag stehen die folgenden Informationen zur Verfügung:\nUmsatzerlöse 620.000 €, Personalaufwand 300.000 €\nMaterialeinkauf 200.000 €, Materialaufwand 220.000 €\nMinderung Guthaben Bankkonto 15.000 €, Abschreibungen 80.000 €\nRückzahlungen Darlehen 25.000 €, Zinsaufwand 10.000 €\nPrivatentnahme Gesellschafter 20.000 €, Bestandsmehrungen Zwischenlager 40.000 €\nEinkommensteuer Gesellschafter 8.000 €, Sonstige betriebliche Erträge 80.000 €\nSonstige betriebliche Aufwendungen 70.000 €, \n1. Stellen Sie eine ordnungsgemäße Gewinn- und Verlustrechnung auf. Scheiden Sie Positionen aus, die nicht\nin die GuV gehören.\n2. Berechnen Sie das Jahresergebnis vor Steuern und bezeichnen Sie es mit dem richtigen Begriff.\n"]
[]
[null,"7.7","Lösung: GuV"]
["Gewinn- und Verlustrechnung (Staffelform):"]
[null,"Umsatzerlöse",null,null,null,null,null,null,null,null,null,null,null,null,null,null,null,null,null,null,null,null,null,null,null,null,null,null,null,null,null,null,null,null,null,null,null,null,null,null,null,null,620000]
[null,"+ sonstige betriebliche Erträge",null,null,null,null,null,null,null,null,null,null,null,null,null,null,null,null,null,null,null,null,null,null,null,null,null,null,null,null,null,null,null,null,null,null,null,null,null,null,null,null,80000]
[null,"+ Bestandsmehrungen Zwischenlager",null,null,null,null,null,null,null,null,null,null,null,null,null,null,null,null,null,null,null,null,null,null,null,null,null,null,null,null,null,null,null,null,null,null,null,null,null,null,null,null,40000]
[null,"- Materialaufwand",null,null,null,null,null,null,null,null,null,null,null,null,null,null,null,null,null,null,null,null,null,null,null,null,null,null,null,null,null,null,null,null,null,null,null,null,null,null,null,null,-220000]
[null,"- Personalaufwand",null,null,null,null,null,null,null,null,null,null,null,null,null,null,null,null,null,null,null,null,null,null,null,null,null,null,null,null,null,null,null,null,null,null,null,null,null,null,null,null,-300000]
[null,"- Abschreibungen",null,null,null,null,null,null,null,null,null,null,null,null,null,null,null,null,null,null,null,null,null,null,null,null,null,null,null,null,null,null,null,null,null,null,null,null,null,null,null,null,-80000]
[null,"- sonstige betriebliche Aufwendungen",null,null,null,null,null,null,null,null,null,null,null,null,null,null,null,null,null,null,null,null,null,null,null,null,null,null,null,null,null,null,null,null,null,null,null,null,null,null,null,null,-70000]
[null,"- Zinsaufwendungen",null,null,null,null,null,null,null,null,null,null,null,null,null,null,null,null,null,null,null,null,null,null,null,null,null,null,null,null,null,null,null,null,null,null,null,null,null,null,null,null,-10000]
[]
["= Jahresüberschuss (Gewinn)",null,null,null,null,null,null,null,null,null,null,null,null,null,null,null,null,null,null,null,null,null,null,null,null,null,null,null,null,null,null,null,null,null,null,null,null,null,null,null,null,null,null,null,null,null,null,null,{"$f":"SUM(AQ150:AV159)","v":60000}]
[]
[null,"Lösungshinweise: die Positionen „Minderung Guthaben Bankkonto“, „Rückzahlungen Darlehen“, Privatentnahme Gesellschafter“ und „Einkommensteuer Gesellschafter“ sind bilanzielle Phänomene und daher nicht Teil der GuV.\nEs muss erkannt werden, dass „Bestandsmehrungen Zwischenlager“ ein Ertrag ist . Die Position ist daher zu addieren. Die Einkommensteuer ist kein Phänomen der GuV, weil die Gesellschafter (und nicht die Gesellschaft!) einkommensteuerpflichtig sind (Personengesellschaft, ungleich einer Kapitalgesellschaft).\nFerner muss erkannt werden, dass „Rückzahlungen Darlehen“ eine Tilgung (und daher ein bilanzielles Phänomen und kein Aufwand) ist.\n"]

{"sheet":"8","index":12,"n_rows":153,"n_cols":33,"rows_kept":153,"cut":false,"hidden":false,"merged":[[65,18,65,21],[65,22,65,30],[32,3,32,7],[33,3,33,7],[34,3,34,7],[35,3,35,7],[36,3,36,7],[31,37,31,41],[32,37,32,41],[33,37,33,41],[34,37,34,41],[35,37,35,41],[36,37,36,41],[51,3,51,7],[50,36,50,40],[51,36,51,40],[52,36,52,40],[34,9,34,17],[34,18,34,21],[36,9,36,17],[48,9,48,17],[48,18,48,21],[48,22,48,30],[48,31,48,34],[144,1,144,51],[148,1,148,51],[150,1,150,51],[152,1,152,51],[15,1,15,44],[43,1,43,44],[87,0,87,52],[114,0,114,52],[129,1,129,51],[131,1,131,51],[110,1,110,51],[111,1,111,51],[23,9,23,17],[23,18,23,21],[133,1,133,51],[135,1,135,51],[101,1,101,51],[103,1,103,51],[65,31,65,34],[70,1,70,51],[140,1,140,51],[137,0,137,52],[120,1,120,51],[118,1,118,51],[122,1,122,51],[123,1,123,51],[125,1,125,51],[127,1,127,51],[21,22,21,30],[21,31,21,34],[21,9,21,17],[21,18,21,21],[74,1,74,51],[68,1,68,51],[84,1,84,51],[108,1,108,51],[82,1,82,51],[92,1,92,51],[91,1,91,51],[94,1,94,51],[95,1,95,51],[100,1,100,51],[104,1,104,51],[106,1,106,51],[107,1,107,51],[60,9,60,17],[80,1,80,51],[62,22,62,30],[5,1,5,51],[16,8,16,35],[18,12,18,31],[19,9,19,17],[19,18,19,21],[13,1,13,51],[19,22,19,30],[19,31,19,34],[9,1,9,51],[11,1,11,51],[76,1,76,51],[53,9,53,17],[53,18,53,21],[53,22,53,30],[53,31,53,34],[55,1,55,51],[57,8,57,35],[59,12,59,31],[60,18,60,21],[60,22,60,30],[60,31,60,34],[61,36,61,40],[62,36,62,40],[63,36,63,40],[64,36,64,40],[65,36,65,40],[61,2,61,6],[62,2,62,6],[63,2,63,6],[64,2,64,6],[65,2,65,6],[62,31,62,34],[65,9,65,17],[53,36,53,40],[50,22,50,30],[50,31,50,34],[36,18,36,21],[36,22,36,30],[36,31,36,34],[42,1,42,51],[45,8,45,35],[47,12,47,31],[51,9,51,17],[51,18,51,21],[49,9,49,17],[49,3,49,7],[50,3,50,7],[1,0,1,52],[40,0,40,52],[78,0,78,52],[98,0,98,52],[26,1,26,51],[28,8,28,35],[30,12,30,31],[22,22,22,30],[22,31,22,34],[31,9,31,17],[31,18,31,21],[31,22,31,30],[31,31,31,34],[24,9,24,17],[24,18,24,21],[24,22,24,30],[24,31,24,34],[33,9,33,17],[33,18,33,21],[33,22,33,30],[33,31,33,34],[52,3,52,7],[53,3,53,7],[49,36,49,40]]}
[]
[{"$f":"'7'!A107:BA107+1","v":23}]
[]
[null,8,"Die Ableitung der Buchungsmethodik"]
[]
[null,"Buchungsregeln sind allgemein gesagt die Regeln, auf welcher Seite von Konten welche Sachverhalte zu erfassen sind. Die Buchungsregeln bilden Grundlage für die Bildung von Buchungssätzen und betreffen Vereinbarungen darüber, was auf der linken „Soll“-Seite und der rechten „Haben“-Seite der Konten zu stehen hat. Sie sind für jede Kontenart einzeln definiert und bilden ein in sich geschlossenes Regelwerk.\n"]
[]
[null,"8.1","Buchungsregeln"]
[]
[null,"Aktiv- und Passivkonten (Bestandskonten):\nDie Buchungsregeln der Aktiva und der Passiva sind genau spiegelverkehrt, d. h., was man in den Aktiva im „Soll“ bucht, das gehört bei den Passiva in’s „Haben“. Merksatz: Die Bestandskonten haben ihre Anfangsbestände und Mehrungsbuchungen auf der Seite, auf der sie in der Bilanz stehen, und die Minderungsbuchungen und Schlußsalden auf der gegenüberliegenden Seite.\n"]
[]
[null,"Aufwands- und Ertragskonten (Erfolgskonten):\nDiese Konten sind Unterkonten zum Eigenkapital. Merksatz: Aufwendungen und Erträge bucht man so,\nwie man ihre Auswirkung im Eigenkapitalkonto buchen würde, also Aufwendungen im „Soll“ (=Eigenkapitalminderung!) und Erträge im „Haben“ (=Eigenkapitalmehrung!).\n\n"]
[]
[null,"Dabei unterscheidet man Regeln für vier Kontenarten:\n- Aktivkonten sind Konten, die Wertbestände auf Vermögenskonten abbilden;\n- Passivkonten sind Konten, die Wertbestände auf Kapitalkonten abbilden;\n- Aufwandskonten sind Konten, die einen Wertverzehr von Vermögen (= Verbräuche) abbilden und\n- Ertragskonten sind Konten, die Verwertungen von Vermögen (= Wertmehrungen) darstellen.\n"]
[]
[null,"Bestandskonten"]
[null,null,null,null,null,null,null,null,"Aktivkonten"]
[]
[null,null,null,null,null,null,null,null,null,null,"Soll",null,"z. B. BGA",null,null,null,null,null,null,null,null,null,null,null,null,null,null,null,null,null,null,null,"Haben"]
[null,null,null,null,null,null,null,null,null,"Anfangsbestand"]
[null,null,null,null,null,null,null,null,null,"aus der Eröffnungsbilanz",null,null,null,null,null,null,null,null,null,null,null,null,"- Minderungen / Abgänge"]
[]
[null,null,null,null,null,null,null,null,null,"+ Mehrungen / Zugänge",null,null,null,null,null,null,null,null,null,null,null,null,"= Schlussbestand"]
[null,null,null,null,null,null,null,null,null,null,null,null,null,null,null,null,null,null,null,null,null,null,"in der Schlussbilanz"]
[null,null,null,null,null,null,null,null,null,null,null,null,null,null,null,null,null,null,"Summe X",null,null,null,null,null,null,null,null,null,null,null,null,"Summe X"]
[]
[]
[]
[null,null,null,null,null,null,null,null,"Passivkonten"]
[]
[null,null,null,null,null,null,null,null,null,null,"Soll",null,"z B. Verbindlichkeiten (Darlehen)",null,null,null,null,null,null,null,null,null,null,null,null,null,null,null,null,null,null,null,"Haben"]
[null,null,null,null,null,null,null,null,null,null,null,null,null,null,null,null,null,null,null,null,null,null,"Anfangsbestand"]
[null,null,null,null,null,null,null,null,null,"- Minderungen / Abgänge",null,null,null,null,null,null,null,null,null,null,null,null,"aus der Eröffnungsbilanz"]
[]
[null,null,null,null,null,null,null,null,null,"= Schlussbestand",null,null,null,null,null,null,null,null,null,null,null,null,"+ Mehrungen / Zugänge"]
[null,null,null,null,null,null,null,null,null,"in der Schlussbilanz"]
[null,null,null,null,null,null,null,null,null,null,null,null,null,null,null,null,null,null,"Summe X",null,null,null,null,null,null,null,null,null,null,null,null,"Summe X"]
[]
[]
[]
[{"$f":"A2+1","v":24}]
[]
[]
[null,"Erfolgskonten (=> GuV / Gewinn-/Verlustrechnung)"]
[]
[null,null,null,null,null,null,null,null,"Aufwands- und Kostenkonten"]
[]
[null,null,null,null,null,null,null,null,null,null,"Soll",null,null,null,null,null,null,null,null,null,null,null,null,null,null,null,null,null,null,null,null,null,"Haben"]
[]
[null,null,null,null,null,null,null,null,null,"Summe der",null,null,null,null,null,null,null,null,null,null,null,null," - Aufwandsminderungen"]
[null,null,null,null,null,null,null,null,null,"Aufwandsbuchungen"]
[null,null,null,null,null,null,null,null,null,null,null,null,null,null,null,null,null,null,null,null,null,null," = Schlussbestand => GuV"]
[]
[null,null,null,null,null,null,null,null,null,null,null,null,null,null,null,null,null,null,"Summe X",null,null,null,null,null,null,null,null,null,null,null,null,"Summe X"]
[]
[]
[]
[null,null,null,null,null,null,null,null,"Erlös- und Leistungskonten"]
[]
[null,null,null,null,null,null,null,null,null,null,"Soll",null,null,null,null,null,null,null,null,null,null,null,null,null,null,null,null,null,null,null,null,null,"Haben"]
[]
[null,null,null,null,null,null,null,null,null," - Erlösminderungen",null,null,null,null,null,null,null,null,null,null,null,null,"Summe der "]
[null,null,null,null,null,null,null,null,null,null,null,null,null,null,null,null,null,null,null,null,null,null,"Erlösbuchungen"]
[null,null,null,null,null,null,null,null,null," = Schlussbestand => GuV"]
[]
[null,null,null,null,null,null,null,null,null,null,null,null,null,null,null,null,null,null,"Summe X",null,null,null,null,null,null,null,null,null,null,null,null,"Summe X"]
[]
[]
[null,"Die Summe der Buchungen im „Soll“ und der im „Haben“ muss stets gleich sein, und zwar sowohl im einzelnen Konto als auch in jeder beliebigen Summe von Konten."]
[]
[null,"Eine Saldendifferenz ist ein untrügliches Zeichen für einen Buchungsfehler. Es ist nicht möglich, durch regelgerechtes Buchen Saldendifferenzen zu erzeugen, d. h., bei fehlerfreier und vollständiger Anwendung aller Buchungsvorschriften werden alle einzelnen Konten ebenso wie die Bilanz immer ausgewogen sein. Das angewandte Regelwerk ist in sich stabil und fehlerintolerant.\n"]
[]
[null,"8.2","Ableitung von Buchungssätzen"]
[]
[null,"In der Praxis ist es schwierig, Buchungen so zu notieren, dass ein sachverständiger Dritter damit klarkommt. Eine formelhafte Notationsweise ist also erforderlich, um\n- Fehler auszuschließen und\n- die Kommunikation über buchhalterische Sachverhalte (Standard)\nzu erleichtern und zu beschleunigen. Dies ist im wesentlichen die Aufgabe des Buchungssatzes, der die Kontierung eines Geschäftsvorfalles in kurzer, formaler Art und Weise darstellt.\n"]
[]
[null,"Der Buchungssatz hat die Form\n„Soll“ an „Haben“\nwobei unter „Soll“ und „Haben“ die jeweils beteiligten Konten und die dort zu erfassenden Geldbeträge zu verstehen sind, etwa:\nKasse an Bank 1.000 Euro\nEs kann auch mehr als ein Konto unter „Soll“ und/oder unter „Haben“ vorkommen:\nWareneinkauf und Vorsteuer an  Verbindlichkeiten\nDie im „Soll“ und im „Haben“ zu buchenden Geldbeträge müssen einander jedoch in der Summe stets entsprechen. Ist das nicht der Fall, so wird die nachfolgende Bilanz nicht ausgewogen sein. Eine  unausgewogene Bilanz ist damit immer ein sicheres Zeichen für einen fehlerhaften Buchungssatz.\nDas im „Soll“ zu bebuchende Konto ist immer zuerst und das im „Haben“ zu buchende Konto immer zuletzt zu nennen.\n"]
[]
[{"$f":"A41+1","v":25}]
[]
[null,"Auf der Soll- und auf der Haben-Seite können jeweils Wertmehrungen oder auch Wertminderungen stehen, was die Angelegenheit ebenfalls nicht erleichtert: man muss die Buchungsregeln genau kennen um zu wissen, ob das zuerst genannte „Soll“-Konto sich durch einen Geschäftsfall mehrt oder mindert; ebenso ist die Nennung des „Haben“-Kontos an zweiter Stelle keine Gewähr dafür, daß dieses Konto eine Mehrung oder Minderung erfährt. Dies kann nur und ausschließlich aus den Buchungsregeln geschlossen werden.\nDas Wörtchen „AN“ hat damit nur und ausschließlich die Funktion der Trennung der Soll- von den Haben-Konten. Es deutet keine Bewegungs- oder Buchungsrichtung an.\nAuf folgende Art ist ein Buchungssatz zu bilden:\n"]
[]
[null,"Die „fünf eisernen Regeln“:\n1. Was für Konten sind an der durchzuführenden Buchung beteiligt? Es müssen immer mindestens zwei verschiedene Konten sein, können aber auch wesentlich mehr als zwei Konten werden!\n2. Was für Konten sind das? Handelt es sich um Aktiv-, Passiv- (Bestandskonten), Aufwands- oder Erlöskonten?\n3. Nehmen diese Konten, jeweils einzeln betrachtet, durch die auf ihnen durchzuführende Buchung ab oder zu?\n4. Wo, d.h., im „Soll“ oder im „Haben“, sind diese Zu- oder Abnahmen zu buchen? Verwenden Sie die Buchungsregeln!\n5. Aus den bisherigen Erkenntnissen erst im Grundbuch, d. h., durch einen Buchungssatz SOLL AN HABEN, und dann im Hauptbuch (d. h., auf Konten) buchen. Bei elektronischer Buchführung wird die Hauptbuchbuchung vom Programm erledigt, und der Buchhalter muß lediglich die Buchungssätze eingeben.\n"]
[]
[null,"Allgemein kann man Buchungsvorgänge wie folgt einteilen:\n1) Eröffnungsbuchungen sind solche, die der Einrichtung der Buchführung oder der Vorbereitung des Geschäftsjahres (am 1.1.) dienen und\n2) laufende Geschäftsbuchungen dienen der Abbildung konkreter Einzelvorgänge des operativen Geschäfts, also wirtschaftlicher Prozesse innerhalb der Unternehmung oder im Austausch mit Dritten während des Geschäftsjahres.\n3) Abschlussbuchungen, also Buchungen, die in direktem Zusammenhang mit dem\nJahresabschluss stehen. Hier unterscheidet man zwei Kategorien:\n- vorbereitende Abschlussbuchungen sind alle Buchungen, die Wertbewegungen am Jahresende aufgrund spezifischer Rechtsvorschriften abbilden, die im Jahresabschluss\nberücksichtigt sein müssen, im Laufe des Geschäftsjahres aber (noch) nicht berücksichtigt werden und\n- durchführende Abschlussbuchungen sind alle, die den Jahresabschluss selbst erstellen, also das Jahr tatsächlich abschließen.\n"]
[]
[]
[{"$f":"A79+1","v":26}]
[]
[null,"8.3","Beispiele für Buchungssätze"]
[]
[null,"Beispiel 1: „Wir kaufen einen neuen Computer im Wert von 8.000 €“. Der Buchungsbeleg ist eine Rechnung = Kauf „auf Ziel“).\n"]
[null,"1. Was für Konten sind beteiligt? „Büro- und Geschäftsausstattung“ und „Lieferschulden“\n2. Was für Konten sind das? „Büro- und Geschäftsausstattung“ ist ein Aktivkonto\n(Vermögensgegenstand!) und „Lieferschulden“ ist ein Passivkonto (Schulden!)\n3. Nehmen diese Konten ab oder zu? „Büro- und Geschäftsausstattung“ nimmt zu und „Lieferschulden“\nnimmt ebenfalls zu. Es liegt damit eine Bilanzverlängerung vor.\n4. Wo, ist zu buchen? „Büro- und Geschäftsausstattung“ im SOLL (wegen Zunahme!) und „Lieferschulden“ im HABEN (ebenfalls wegen der Zunahme)\n5. Buchungssatz: „Büro- und Geschäftsausstattung AN Lieferschulden 8.000“\n"]
[]
[null,"Beispiel 2: „Wir leisten eine Teilzahlung aus vorstehender Rechnung in Höhe von 6.000 € in bar“. Der Buchungsbeleg ist eine Quittung."]
[null,"Bildung des Buchungssatzes:\n1. Was für Konten sind beteiligt? „Lieferschulden“ und „Kasse“\n2. Was für Konten sind das? „Lieferschulden“ ist ein Passivkonto und „Kasse“ ist ein Aktivkonto\n3. Nehmen diese Konten ab oder zu? Beide Konten nehmen ab (es handelt sich damit um eine Bilanzverkürzung)\n4. Wo, ist zu buchen? „Lieferschulden“ im SOLL (wegen der Abnahme) und „Kasse“ im HABEN (ebenfalls wegen Abnahme)\n5. Buchungssatz: „Lieferschulden AN Kasse 6.000“\n"]
[]
[]
[{"$f":"A88+1","v":27}]
[]
[null,"Beispiel 3: „Wir kaufen Rohstoffe im Wert von 10.000 € gegen Barzahlung“. Der Buchungsbeleg ist ebenfalls eine Quittung."]
[null,"Bildung des Buchungssatzes:\n1. Was für Konten sind beteiligt? „Rohstoffe“ und „Kasse“\n2. Was für Konten sind das? „Rohstoffe“ und „Kasse“ sind beides Aktivkonten\n3. Nehmen diese Konten ab oder zu? „Rohstoffe“ nimmt zu und „Kasse“ nimmt ab. Es handelt sich daher um einen Aktivtausch \n4. Wo, ist zu buchen? „Rohstoffe“ im SOLL (wegen der Zunahme) und „Kasse“ im HABEN (wegen der Abnahme)\n5. Buchungssatz: „Rohstoffe AN Kasse 10.000“\n"]
[]
[null,"Beispiel 4: „Der Lieferant aus Beispiel 1 und 2 gewährt für die Restschuld eine langfristige Stundung“. Der Buchungsbeleg ist ein Handelsbrief."]
[null,"Bildung des Buchungssatzes:\n1. Was für Konten sind beteiligt? „Lieferschulden“ und „Darlehen“ (Darlehensverbindlichkeiten sind immer langfristige Schulden)\n2. Was für Konten sind das? „Lieferschulden“ und „Darlehen“ sind beides Passivkonten. Es liegt damit ein Passivtausch vor\n3. Nehmen diese Konten ab oder zu? „Lieferschulden“ nimmt ab und „Darlehen“ nimmt zu\n4. Wo, ist zu buchen? „Lieferschulden“ im SOLL (wegen der Abnahme) und „Darlehen“ im HABEN (wegen der Zunahme)\n5. Buchungssatz: „Lieferschulden AN Darlehen 2.000“\n"]
[]
[null,"Beispiel 5: „Wir verbrauchen Rohstoffe im Wert von 5.000 €“. Der Buchungsbeleg ist ein Materialentnahmeschein."]
[null,"1. Was für Konten sind beteiligt? „Rohstoffaufwand“ und „Rohstoffe“\n2. Was für Konten sind das? „Rohstoffaufwand“ ist ein Aufwandskonto (weil es einen Verbrauch abbildet) und „Rohstoffe“ ist ein Aktivkonto (Bestand an Vermögensgegenständen!)\n3. Nehmen diese Konten ab oder zu? „Rohstoffaufwand“ nimmt zu (es kommt ein neuer Verbrauch hinzu) und „Rohstoffe“ nimmt ab (um den Betrag des Verbrauches). Es liegt damit eine Aufwandsbuchung vor, die indirekt eine Verminderung des Eigenkapitals ist.\n4. Wo, ist zu buchen? „Rohstoffaufwand“ im SOLL (wegen Verbrauchszunahme!) und „Rohstoffe“ im HABEN (wegen der Abnahme des Bestandes)\n5. Buchungssatz: „Rohstoffaufwand AN Rohstoffe 5.000“\n"]
[null,"In diesem Fall würde der Verbrauch über die GuV-Rechnung an das Eigenkapital abgerechnet werden und der Restbestand noch in der Bilanz erscheinen."]
[]
[null,"Beispiel 6: „Nach Abschluss eines Projektes schreiben wir einem Kunden eine Rechnung im Wert von 20.000 € für erbrachte Leistungen“."]
[null,"Bildung des Buchungssatzes:\n1. Was für Konten sind beteiligt? „Forderungen“ und „Verkaufserlöse“\n2. Was für Konten sind das? „Forderungen“ ist ein Aktivkonto (auch Forderungen sind Vermögensgegenstände!) und „Verkaufserlöse“ ist ein Ertragskonto (weil Vermögensgegenstände verwertet wurden)\n3. Nehmen diese Konten ab oder zu? Beide Konten nehmen zu (es handelt sich damit um eine Ertragsbuchung, die indirekt eine Bilanzverlängerung ist)\n4. Wo, ist zu buchen? „Forderungen“ im SOLL (wegen der Zunahme) und „Verkaufserlöse“ im HABEN (ebenfalls wegen Zunahme)\n5. Buchungssatz: „Forderungen AN Verkaufserlöse 20.000“\n"]
[]
[]
[{"$f":"A99+1","v":28}]
[]
[null,"8.4","Die vier elementaren Buchungsfälle"]
[]
[null,"Man kann sich die Bilanz als Waage („Bilanzwaage“) mit einem kleinen Schälchen für jede Position vorstellen. Jeder Buchungsfall verändert die Gewichte in den Schälchen:"]
[]
[null,"Buchung 1: \n„Wir kaufen einen neuen Computer im Wert von 8.000 €“. Der Buchungsbeleg ist eine Rechnung \n(=Kauf „auf Ziel“):"]
[]
[null," => Geschäftsausstattung: ZUNAHME\n => Lieferschulden: ZUNAHME\nGeschäftsausstattung AN Lieferschulden 8.000\n"]
[null,"Die Summe der Aktiv- und der Passivseite der Bilanz steigen gleichzeitig:\nBilanzverlängerung (Bilanzmehrung)"]
[]
[null,"Buchung 2: \n„Wir leisten eine Teilzahlung aus vorstehender Rechnung in Höhe von 6.000 € in bar“. \nDer Buchungsbeleg ist eine Quittung.\n"]
[]
[null," => Kasse: ABNAHME  \n => Lieferschulden: ABNAHME\n\nLieferschulden AN Kasse 6.000\n\nDie Summe der Aktiv- und der Passivseite der Bilanz sinken gleichzeitig.\nBilanzverkürzung (Bilanzminderung)\n"]
[]
[null,"Buchung 3:\n„Wir kaufen Rohstoffe im Wert von 10.000 € gegen Barzahlung“. Der Buchungsbeleg\nist ebenfalls eine Quittung."]
[]
[null," => Rohstoffe: ZUNAHME  \n => Kasse: ABNAHME\n\nRohstoffe AN Kasse 10.000\n\nDie Summe der Aktiva sinkt und steigt zugleich, bleibt also insgesamt gleich.\nAktivtausch\n"]
[]
[null,"Buchung 4: \n„Der Lieferant aus Buchung 1 und 2 gewährt für die Restschuld eine langfristige Stundung“. Der Buchungsbeleg ist ein Handelsbrief."]
[]
[null," => Darlehensschulden: ZUNAHME  \n => Lieferschulden: ABNAHME\n\nLieferschulden AN Darlehensschulden 2.000 €\n\nDie Summe der Passiva sinkt und steigt zugleich, bleibt also insgesamt gleich.\nPassivtausch"]
[]
[{"$f":"A115+1","v":29}]
[]
[]
[null,"Jede Bilanzbuchung kann in einen der vier Fälle eingeordnet werden, aber manche komplexere Buchungen gehören zu mehreren Fällen gleichzeitig. Die Buchungsregeln sind so beschaffen, dass bei sach- und regelgerechter Buchung niemals eine unausgewogene Bilanz entstehen kann. \n"]
[]
[null,"8.5","Der Buchungskreislauf der Bilanz-Konten (siehe Anlagen)"]
[]
[null,"Das Eröffnungsbilanzkonto (Zwischenkonto) am Jahresanfang muss „seitenverkehrt“ erscheinen, damit die Buchungslogik „Soll AN Haben“ auch bei den Eröffnungsbuchungen erhalten bleibt. Die Buchungen der Eröffnungssalden lauten:\nAktivkonto AN Eröffnungsbilanzkonto\nEröffnungsbilanzkonto AN Passivkonto\n\nDie Abschlussbuchungen am Jahresende sind:\n\nSchlussbilanzkonto AN Aktivkonto\nPassivkonto AN Schlussbilanzkonto\nBei sach- und regelgerechter Buchung kann es daher nie eine unausgewogene Schlussbilanz geben.\n"]
[]
[null,"8.6","Erfolgskonten, GuV und Eigenkapital (siehe Anlagen)"]
[]
[null,"Aufwand - Verbrauch:\nMinderungen auf Aktivkonten, die Verbräuche darstellen, heißen Aufwand. Sie werden auf einer eigenen Kontenklasse, den Aufwandskonten erfasst. Alle Aufwandskonten mindern eigentlich das Eigenkapital (verkürzen also indirekt die Bilanz). Sie werden aus Gründen der Übersichtlichkeit und Klarheit jedoch über eigene Konten geführt, die Aufwandskonten. Diese werden in der GuV-Rechnung abgeschlossen.\n"]
[]
[null,"Ertrag - Verwertung:\nMehrungen auf Aktivkonten, die keine Umbuchungen anderer Bestände sind, heißen Ertrag oder Erlös. Es handelt sich um die Verwertung von Gütern. Sie mehren indirekt das Eigenkapital, sind also indirekte Bilanzverlängerungen. Erträge werden aus Gründen der Klarheit und Übersichtlichkeit ebenfalls über eigene Konten geführt, die Ertragskonten. Auch die Ertragskonten rechnet man zunächst in die GuV-Rechnung ab. \n"]
[]
[null,"Gewinn- und Verlustrechnung (GuV, G&V):\nDiese ist ein Unterkonto zum Konto „Eigenkapital“. Da das Eigenkapital durch direkt abgerechnete Aufwendungen und Erträge jedoch unübersichtlich wäre, und Probleme bei der Zurechnung zu den einzelnen Gesellschaftern entstehen würden, erfasst die GuV-Rechnung zunächst alle erfolgswirksamen Vorgänge, und rechnet dann nur noch deren Saldo (Restgröße), d. h., den Gewinn bzw. Verlust der Rechnungsperiode, an das Konto „Eigenkapital“ ab (bei Personengesellschaften ggfs. in mehreren Teilbuchungen für jeden beteiligten Gesellschafter.)\n"]

{"sheet":"8.5 Bilanz","index":13,"n_rows":67,"n_cols":71,"rows_kept":67,"cut":false,"hidden":false,"merged":[[1,0,1,91],[17,0,17,91],[21,48,21,60],[10,46,10,54],[10,55,10,58],[13,46,13,54],[14,55,14,58],[3,1,3,97],[14,69,14,72],[13,60,13,68],[13,69,13,72],[5,50,5,68],[8,46,8,54],[11,46,11,54],[11,55,11,58],[12,46,12,54],[8,55,8,58],[9,46,9,54],[9,55,9,58],[11,60,11,68],[11,69,11,72],[12,60,12,68],[12,69,12,72],[12,55,12,58],[10,60,10,68],[10,69,10,72],[9,60,9,68],[9,69,9,72],[66,9,66,17],[66,18,66,21],[66,22,66,30],[66,31,66,34],[20,48,20,60],[13,55,13,58],[14,60,14,68],[14,46,14,54],[65,9,65,17],[65,18,65,21],[65,22,65,30],[65,31,65,34],[64,9,64,17],[64,18,64,21],[64,22,64,30],[64,31,64,34],[62,9,62,17],[62,18,62,21],[62,22,62,30],[62,31,62,34],[63,9,63,17],[63,18,63,21],[63,22,63,30],[63,31,63,34],[60,9,60,17],[60,18,60,21],[60,22,60,30],[60,31,60,34],[61,9,61,17],[61,18,61,21],[61,22,61,30],[61,31,61,34],[57,12,57,31],[58,9,58,17],[58,18,58,21],[58,22,58,30],[58,31,58,34],[59,9,59,17],[59,18,59,21],[59,22,59,30],[59,31,59,34],[51,36,51,41],[51,42,51,45],[52,2,52,8],[52,9,52,12],[52,13,52,18],[52,19,52,22],[52,25,52,31],[52,32,52,35],[52,36,52,41],[52,42,52,45],[51,2,51,8],[51,9,51,12],[51,13,51,18],[51,19,51,22],[51,25,51,31],[51,32,51,35],[49,36,49,41],[49,42,49,45],[50,2,50,8],[50,9,50,12],[50,13,50,18],[50,19,50,22],[50,25,50,31],[50,32,50,35],[50,36,50,41],[50,42,50,45],[49,2,49,8],[49,9,49,12],[49,13,49,18],[49,19,49,22],[49,25,49,31],[49,32,49,35],[47,36,47,41],[47,42,47,45],[48,2,48,8],[48,9,48,12],[48,13,48,18],[48,19,48,22],[48,25,48,31],[48,32,48,35],[48,36,48,41],[48,42,48,45],[47,2,47,8],[47,9,47,12],[47,13,47,18],[47,19,47,22],[47,25,47,31],[47,32,47,35],[45,36,45,41],[45,42,45,45],[46,2,46,8],[46,9,46,12],[46,13,46,18],[46,19,46,22],[46,25,46,31],[46,32,46,35],[46,36,46,41],[46,42,46,45],[45,2,45,8],[45,9,45,12],[45,13,45,18],[45,19,45,22],[45,25,45,31],[45,32,45,35],[43,4,43,20],[43,27,43,43],[44,2,44,8],[44,9,44,12],[44,13,44,18],[44,19,44,22],[44,25,44,31],[44,32,44,35],[44,36,44,41],[44,42,44,45],[40,36,40,41],[40,42,40,45],[41,2,41,8],[41,9,41,12],[41,13,41,18],[41,19,41,22],[41,25,41,31],[41,32,41,35],[41,36,41,41],[41,42,41,45],[40,2,40,8],[40,9,40,12],[40,13,40,18],[40,19,40,22],[40,25,40,31],[40,32,40,35],[38,36,38,41],[38,42,38,45],[39,2,39,8],[39,9,39,12],[39,13,39,18],[39,19,39,22],[39,25,39,31],[39,32,39,35],[39,36,39,41],[39,42,39,45],[38,2,38,8],[38,9,38,12],[38,13,38,18],[38,19,38,22],[38,25,38,31],[38,32,38,35],[36,36,36,41],[36,42,36,45],[37,2,37,8],[37,9,37,12],[37,13,37,18],[37,19,37,22],[37,25,37,31],[37,32,37,35],[37,36,37,41],[37,42,37,45],[36,2,36,8],[36,9,36,12],[36,13,36,18],[36,19,36,22],[36,25,36,31],[36,32,36,35],[35,2,35,8],[35,9,35,12],[35,13,35,18],[35,19,35,22],[35,25,35,31],[35,32,35,35],[33,4,33,20],[33,27,33,43],[34,2,34,8],[34,9,34,12],[34,13,34,18],[34,19,34,22],[34,25,34,31],[34,32,34,35],[34,36,34,41],[34,42,34,45],[31,25,31,31],[31,32,31,35],[31,36,31,41],[31,42,31,45],[29,25,29,31],[29,32,29,35],[29,36,29,41],[29,42,29,45],[35,36,35,41],[35,42,35,45],[27,25,27,31],[27,32,27,35],[27,36,27,41],[27,42,27,45],[28,42,28,45],[29,19,29,22],[30,19,30,22],[27,19,27,22],[27,13,27,18],[29,13,29,18],[30,25,30,31],[30,32,30,35],[30,36,30,41],[30,42,30,45],[30,2,30,8],[31,2,31,8],[30,9,30,12],[31,9,31,12],[30,13,30,18],[31,13,31,18],[27,9,27,12],[29,9,29,12],[27,2,27,8],[29,2,29,8],[26,2,26,8],[26,9,26,12],[26,13,26,18],[25,27,25,43],[26,25,26,31],[26,32,26,35],[26,36,26,41],[26,42,26,45],[26,19,26,22],[11,31,11,34],[12,31,12,34],[13,31,13,34],[12,18,12,21],[20,3,20,15],[11,22,11,30],[13,18,13,21],[14,18,14,21],[13,9,13,17],[14,22,14,30],[13,22,13,30],[14,9,14,17],[31,19,31,22],[25,4,25,20],[8,9,8,17],[9,9,9,17],[12,9,12,17],[12,22,12,30],[6,48,6,70],[10,31,10,34],[7,50,7,69],[8,60,8,68],[8,69,8,72],[8,18,8,21],[9,18,9,21],[10,18,10,21],[11,18,11,21],[10,9,10,17],[11,9,11,17],[7,12,7,31],[8,31,8,34],[8,22,8,30],[9,22,9,30],[10,22,10,30],[14,31,14,34],[9,31,9,34]]}
[]
["zu 8.5 Der Buchungskreislauf der Bilanz-Konten (Bestandskonten)"]
[]
[null,"Das Eröffnungsbilanzkonto muss „seitenverkehrt“ erscheinen, damit die Buchungslogik „Soll AN Haben“ auch bei den Eröffnungsbuchungen erhalten bleibt. \nDie Buchungen der Eröffnungssalden lauten:\nAktivkonto AN Eröffnungsbilanzkonto\nEröffnungsbilanzkonto AN Passivkonto\nDie Abschlussbuchungen am Jahresende sind:\nSchlussbilanzkonto AN Aktivkonto\nPassivkonto AN Schlussbilanzkonto\nBei sach- und regelgerechter Buchung kann es daher nie eine unausgewogene Schlussbilanz geben.\n"]
[]
[null,null,null,null,null,null,null,null,null,null,null,null,null,null,null,null,null,null,null,null,null,null,null,null,null,null,null,null,null,null,null,null,null,null,null,null,null,null,null,null,null,null,null,null,null,null,null,null,null,null," - nur ein Zwischenkonto - "]
[null,null,null,null,null,null,null,null,null,null,null,null,null,null,null,null,null,null,null,null,null,null,null,null,null,null,null,null,null,null,null,null,null,null,null,null,null,null,null,null,null,null,null,null,null,null,null,null,"(spiegelbildliche Darstellung der Eröffnungsbilanz 1.1.)"]
[null,null,null,null,null,null,null,null,null,null,"Aktiva",null,"Eröffnungsbilanz 01.01.",null,null,null,null,null,null,null,null,null,null,null,null,null,null,null,null,null,null,null,"Passiva",null,null,null,null,null,null,null,null,null,null,null,null,null,null,"Passiva",null,null,"Eröffnungsbilanzkonto 01.01.",null,null,null,null,null,null,null,null,null,null,null,null,null,null,null,null,null,null,null,"Aktiva"]
[null,null,null,null,null,null,null,null,null,"Anlagevermögen",null,null,null,null,null,null,null,null,null,null,null,null,"Eigenkapital",null,null,null,null,null,null,null,null,null,null,null,null,null,null,null,null,null,null,null,null,null,null,null,{"$f":"W9","v":"Eigenkapital"},null,null,null,null,null,null,null,null,null,null,null,null,null,{"$f":"J9","v":"Anlagevermögen"}]
[null,null,null,null,null,null,null,null,null,"BGA",null,null,null,null,null,null,null,null,30000,null,null,null,null,null,null,null,null,null,null,null,null,40000,null,null,null,null,null,null,null,null,null,null,null,null,null,null,null,null,null,null,null,null,null,null,null,{"$f":"AF10","v":40000},null,null,null,null,{"$f":"J10","v":"BGA"},null,null,null,null,null,null,null,null,30000]
[null,null,null,null,null,null,null,null,null,"Umlaufvermögen",null,null,null,null,null,null,null,null,null,null,null,null,null,null,null,null,null,null,null,null,null,null,null,null,null,null,null,null,null,null,null,null,null,null,null,null,null,null,null,null,null,null,null,null,null,null,null,null,null,null,{"$f":"J11","v":"Umlaufvermögen"}]
[null,null,null,null,null,null,null,null,null,"Rohstoffe",null,null,null,null,null,null,null,null,20000,null,null,null,"Fremdkapital",null,null,null,null,null,null,null,null,null,null,null,null,null,null,null,null,null,null,null,null,null,null,null,{"$f":"W12","v":"Fremdkapital"},null,null,null,null,null,null,null,null,null,null,null,null,null,{"$f":"J12","v":"Rohstoffe"},null,null,null,null,null,null,null,null,20000]
[null,null,null,null,null,null,null,null,null,"Kasse",null,null,null,null,null,null,null,null,20000,null,null,null,"Darlehen",null,null,null,null,null,null,null,null,25000,null,null,null,null,null,null,null,null,null,null,null,null,null,null,{"$f":"W13","v":"Darlehen"},null,null,null,null,null,null,null,null,{"$f":"AF13","v":25000},null,null,null,null,{"$f":"J13","v":"Kasse"},null,null,null,null,null,null,null,null,{"$f":"S13","v":20000}]
[null,null,null,null,null,null,null,null,null,null,null,null,null,null,null,null,null,null,null,null,null,null,"Lieferschulden",null,null,null,null,null,null,null,null,5000,null,null,null,null,null,null,null,null,null,null,null,null,null,null,{"$f":"W14","v":"Lieferschulden"},null,null,null,null,null,null,null,null,{"$f":"AF14","v":5000}]
[null,null,null,null,null,null,null,null,null,null,null,null,null,null,null,null,null,null,{"$f":"SUM(S9:V14)","v":70000},null,null,null,null,null,null,null,null,null,null,null,null,{"$f":"SUM(AF9:AI14)","v":70000},null,null,null,null,null,null,null,null,null,null,null,null,null,null,null,null,null,null,null,null,null,null,null,{"$f":"SUM(BD9:BG14)","v":70000},null,null,null,null,null,null,null,null,null,null,null,null,null,{"$f":"SUM(BR9:BU14)","v":70000}]
[]
[]
["zu 8.5 Der Buchungskreislauf der Bilanz-Konten"]
[]
[]
[null,null,null,"1. Bestandskonten",null,null,null,null,null,null,null,null,null,null,null,null,null,"Fälle siehe bitte 8.4",null,null,null,null,null,null,null,null,null,null,null,null,null,null,null,null,null,null,null,null,null,null,null,null,null,null,null,null,null,null,"2. Erfolgskonten",null,null,null,null,null,null,null,null,null,null,null,null,null,"werden hier zunächst aus Vereinfachung vernachlässigt"]
[null,null,null,null,null,null,null,null,null,null,null,null,null,null,null,null,null,null,null,null,null,null,null,null,null,null,null,null,null,null,null,null,null,null,null,null,null,null,null,null,null,null,null,null,null,null,null,null,"3. Privatbereich",null,null,null,null,null,null,null,null,null,null,null,null,null,"siehe Kapitel 11"]
[]
[]
[]
[null,null,"Soll",null,{"$f":"BI10","v":"BGA"},null,null,null,null,null,null,null,null,null,null,null,null,null,null,null,null,null,"Haben",null,null,"Soll",null,{"$f":"AU13","v":"Darlehen"},null,null,null,null,null,null,null,null,null,null,null,null,null,null,null,null,null,"Haben"]
[null,null,"AB",null,null,null,null,null,null,{"$f":"BR10","v":30000},null,null,null,"Abgänge",null,null,null,null,null,0,null,null,null,null,null,"Abgänge",null,null,null,null,null,null,0,null,null,null,"AB",null,null,null,null,null,{"$f":"BD13","v":25000}]
[null,null,"Zugänge (1)",null,null,null,null,null,null,8000,null,null,null,null,null,null,null,null,null,null,null,null,null,null,null,null,null,null,null,null,null,null,null,null,null,null,"Zugänge"]
[null,null,null,null,null,null,null,null,null,null,null,null,null,null,null,null,null,null,null,null,null,null,null,null,null,null,null,null,null,null,null,null,null,null,null,null,"(4)",null,null,null,null,null,2000]
[null,null,null,null,null,null,null,null,null,null,null,null,null,"EB",null,null,null,null,null,{"$f":"J27+J28-T27","v":38000},null,null,null,null,null,"EB",null,null,null,null,null,null,{"$f":"AQ27+AQ29-AG27","v":27000}]
[]
[null,null,null,null,null,null,null,null,null,{"$f":"SUM(J27:M31)","v":38000},null,null,null,null,null,null,null,null,null,{"$f":"SUM(T27:W31)","v":38000},null,null,null,null,null,null,null,null,null,null,null,null,{"$f":"SUM(AG27:AJ31)","v":27000},null,null,null,null,null,null,null,null,null,{"$f":"SUM(AQ27:AT31)","v":27000}]
[]
[null,null,"Soll",null,{"$f":"BI12","v":"Rohstoffe"},null,null,null,null,null,null,null,null,null,null,null,null,null,null,null,null,null,"Haben",null,null,"Soll",null,{"$f":"AU14","v":"Lieferschulden"},null,null,null,null,null,null,null,null,null,null,null,null,null,null,null,null,null,"Haben"]
[null,null,"AB",null,null,null,null,null,null,{"$f":"BR12","v":20000},null,null,null,"Abgänge",null,null,null,null,null,0,null,null,null,null,null,"Abgänge",null,null,null,null,null,null,null,null,null,null,"AB",null,null,null,null,null,{"$f":"BD14","v":5000}]
[null,null,null,null,null,null,null,null,null,null,null,null,null,null,null,null,null,null,null,null,null,null,null,null,null,"(2)",null,null,null,null,null,null,6000]
[null,null,"Zugänge",null,null,null,null,null,null,null,null,null,null,null,null,null,null,null,null,null,null,null,null,null,null,"(4)",null,null,null,null,null,null,2000,null,null,null,"Zugänge"]
[null,null,"Kauf (3)",null,null,null,null,null,null,10000,null,null,null,null,null,null,null,null,null,null,null,null,null,null,null,null,null,null,null,null,null,null,null,null,null,null,"(1)",null,null,null,null,null,8000]
[]
[null,null,null,null,null,null,null,null,null,null,null,null,null,"EB",null,null,null,null,null,{"$f":"J35+J38-T35","v":30000},null,null,null,null,null,"EB",null,null,null,null,null,null,{"$f":"AQ35+AQ38+AQ39++AQ40-AG36-AG37-AG38","v":5000}]
[]
[null,null,null,null,null,null,null,null,null,{"$f":"SUM(J35:M41)","v":30000},null,null,null,null,null,null,null,null,null,{"$f":"SUM(T35:W41)","v":30000},null,null,null,null,null,null,null,null,null,null,null,null,{"$f":"SUM(AG35:AJ41)","v":13000},null,null,null,null,null,null,null,null,null,{"$f":"SUM(AQ35:AT41)","v":13000}]
[]
[null,null,"Soll",null,{"$f":"BI13","v":"Kasse"},null,null,null,null,null,null,null,null,null,null,null,null,null,null,null,null,null,"Haben",null,null,"Soll",null,"Eigenkapital",null,null,null,null,null,null,null,null,null,null,null,null,null,null,null,null,null,"Haben"]
[null,null,"AB",null,null,null,null,null,null,{"$f":"BR13","v":20000},null,null,null,"Abgänge",null,null,null,null,null,null,null,null,null,null,null,"Abgänge",null,null,null,null,null,null,null,null,null,null,"AB",null,null,null,null,null,{"$f":"BD10","v":40000}]
[null,null,null,null,null,null,null,null,null,null,null,null,null,"(2)",null,null,null,null,null,6000,null,null,null,null,null,"Privatentnahme",null,null,null,null,null,null,{"$f":"BF54","v":0}]
[null,null,null,null,null,null,null,null,null,null,null,null,null,"(3)",null,null,null,null,null,10000,null,null,null,null,null," Verlust (GuV)",null,null,null,null,null,null,0]
[null,null,"Zugänge",null,null,null,null,null,null,0,null,null,null,null,null,null,null,null,null,null,null,null,null,null,null,null,null,null,null,null,null,null,null,null,null,null,"Zugänge"]
[null,null,null,null,null,null,null,null,null,null,null,null,null,null,null,null,null,null,null,null,null,null,null,null,null,null,null,null,null,null,null,null,null,null,null,null,"Privateinlage",null,null,null,null,null,0]
[null,null,null,null,null,null,null,null,null,null,null,null,null,null,null,null,null,null,null,null,null,null,null,null,null,null,null,null,null,null,null,null,null,null,null,null,"Gewinn (GuV)",null,null,null,null,null,0]
[null,null,null,null,null,null,null,null,null,null,null,null,null,"EB",null,null,null,null,null,{"$f":"J45+J46+J47+J48+J49+J50+J51+J52-T45-T46-T47-T48-T49-T50","v":4000},null,null,null,null,null,"EB",null,null,null,null,null,null,{"$f":"AQ45+AQ46+AQ47+AQ48+AQ49+AQ50+AQ51+AQ52-AG45-AG46-AG47-AG48-AG49-AG50","v":40000}]
[]
[null,null,null,null,null,null,null,null,null,{"$f":"SUM(J45:M52)","v":20000},null,null,null,null,null,null,null,null,null,{"$f":"SUM(T45:W52)","v":20000},null,null,null,null,null,null,null,null,null,null,null,null,{"$f":"SUM(AG45:AJ52)","v":40000},null,null,null,null,null,null,null,null,null,{"$f":"SUM(AQ45:AT52)","v":40000}]
[]
[]
[]
[]
[null,null,null,null,null,null,null,null,null,"Aktiva",null,null,"Schlussbilanz 31.12.",null,null,null,null,null,null,null,null,null,null,null,null,null,null,null,null,null,null,null,"Passiva"]
[null,null,null,null,null,null,null,null,null,"Anlagevermögen",null,null,null,null,null,null,null,null,null,null,null,null,{"$f":"AB44","v":"Eigenkapital"},null,null,null,null,null,null,null,null,{"$f":"AG51","v":40000}]
["Vermögen",null,null,null,null,null,null,null,null,{"$f":"E26","v":"BGA"},null,null,null,null,null,null,null,null,{"$f":"T30","v":38000},null,null,null,null,null,null,null,null,null,null,null,null,null,null,null,null,null,null,"Kapital"]
["Investition",null,null,null,null,null,null,null,null,null,null,null,null,null,null,null,null,null,null,null,null,null,null,null,null,null,null,null,null,null,null,null,null,null,null,null,null,"abnehmende"]
["zunehmende",null,null,null,null,null,null,null,null,"Umlaufvermögen",null,null,null,null,null,null,null,null,null,null,null,null,"Fremdkapital",null,null,null,null,null,null,null,null,null,null,null,null,null,null,"Fristigkeit"]
["Liquidität",null,null,null,null,null,null,null,null,{"$f":"E34","v":"Rohstoffe"},null,null,null,null,null,null,null,null,{"$f":"T40","v":30000},null,null,null,{"$f":"AB26","v":"Darlehen"},null,null,null,null,null,null,null,null,{"$f":"AG30","v":27000},null,null,null,null,null,"Mittel-"]
["Mittel-",null,null,null,null,null,null,null,null,{"$f":"E44","v":"Kasse"},null,null,null,null,null,null,null,null,{"$f":"T51","v":4000},null,null,null,{"$f":"AB34","v":"Lieferschulden"},null,null,null,null,null,null,null,null,{"$f":"AG40","v":5000},null,null,null,null,null,"herkunft"]
["verwendung",null,null,null,null,null,null,null,null,null,null,null,null,null,null,null,null,null,null,null,null,null,null,null,null,null,null,null,null,null,null,null,null,null,null,null,null,"Finanzierung"]
[]
[null,null,null,null,null,null,null,null,null,null,null,null,null,null,null,null,null,null,{"$f":"SUM(S59:V66)","v":72000},null,null,null,null,null,null,null,null,null,null,null,null,{"$f":"SUM(AF59:AI66)","v":72000}]

{"sheet":"8.6 GuV","index":14,"n_rows":75,"n_cols":98,"rows_kept":75,"cut":false,"hidden":false,"merged":[[74,30,74,34],[59,2,59,8],[59,9,59,12],[59,13,59,18],[59,19,59,22],[60,2,60,8],[60,9,60,12],[60,13,60,18],[60,19,60,22],[71,18,71,21],[70,9,70,17],[70,18,70,21],[70,22,70,30],[71,31,71,34],[72,16,72,21],[72,30,72,34],[69,9,69,17],[69,18,69,21],[69,22,69,30],[69,31,69,34],[70,31,70,34],[57,2,57,8],[57,9,57,12],[55,13,55,18],[55,19,55,22],[56,13,56,18],[56,19,56,22],[55,2,55,8],[56,2,56,8],[56,9,56,12],[1,0,1,91],[38,49,38,61],[51,4,51,20],[54,2,54,8],[52,9,52,12],[52,2,52,7],[52,19,52,22],[68,18,68,21],[68,22,68,30],[68,31,68,34],[66,9,66,17],[66,18,66,21],[66,22,66,30],[66,31,66,34],[67,9,67,17],[67,18,67,21],[67,22,67,30],[67,31,67,34],[68,9,68,17],[65,9,65,17],[65,18,65,21],[65,22,65,30],[65,31,65,34],[58,9,58,12],[58,13,58,18],[58,19,58,22],[63,12,63,31],[64,9,64,17],[64,18,64,21],[64,22,64,30],[64,31,64,34],[49,96,49,99],[53,19,53,22],[55,51,55,56],[55,57,55,61],[54,51,54,56],[54,57,54,61],[49,42,49,45],[53,57,53,61],[51,57,51,61],[54,13,54,18],[50,78,50,95],[63,9,63,11],[51,51,51,56],[55,9,55,12],[54,19,54,22],[53,51,53,56],[52,51,52,56],[44,87,44,95],[44,96,44,99],[45,96,45,99],[46,74,46,82],[46,83,46,86],[46,87,46,95],[46,96,46,99],[45,74,45,82],[45,83,45,86],[44,83,44,86],[45,87,45,95],[47,96,47,99],[48,74,48,82],[48,83,48,86],[48,87,48,95],[48,96,48,99],[47,83,47,86],[47,87,47,95],[47,74,47,82],[50,51,50,56],[49,53,49,59],[52,57,52,61],[49,32,49,35],[49,36,49,41],[50,57,50,61],[46,2,46,8],[46,9,46,12],[48,2,48,8],[46,13,46,18],[47,2,47,8],[47,9,47,12],[47,13,47,18],[48,13,48,18],[47,51,47,56],[46,51,46,56],[46,32,46,35],[46,42,46,45],[48,32,48,35],[48,42,48,45],[47,42,47,45],[47,57,47,61],[48,36,48,41],[47,32,47,35],[47,36,47,41],[53,13,53,18],[46,19,46,22],[46,25,46,31],[45,13,45,18],[48,25,48,31],[44,2,44,8],[44,9,44,12],[44,13,44,18],[44,19,44,22],[49,2,49,8],[49,9,49,12],[47,19,47,22],[47,25,47,31],[48,19,48,22],[48,9,48,12],[45,2,45,8],[45,9,45,12],[49,25,49,31],[45,19,45,22],[49,13,49,18],[49,19,49,22],[44,57,44,61],[44,74,44,82],[46,57,46,61],[44,51,44,56],[45,57,45,61],[43,2,43,8],[43,9,43,12],[43,13,43,18],[43,19,43,22],[43,25,43,31],[44,42,44,45],[44,25,44,31],[44,32,44,35],[46,36,46,41],[45,51,45,56],[45,42,45,45],[45,25,45,31],[45,32,45,35],[44,36,44,41],[45,36,45,41],[42,42,42,45],[43,32,43,35],[43,36,43,41],[43,87,43,95],[43,83,43,86],[42,83,42,86],[42,2,42,8],[42,9,42,12],[42,13,42,18],[42,19,42,22],[43,51,43,56],[43,57,43,61],[42,25,42,31],[42,32,42,35],[42,36,42,41],[43,42,43,45],[41,42,41,45],[40,4,40,20],[40,27,40,43],[41,2,41,8],[41,9,41,12],[38,2,38,8],[38,9,38,12],[38,13,38,18],[38,19,38,22],[38,25,38,31],[38,32,38,35],[38,36,38,41],[38,42,38,45],[41,13,41,18],[41,19,41,22],[41,25,41,31],[41,32,41,35],[41,36,41,41],[39,96,39,99],[40,87,40,95],[40,83,40,86],[40,74,40,82],[43,96,43,99],[40,96,40,99],[42,51,42,56],[41,83,41,86],[42,57,42,61],[42,96,42,99],[41,87,41,95],[41,96,41,99],[42,74,42,82],[41,74,41,82],[39,74,39,82],[39,83,39,86],[39,87,39,95],[41,53,41,59],[42,87,42,95],[43,74,43,82],[37,2,37,8],[37,9,37,12],[37,13,37,18],[37,19,37,22],[37,25,37,31],[37,32,37,35],[37,36,37,41],[37,42,37,45],[38,97,38,99],[38,74,38,76],[38,77,38,96],[36,2,36,8],[36,9,36,12],[36,13,36,18],[36,19,36,22],[36,25,36,31],[36,32,36,35],[35,36,35,41],[35,42,35,45],[35,51,35,56],[36,36,36,41],[36,42,36,45],[35,2,35,8],[35,9,35,12],[35,13,35,18],[35,19,35,22],[35,25,35,31],[35,32,35,35],[34,51,34,56],[32,75,32,80],[32,13,32,18],[32,19,32,22],[32,25,32,31],[32,32,32,35],[34,75,34,80],[33,51,33,56],[35,81,35,85],[35,57,35,61],[35,63,35,68],[35,69,35,73],[35,75,35,80],[34,81,34,85],[34,87,34,92],[34,93,34,97],[34,57,34,61],[34,63,34,68],[34,69,34,73],[33,57,33,61],[33,63,33,68],[33,69,33,73],[35,87,35,92],[35,93,35,97],[32,2,32,8],[32,9,32,12],[34,9,34,12],[34,13,34,18],[34,19,34,22],[34,25,34,31],[34,32,34,35],[33,36,33,41],[33,42,33,45],[34,36,34,41],[34,42,34,45],[34,2,34,8],[31,75,31,80],[31,81,31,85],[31,87,31,92],[31,93,31,97],[31,57,31,61],[32,81,32,85],[32,87,32,92],[32,93,32,97],[33,2,33,8],[33,9,33,12],[33,13,33,18],[33,19,33,22],[33,25,33,31],[33,32,33,35],[32,36,32,41],[32,42,32,45],[32,51,32,56],[32,57,32,61],[32,63,32,68],[32,69,32,73],[33,75,33,80],[33,81,33,85],[33,87,33,92],[33,93,33,97],[31,19,31,22],[31,25,31,31],[31,32,31,35],[30,4,30,20],[30,27,30,43],[30,51,30,56],[30,57,30,61],[30,63,30,68],[30,69,30,73],[31,63,31,68],[31,69,31,73],[31,36,31,41],[31,42,31,45],[31,51,31,56],[28,42,28,45],[29,53,29,59],[29,65,29,71],[29,77,29,83],[29,89,29,95],[28,2,28,8],[28,9,28,12],[28,13,28,18],[28,19,28,22],[28,25,28,31],[28,32,28,35],[30,75,30,80],[30,81,30,85],[30,87,30,92],[30,93,30,97],[31,2,31,8],[31,9,31,12],[31,13,31,18],[26,36,26,41],[26,42,26,45],[27,2,27,8],[27,9,27,12],[27,13,27,18],[27,19,27,22],[27,25,27,31],[27,32,27,35],[27,36,27,41],[27,42,27,45],[26,2,26,8],[26,9,26,12],[26,13,26,18],[26,19,26,22],[26,25,26,31],[26,32,26,35],[28,36,28,41],[24,93,24,97],[25,42,25,45],[25,51,25,56],[25,57,25,61],[25,63,25,68],[25,69,25,73],[25,75,25,80],[25,81,25,85],[25,87,25,92],[25,93,25,97],[24,57,24,61],[24,63,24,68],[24,69,24,73],[24,75,24,80],[24,81,24,85],[24,87,24,92],[23,87,23,92],[24,2,24,8],[24,9,24,12],[24,13,24,18],[24,19,24,22],[24,25,24,31],[24,32,24,35],[24,36,24,41],[24,42,24,45],[24,51,24,56],[23,36,23,41],[23,42,23,45],[23,51,23,56],[23,57,23,61],[23,63,23,68],[23,75,23,80],[23,2,23,8],[23,9,23,12],[23,13,23,18],[23,19,23,22],[23,25,23,31],[23,32,23,35],[21,77,21,83],[21,89,21,95],[22,4,22,20],[22,27,22,43],[22,51,22,56],[22,57,22,61],[22,63,22,68],[22,75,22,80],[22,87,22,92],[14,60,14,68],[14,69,14,72],[17,3,17,15],[17,48,17,60],[21,53,21,59],[21,65,21,71],[14,9,14,17],[14,18,14,21],[14,22,14,30],[14,31,14,34],[14,46,14,54],[14,55,14,58],[12,60,12,68],[12,69,12,72],[13,9,13,17],[13,18,13,21],[13,22,13,30],[13,31,13,34],[13,46,13,54],[13,55,13,58],[13,60,13,68],[13,69,13,72],[12,9,12,17],[12,18,12,21],[12,22,12,30],[12,31,12,34],[12,46,12,54],[12,55,12,58],[11,9,11,17],[11,18,11,21],[11,22,11,30],[11,31,11,34],[11,46,11,54],[11,55,11,58],[11,60,11,68],[11,69,11,72],[10,9,10,17],[10,18,10,21],[10,22,10,30],[10,31,10,34],[10,46,10,54],[10,55,10,58],[9,9,9,17],[9,18,9,21],[9,22,9,30],[9,31,9,34],[9,46,9,54],[9,55,9,58],[9,60,9,68],[9,69,9,72],[10,60,10,68],[10,69,10,72],[3,1,3,97],[5,50,5,68],[7,12,7,31],[7,50,7,69],[8,9,8,17],[8,18,8,21],[8,22,8,30],[8,31,8,34],[8,46,8,54],[8,55,8,58],[8,60,8,68],[8,69,8,72]]}
[]
["zu 8.6 Erfolgskonten, GuV und Eigenkapital"]
[]
[null,"Das Eröffnungsbilanzkonto muss „seitenverkehrt“ erscheinen, damit die Buchungslogik „Soll AN Haben“ auch bei den Eröffnungsbuchungen erhalten bleibt. \nDie Buchungen der Eröffnungssalden (bei Geschäftsjahresbeginn bzw. bei Betriebseröffnung) lauten:\nAktivkonto AN Eröffnungsbilanzkonto\nEröffnungsbilanzkonto AN Passivkonto\nDie Abschlussbuchungen am Geschäftsjahresende lauten:\nSchlussbilanzkonto AN Aktivkonto\nPassivkonto AN Schlussbilanzkonto\nBei sach- und regelgerechter Buchung kann es daher nie eine unausgewogene Schlussbilanz geben.\n"]
[]
[null,null,null,null,null,null,null,null,null,null,null,null,null,null,null,null,null,null,null,null,null,null,null,null,null,null,null,null,null,null,null,null,null,null,null,null,null,null,null,null,null,null,null,null,null,null,null,null,null,null," - Zwischenkonto - "]
[]
[null,null,null,null,null,null,null,null,null,null,"Aktiva",null,"Eröffnungsbilanz 01.01.",null,null,null,null,null,null,null,null,null,null,null,null,null,null,null,null,null,null,null,"Passiva",null,null,null,null,null,null,null,null,null,null,null,null,null,null,"Passiva",null,null,"Eröffnungsbilanzkonto 01.01.",null,null,null,null,null,null,null,null,null,null,null,null,null,null,null,null,null,null,null,"Aktiva"]
[null,null,null,null,null,null,null,null,null,"Anlagevermögen",null,null,null,null,null,null,null,null,null,null,null,null,"Eigenkapital",null,null,null,null,null,null,null,null,null,null,null,null,null,null,null,null,null,null,null,null,null,null,null,{"$f":"W9","v":"Eigenkapital"},null,null,null,null,null,null,null,null,null,null,null,null,null,{"$f":"J9","v":"Anlagevermögen"}]
[null,null,null,null,null,null,null,null,null,"BGA",null,null,null,null,null,null,null,null,200000,null,null,null,null,null,null,null,null,null,null,null,null,{"$f":"40000+170000","v":210000},null,null,null,null,null,null,null,null,null,null,null,null,null,null,null,null,null,null,null,null,null,null,null,{"$f":"AF10","v":210000},null,null,null,null,{"$f":"J10","v":"BGA"},null,null,null,null,null,null,null,null,{"$f":"S10","v":200000}]
[null,null,null,null,null,null,null,null,null,"Umlaufvermögen",null,null,null,null,null,null,null,null,null,null,null,null,null,null,null,null,null,null,null,null,null,null,null,null,null,null,null,null,null,null,null,null,null,null,null,null,null,null,null,null,null,null,null,null,null,null,null,null,null,null,{"$f":"J11","v":"Umlaufvermögen"}]
[null,null,null,null,null,null,null,null,null,"Rohstoffe",null,null,null,null,null,null,null,null,20000,null,null,null,"Fremdkapital",null,null,null,null,null,null,null,null,null,null,null,null,null,null,null,null,null,null,null,null,null,null,null,{"$f":"W12","v":"Fremdkapital"},null,null,null,null,null,null,null,null,null,null,null,null,null,{"$f":"J12","v":"Rohstoffe"},null,null,null,null,null,null,null,null,20000]
[null,null,null,null,null,null,null,null,null,"Kasse",null,null,null,null,null,null,null,null,20000,null,null,null,"Darlehen",null,null,null,null,null,null,null,null,25000,null,null,null,null,null,null,null,null,null,null,null,null,null,null,{"$f":"W13","v":"Darlehen"},null,null,null,null,null,null,null,null,{"$f":"AF13","v":25000},null,null,null,null,{"$f":"J13","v":"Kasse"},null,null,null,null,null,null,null,null,{"$f":"S13","v":20000}]
[null,null,null,null,null,null,null,null,null,null,null,null,null,null,null,null,null,null,null,null,null,null,"Lieferschulden",null,null,null,null,null,null,null,null,5000,null,null,null,null,null,null,null,null,null,null,null,null,null,null,{"$f":"W14","v":"Lieferschulden"},null,null,null,null,null,null,null,null,{"$f":"AF14","v":5000}]
[null,null,null,null,null,null,null,null,null,null,null,null,null,null,null,null,null,null,{"$f":"SUM(S9:V14)","v":240000},null,null,null,null,null,null,null,null,null,null,null,null,{"$f":"SUM(AF9:AI14)","v":240000},null,null,null,null,null,null,null,null,null,null,null,null,null,null,null,null,null,null,null,null,null,null,null,{"$f":"SUM(BD9:BG14)","v":240000},null,null,null,null,null,null,null,null,null,null,null,null,null,{"$f":"SUM(BR9:BU14)","v":240000}]
[]
[]
[null,null,null,"1. Bestandskonten",null,null,null,null,null,null,null,null,null,null,null,null,null,"Fälle siehe bitte 8.4",null,null,null,null,null,null,null,null,null,null,null,null,null,null,null,null,null,null,null,null,null,null,null,null,null,null,null,null,null,null,"2. Erfolgskonten"]
[]
[null,null,null,null,null,null,null,null,null,null,null,null,null,null,null,null,null,null,null,null,null,null,null,null,null,null,null,null,null,null,null,null,null,null,null,null,null,null,null,null,null,null,null,null,null,null,null,null,null,"Aufwandskonten = Unterkonten der GuV"]
[]
[null,null,null,null,null,null,null,null,null,null,null,null,null,null,null,null,null,null,null,null,null,null,null,null,null,null,null,null,null,null,null,null,null,null,null,null,null,null,null,null,null,null,null,null,null,null,null,null,null,null,null,"Soll",null,"Rohstoffaufwand",null,null,null,null,null,null,null,"Haben",null,"Soll",null,"Löhne/Gehälter",null,null,null,null,null,null,null,"Haben",null,"Soll",null,"Sozialvers. AG",null,null,null,null,null,null,null,"Haben",null,"Soll",null,"Abschreibungen",null,null,null,null,null,null,null,"Haben"]
[null,null,"Soll",null,{"$f":"BI10","v":"BGA"},null,null,null,null,null,null,null,null,null,null,null,null,null,null,null,null,null,"Haben",null,null,"Soll",null,{"$f":"AU13","v":"Darlehen"},null,null,null,null,null,null,null,null,null,null,null,null,null,null,null,null,null,"Haben",null,null,null,null,null,30000,null,null,null,null,null,null,null,null,null,null,null,20000,null,null,null,null,null,null,null,null,null,null,null,18000,null,null,null,null,null,null,null,null,null,null,null,{"$f":"T25","v":42000}]
[null,null,"AB",null,null,null,null,null,null,{"$f":"BR10","v":200000},null,null,null,"Abgänge",null,null,null,null,null,null,null,null,null,null,null,"Abgänge",null,null,null,null,null,null,0,null,null,null,"AB",null,null,null,null,null,{"$f":"BD13","v":25000},null,null,null,null,null,null,null,null,null,null,null,null,null,null,null,null,null,null,null,null,15000]
[null,null,"Zugänge (1)",null,null,null,null,null,null,8000,null,null,null,"(9) Abschreibung",null,null,null,null,null,42000,null,null,null,null,null,null,null,null,null,null,null,null,null,null,null,null,"Zugänge",null,null,null,null,null,null,null,null,null,null,null,null,null,null,null,null,null,null,null,null,{"$f":"AZ23+AZ24","v":30000},null,null,null,null,null,null,null,null,null,null,null,{"$f":"BL23+BL24","v":35000},null,null,null,null,null,null,null,null,null,null,null,{"$f":"BX23+BX24","v":18000},null,null,null,null,null,null,null,null,null,null,null,{"$f":"CJ23+CJ24","v":42000}]
[null,null,null,null,null,null,null,null,null,null,null,null,null,null,null,null,null,null,null,null,null,null,null,null,null,null,null,null,null,null,null,null,null,null,null,null,"(4)",null,null,null,null,null,2000,null,null,null,null,null,null,null,null,{"$f":"AZ23+AZ24+AZ25","v":30000},null,null,null,null,null,{"$f":"BF25","v":30000},null,null,null,null,null,{"$f":"BL23+BL24+BL25","v":35000},null,null,null,null,null,{"$f":"BR25","v":35000},null,null,null,null,null,{"$f":"BX23+BX24+BX25","v":18000},null,null,null,null,null,{"$f":"CD25","v":18000},null,null,null,null,null,{"$f":"CJ23+CJ24+CJ25","v":42000},null,null,null,null,null,{"$f":"CP25","v":42000}]
[null,null,null,null,null,null,null,null,null,null,null,null,null,"EB",null,null,null,null,null,{"$f":"J24+J25-T25","v":166000},null,null,null,null,null,"EB",null,null,null,null,null,null,{"$f":"AQ24+AQ26-AG24","v":27000}]
[null,null,null,null,null,null,null,null,null,null,null,null,null,null,null,null,null,null,null,null,null,null,null,null,null,null,null,null,null,null,null,null,null,null,null,null,null,null,null,null,null,null,null,null,null,null,null,null,null,"Ertragskonten = Unterkonten der GuV"]
[null,null,null,null,null,null,null,null,null,{"$f":"SUM(J24:M28)","v":208000},null,null,null,null,null,null,null,null,null,{"$f":"SUM(T24:W28)","v":208000},null,null,null,null,null,null,null,null,null,null,null,null,{"$f":"SUM(AG24:AJ28)","v":27000},null,null,null,null,null,null,null,null,null,{"$f":"SUM(AQ24:AT28)","v":27000}]
[null,null,null,null,null,null,null,null,null,null,null,null,null,null,null,null,null,null,null,null,null,null,null,null,null,null,null,null,null,null,null,null,null,null,null,null,null,null,null,null,null,null,null,null,null,null,null,null,null,null,null,"Soll",null,"Umsatzerlöse",null,null,null,null,null,null,null,"Haben",null,"Soll",null,"Bestandsver.",null,null,null,null,null,null,null,"Haben",null,"Soll",null,"sonstige Erträge",null,null,null,null,null,null,null,"Haben",null,"Soll",null,"Zinserträge",null,null,null,null,null,null,null,"Haben"]
[null,null,"Soll",null,{"$f":"BI12","v":"Rohstoffe"},null,null,null,null,null,null,null,null,null,null,null,null,null,null,null,null,null,"Haben",null,null,"Soll",null,{"$f":"AU14","v":"Lieferschulden"},null,null,null,null,null,null,null,null,null,null,null,null,null,null,null,null,null,"Haben",null,null,null,null,null,null,null,null,null,null,null,{"$f":"J56","v":120000},null,null,null,null,null,null,null,null,null,null,null,0,null,null,null,null,null,null,null,null,null,null,null,{"$f":"J57","v":15000},null,null,null,null,null,null,null,null,null,null,null,{"$f":"J58","v":5000}]
[null,null,"AB",null,null,null,null,null,null,{"$f":"BR12","v":20000},null,null,null,"Abgänge",null,null,null,null,null,null,null,null,null,null,null,"Abgänge",null,null,null,null,null,null,null,null,null,null,"AB",null,null,null,null,null,{"$f":"BD14","v":5000}]
[null,null,null,null,null,null,null,null,null,null,null,null,null,"(5) Verbrauch",null,null,null,null,null,{"$f":"AZ23","v":30000},null,null,null,null,null,"(2)",null,null,null,null,null,null,6000]
[null,null,"Zugänge",null,null,null,null,null,null,null,null,null,null,null,null,null,null,null,null,null,null,null,null,null,null,"(4)",null,null,null,null,null,null,2000,null,null,null,"Zugänge"]
[null,null,"Kauf (3)",null,null,null,null,null,null,10000,null,null,null,null,null,null,null,null,null,null,null,null,null,null,null,null,null,null,null,null,null,null,null,null,null,null,"(1)",null,null,null,null,null,8000,null,null,null,null,null,null,null,null,{"$f":"BF31+BF32+BF33+BF34-AZ31-AZ32-AZ33-AZ34","v":120000},null,null,null,null,null,null,null,null,null,null,null,{"$f":"BR31+BR32+BR33+BR34+BR35","v":0},null,null,null,null,null,null,null,null,null,null,null,{"$f":"CD31+CD32+CD33+CD34+CD35","v":15000},null,null,null,null,null,null,null,null,null,null,null,{"$f":"CP31+CP32+CP33+CP34+CP35","v":5000}]
[null,null,null,null,null,null,null,null,null,null,null,null,null,null,null,null,null,null,null,null,null,null,null,null,null,null,null,null,null,null,null,null,null,null,null,null,null,null,null,null,null,null,null,null,null,null,null,null,null,null,null,{"$f":"AZ35","v":120000},null,null,null,null,null,{"$f":"BF31+BF32+BF33+BF34+BF35","v":120000},null,null,null,null,null,{"$f":"BL35","v":0},null,null,null,null,null,{"$f":"BR31+BR32+BR33+BR34+BR35","v":0},null,null,null,null,null,{"$f":"BX35","v":15000},null,null,null,null,null,{"$f":"CD31+CD32+CD33+CD34+CD35","v":15000},null,null,null,null,null,{"$f":"CJ35","v":5000},null,null,null,null,null,{"$f":"CP31+CP32+CP33+CP34+CP35","v":5000}]
[null,null,null,null,null,null,null,null,null,null,null,null,null,"EB",null,null,null,null,null,{"$f":"J32+J35+J36+J37-T33-T34","v":0},null,null,null,null,null,"EB",null,null,null,null,null,null,{"$f":"AQ32+AQ35+AQ36++AQ37-AG33-AG34-AG35","v":5000}]
[]
[null,null,null,null,null,null,null,null,null,{"$f":"SUM(J32:M38)","v":30000},null,null,null,null,null,null,null,null,null,{"$f":"SUM(T32:W38)","v":30000},null,null,null,null,null,null,null,null,null,null,null,null,{"$f":"SUM(AG32:AJ38)","v":13000},null,null,null,null,null,null,null,null,null,{"$f":"SUM(AQ32:AT38)","v":13000},null,null,null,null,null,null,"3. Privatbereich",null,null,null,null,null,null,null,null,null,null,null,null,null,null,null,null,null,null,null,null,null,null,null,null,"Aufwand",null,null,"Gewinn- und Verlustrechnung",null,null,null,null,null,null,null,null,null,null,null,null,null,null,null,null,null,null,null,"Ertrag"]
[null,null,null,null,null,null,null,null,null,null,null,null,null,null,null,null,null,null,null,null,null,null,null,null,null,null,null,null,null,null,null,null,null,null,null,null,null,null,null,null,null,null,null,null,null,null,null,null,null,null,null,null,null,null,null,null,null,null,null,null,null,null,null,null,null,null,null,null,null,null,null,null,null,null,{"$f":"BB22","v":"Rohstoffaufwand"},null,null,null,null,null,null,null,null,{"$f":"BF25","v":30000},null,null,null,{"$f":"BB30","v":"Umsatzerlöse"},null,null,null,null,null,null,null,null,{"$f":"AZ35","v":120000}]
[null,null,"Soll",null,{"$f":"BI13","v":"Kasse"},null,null,null,null,null,null,null,null,null,null,null,null,null,null,null,null,null,"Haben",null,null,"Soll",null,"Eigenkapital",null,null,null,null,null,null,null,null,null,null,null,null,null,null,null,null,null,"Haben",null,null,null,null,null,null,null,null,null,null,null,null,null,null,null,null,null,null,null,null,null,null,null,null,null,null,null,null,{"$f":"BN22","v":"Löhne/Gehälter"},null,null,null,null,null,null,null,null,{"$f":"BR25","v":35000},null,null,null,{"$f":"BN30","v":"Bestandsver."},null,null,null,null,null,null,null,null,{"$f":"BL35","v":0}]
[null,null,"AB",null,null,null,null,null,null,{"$f":"BR13","v":20000},null,null,null,"Abgänge",null,null,null,null,null,null,null,null,null,null,null,"Abgänge",null,null,null,null,null,null,null,null,null,null,"AB",null,null,null,null,null,{"$f":"BD10","v":210000},null,null,null,null,null,null,null,null,"Soll",null,{"$f":"AK46","v":"Privateinlage"},null,null,null,null,null,null,null,"Haben",null,null,null,null,null,null,null,null,null,null,null,null,{"$f":"BZ22","v":"Sozialvers. AG"},null,null,null,null,null,null,null,null,{"$f":"CD25","v":18000},null,null,null,{"$f":"BZ30","v":"sonstige Erträge"},null,null,null,null,null,null,null,null,{"$f":"BX35","v":15000}]
[null,null,null,null,null,null,null,null,null,null,null,null,null,"(2)",null,null,null,null,null,6000,null,null,null,null,null,"Privatentnahme",null,null,null,null,null,null,{"$f":"BF55","v":0},null,null,null,null,null,null,null,null,null,null,null,null,null,null,null,null,null,null,null,null,null,null,null,null,null,null,null,null,null,null,null,null,null,null,null,null,null,null,null,null,null,{"$f":"CL22","v":"Abschreibungen"},null,null,null,null,null,null,null,null,{"$f":"CP25","v":42000},null,null,null,{"$f":"CL30","v":"Zinserträge"},null,null,null,null,null,null,null,null,{"$f":"CJ35","v":5000}]
[null,null,null,null,null,null,null,null,null,null,null,null,null,"(3)",null,null,null,null,null,10000,null,null,null,null,null," Verlust (GuV)",null,null,null,null,null,null,0]
[null,null,"Zugänge",null,null,null,null,null,null,0,null,null,null,null,null,null,null,null,null,null,null,null,null,null,null,null,null,null,null,null,null,null,null,null,null,null,"Zugänge"]
[null,null,null,null,null,null,null,null,null,null,null,null,null,null,null,null,null,null,null,null,null,null,null,null,null,null,null,null,null,null,null,null,null,null,null,null,"Privateinlage",null,null,null,null,null,{"$f":"AZ47","v":0}]
[null,null,null,null,null,null,null,null,null,null,null,null,null,null,null,null,null,null,null,null,null,null,null,null,null,null,null,null,null,null,null,null,null,null,null,null,{"$f":"BW47","v":"(13) Gewinn"},null,null,null,null,null,{"$f":"CF47","v":15000},null,null,null,null,null,null,null,null,{"$f":"BF43+BF44+BF45+BF46+BF47","v":0},null,null,null,null,null,null,null,null,null,null,null,null,null,null,null,null,null,null,null,null,null,null,"(13) Gewinn",null,null,null,null,null,null,null,null,{"$f":"CS40+CS41+CS42+CS43+CS44+CS45+CS46-CF40-CF41-CF42-CF43-CF44-CF45-CF46","v":15000},null,null,null,"Verlust"]
[null,null,null,null,null,null,null,null,null,null,null,null,null,"EB",null,null,null,null,null,{"$f":"J42+J43+J44+J45+J46+J47+J48+J49-T42-T43-T44-T45-T46-T47","v":4000},null,null,null,null,null,"EB",null,null,null,null,null,null,{"$f":"AQ42+AQ43+AQ44+AQ45+AQ46+AQ47+AQ48+AQ49-AG42-AG43-AG44-AG45-AG46-AG47","v":225000},null,null,null,null,null,null,null,null,null,null,null,null,null,null,null,null,null,null,{"$f":"AZ47","v":0},null,null,null,null,null,{"$f":"BF43+BF44+BF45+BF46+BF47","v":0}]
[null,null,null,null,null,null,null,null,null,null,null,null,null,null,null,null,null,null,null,null,null,null,null,null,null,null,null,null,null,null,null,null,null,null,null,null,null,null,null,null,null,null,null,null,null,null,null,null,null,null,null,null,null,null,null,null,null,null,null,null,null,null,null,null,null,null,null,null,null,null,null,null,null,null,null,null,null,null,null,null,null,null,null,{"$f":"SUM(CF40:CI47)","v":140000},null,null,null,null,null,null,null,null,null,null,null,null,{"$f":"SUM(CS40:CV47)","v":140000}]
[null,null,null,null,null,null,null,null,null,{"$f":"SUM(J42:M49)","v":20000},null,null,null,null,null,null,null,null,null,{"$f":"SUM(T42:W49)","v":20000},null,null,null,null,null,null,null,null,null,null,null,null,{"$f":"SUM(AG42:AJ49)","v":225000},null,null,null,null,null,null,null,null,null,{"$f":"SUM(AQ42:AT49)","v":225000},null,null,null,null,null,null,null,null,"Soll",null,{"$f":"Z43","v":"Privatentnahme"},null,null,null,null,null,null,null,"Haben",null,null,null,null,null,null,null,null,null,null,null,null,null,null,null,null,null,null,null,null,null,null,null,null,null,null,null,null,null,null,null,null,null,"Kontrolle: Summendifferenz",{"$f":"CS49-CF49","v":0}]
[]
[null,null,"Soll",null,"Bank",null,null,null,null,null,null,null,null,null,null,null,null,null,null,null,null,null,"Haben"]
[null,null,"AB",null,null,null,null,null,null,0]
[null,null,null,null,null,null,null,null,null,null,null,null,null,"Abgänge"]
[null,null,"Zugänge",null,null,null,null,null,null,null,null,null,null,"(6) Löhne",null,null,null,null,null,{"$f":"BL23","v":20000},null,null,null,null,null,null,null,null,null,null,null,null,null,null,null,null,null,null,null,null,null,null,null,null,null,null,null,null,null,null,null,null,null,null,null,null,null,{"$f":"AZ51+AZ52+AZ53+AZ54","v":0}]
[null,null,"(10) Verkauf",null,null,null,null,null,null,120000,null,null,null,"(7) Gehälter",null,null,null,null,null,{"$f":"BL24","v":15000},null,null,null,null,null,null,null,null,null,null,null,null,null,null,null,null,null,null,null,null,null,null,null,null,null,null,null,null,null,null,null,{"$f":"AZ51+AZ52+AZ53+AZ54+AZ55","v":0},null,null,null,null,null,{"$f":"BF55","v":0}]
[null,null,"(11) sonstiges",null,null,null,null,null,null,15000,null,null,null,"(8) SV-Beiträge",null,null,null,null,null,{"$f":"BX23","v":18000}]
[null,null,"(12) Zinsertrag",null,null,null,null,null,null,5000]
[null,null,null,null,null,null,null,null,null,null,null,null,null,"EB",null,null,null,null,null,{"$f":"J53+J56+J57+J58-T55-T56-T57","v":87000}]
[]
[null,null,null,null,null,null,null,null,null,{"$f":"SUM(J53:M60)","v":140000},null,null,null,null,null,null,null,null,null,{"$f":"SUM(T53:W60)","v":140000}]
[]
[]
[null,null,null,null,null,null,null,null,null,"Aktiva",null,null,"Schlussbilanz 31.12.",null,null,null,null,null,null,null,null,null,null,null,null,null,null,null,null,null,null,null,"Passiva"]
[null,null,null,null,null,null,null,null,null,"Anlagevermögen",null,null,null,null,null,null,null,null,null,null,null,null,{"$f":"AB41","v":"Eigenkapital"},null,null,null,null,null,null,null,null,{"$f":"AG48","v":225000}]
["Vermögen",null,null,null,null,null,null,null,null,{"$f":"E23","v":"BGA"},null,null,null,null,null,null,null,null,{"$f":"T27","v":166000},null,null,null,null,null,null,null,null,null,null,null,null,null,null,null,null,null,null,"Kapital"]
["Investition",null,null,null,null,null,null,null,null,null,null,null,null,null,null,null,null,null,null,null,null,null,null,null,null,null,null,null,null,null,null,null,null,null,null,null,null,"abnehmende"]
["zunehmende",null,null,null,null,null,null,null,null,"Umlaufvermögen",null,null,null,null,null,null,null,null,null,null,null,null,"Fremdkapital",null,null,null,null,null,null,null,null,null,null,null,null,null,null,"Fristigkeit"]
["Liquidität",null,null,null,null,null,null,null,null,{"$f":"E31","v":"Rohstoffe"},null,null,null,null,null,null,null,null,{"$f":"T37","v":0},null,null,null,{"$f":"AB23","v":"Darlehen"},null,null,null,null,null,null,null,null,{"$f":"AG27","v":27000},null,null,null,null,null,"Mittel-"]
["Mittel-",null,null,null,null,null,null,null,null,{"$f":"E52","v":"Bank"},null,null,null,null,null,null,null,null,{"$f":"T59","v":87000},null,null,null,{"$f":"AB31","v":"Lieferschulden"},null,null,null,null,null,null,null,null,{"$f":"AG37","v":5000},null,null,null,null,null,"herkunft"]
["verwendung",null,null,null,null,null,null,null,null,{"$f":"E41","v":"Kasse"},null,null,null,null,null,null,null,null,{"$f":"T48","v":4000},null,null,null,null,null,null,null,null,null,null,null,null,null,null,null,null,null,null,"Finanzierung"]
[]
[null,null,null,null,null,null,null,null,null,null,null,null,null,null,null,null,{"$f":"SUM(S65:V72)","v":257000},null,null,null,null,null,null,null,null,null,null,null,null,null,{"$f":"SUM(AF65:AI72)","v":257000}]
[]
[null,null,null,null,null,null,null,null,null,null,null,null,null,null,null,null,null,null,null,null,null,null,null,null,null,null,null,null,null,"Kontrolle: Bilanzsummendifferenz",{"$f":"Q73-AE73","v":0}]

{"sheet":"Übung 8","index":15,"n_rows":39,"n_cols":38,"rows_kept":39,"cut":false,"hidden":false,"merged":[[32,9,32,17],[32,18,32,21],[32,22,32,30],[32,31,32,34],[37,1,37,51],[38,1,38,51],[33,9,33,17],[33,18,33,21],[33,22,33,30],[33,31,33,34],[34,9,34,17],[34,18,34,21],[34,22,34,30],[34,31,34,34],[30,9,30,17],[30,18,30,21],[30,22,30,30],[30,31,30,34],[31,9,31,17],[31,18,31,21],[31,22,31,30],[31,31,31,34],[28,9,28,17],[28,18,28,21],[28,22,28,30],[28,31,28,34],[29,9,29,17],[29,18,29,21],[29,22,29,30],[29,31,29,34],[26,9,26,17],[26,18,26,21],[26,22,26,30],[26,31,26,34],[27,9,27,17],[27,18,27,21],[27,22,27,30],[27,31,27,34],[24,9,24,17],[24,18,24,21],[24,22,24,30],[24,31,24,34],[25,9,25,17],[25,18,25,21],[25,22,25,30],[25,31,25,34],[22,18,22,21],[22,22,22,30],[22,31,22,34],[23,9,23,17],[23,18,23,21],[23,22,23,30],[23,31,23,34],[21,9,21,17],[21,18,21,21],[21,22,21,30],[21,31,21,34],[19,9,19,11],[19,12,19,31],[20,9,20,17],[20,18,20,21],[20,22,20,30],[20,31,20,34],[17,1,17,51],[12,1,12,51],[10,1,10,51],[3,1,3,51],[5,1,5,51],[7,1,7,51]]}
[]
[null,"8","Übungsaufgabe: Bestands-/ Erfolgsbuchungen"]
[]
[null,"Bilden Sie Buchungssätze für die folgenden Geschäftsvorfälle. Nur Bilanzkonten sind zu berücksichtigen. \nDie Umsatzsteuer soll in dieser Übung nicht betrachtet werden:\n1. Kauf eines Dienstfahrzeuges auf Rechnung\n2. Einzahlung von der Kasse auf das Bankkonto\n3. Kauf einer Ware vom Lieferanten auf Rechnung\n4. Rücksendung der Ware aus der vorstehenden Aufgabe wegen Mängeln\n5. Wir nehmen ein Darlehen bei der Bank auf, das unbar (also auf das Bankkonto) ausgezahlt wird\n6. Wir gewähren einem Kunden ein Darlehen als Barzahlung\n7. Ein Kunde, dem wir letztes Jahr eine Ware verkauft hatten, zahlt seine Schulden bei uns durch Überweisung\n8. Der Inhaber legt Kapital durch Barzahlung in das Unternehmen ein\n9. Wir zahlen eine Forderung eines Lieferanten, indem wir ihm eine Forderung übereignen (Forderungszession)\n10. Kauf eines Computers mit Anzahlung in bar; der Rest wird erst in 4 Wochen fällig\n"]
[]
[null,"Bilden Sie Buchungssätze für die folgenden Geschäftsvorfälle. Verwenden Sie Bilanz- und Erfolgskonten. \nDie Umsatzsteuer soll in dieser Übung nicht betrachtet werden:\n1. Wir kaufen eine Ware vom Lieferanten auf Rechnung\n2. Wir verkaufen einem Kunden die Ware aus der vorstehenden Aufgabe gegen Barzahlung\n3. Wir zahlen eine Tilungsrate und Zinsen auf ein Darlehen durch Banklastschrift\n4. Verbrauch von Rohstoffen, gebucht per Materialentnahmeschein\n5. Ein Teil der Rohstoffe aus der vorstehenden Aufgabe wurde nicht verbraucht und kommt zurück ins Lager\n6. Wir kaufen Rohstoffe von einem Lieferanten auf Rechnung\n7. Die Miete für das Bürogebäude wird fällig\n8. Die Miete aus der vorstehenden Aufgabe wird durch Bankabbuchung gezahlt\n9. Wir erhalten einen Steuerbescheid über Gewerbesteuer\n10. Der Inhaber erhält einen Einkommensteuerbescheid\n11. Kasse AN Maschinen und Außerordentliche Erträge\n12. Die GuV wird mit Gewinn abgeschlossen (Einzelkaufmann)\n"]
[]
[null,"Welche Geschäftsfälle haben zu den nachstehenden Buchungen geführt?\n1. Forderungen AN Warenverkauf\n2. Warenverkauf AN Forderungen\n3. Bank AN Darlehensforderungen und Zinsertrag\n4. Forderungen und Kasse AN Verkaufserlöse\n5. Außerordentlicher Aufwand AN Kasse\n6. Außerordentlicher Aufwand AN Rohstoffe\n7. Löhne und Sozialaufwendungen AN Verbindlichkeiten Mitarbeiter, Verbindlichkeiten Finanzamt, Verbindlichkeiten Sozialversicherung\n8. Instandhaltungsaufwendungen AN Kasse\n9. Lizenzen/immaterielle Vermögensgegenstände an Verbindlichkeiten\n10. Warenverkauf AN GuV\n11. Schlussbilanz AN Hilfsstoffe\n12. Eigenkapital AN GuV (Einzelkaufmann)\n"]
[null,"8","Lösung: Bestands-/Erfolgsbuchungen"]
[]
[null,"1. Fuhrpark AN Verbindlichkeiten\n2. Bank AN Kasse\n3. Waren AN Verbindlichkeiten\n4. Verbindlichkeiten AN Waren\n5. Bank AN Darlehensverbindlichkeiten\n6. Darlehensforderungen AN Kasse\n7. Bank AN Forderungen\n8. Kasse AN Eigenkapital (bzw. Kasse AN Privat = Unterkonto des Eigenkapitals!)\n9. Verbindlichkeiten AN Forderungen\n10. Geschäftsausstattung AN Kasse und Verbindlichkeiten\n"]
[]
[null,"1. Wareneinkauf AN Verbindlichkeiten bzw. Abwicklung über das Privatkonto\n2. Kasse AN Warenverkauf \nHinweis: der Warenverkauf muss über zwei Konten abgewickelt werden!\n3. Darlehensverbindlichkeiten und Zinsaufwand AN Bank\n4. Rohstoffaufwand AN Rohstoffe\n5. Rohstoffe AN Rohstoffaufwand\n6. Rohstoffe AN Verbindlichkeiten\n7. Mietaufwand AN Verbindlichkeiten\n8. Verbindlichkeiten AN Bank\n9. Gewerbesteueraufwendungen AN Verbindlichkeiten Finanzamt\n10. Keine Buchung, weil kein betrieblicher Vorgang\n11. Verkauf einer Altanlage über Buchwert gegen Barzahlung\n12. GuV AN Eigenkapitel\n"]
[]
[]
[null,"8","Übungsaufgabe: Gesamtübung"]
[]
[null,"Ein kleiner Handelsbetrieb stellt zu Beginn eines Jahres die folgende Eröffnungsbilanz auf:"]
[]
[null,null,null,null,null,null,null,null,null,"Aktiva",null,null,"Bilanz 01.01.201X",null,null,null,null,null,null,null,null,null,null,null,null,null,null,null,null,null,null,null,"Passiva"]
[null,null,null,null,null,null,null,null,null,"Anlagevermögen",null,null,null,null,null,null,null,null,null,null,null,null,"Eigenkapital"]
[null,null,null,null,null,null,null,null,null,null,null,null,null,null,null,null,null,null,null,null,null,null,null,null,null,null,null,null,null,null,null,26000]
["zunehmende",null,null,null,null,null,null,null,null,"Betriebs- und",null,null,null,null,null,null,null,null,null,null,null,null,null,null,null,null,null,null,null,null,null,null,null,null,null,null,null,"abnehmende"]
["Liquidität",null,null,null,null,null,null,null,null,"Geschäftsausstattung",null,null,null,null,null,null,null,null,40000,null,null,null,null,null,null,null,null,null,null,null,null,null,null,null,null,null,null,"Fristigkeit"]
[]
["Mittel-",null,null,null,null,null,null,null,null,null,null,null,null,null,null,null,null,null,null,null,null,null,null,null,null,null,null,null,null,null,null,null,null,null,null,null,null,"Mittel-"]
["verwendung",null,null,null,null,null,null,null,null,null,null,null,null,null,null,null,null,null,null,null,null,null,null,null,null,null,null,null,null,null,null,null,null,null,null,null,null,"herkunft"]
[null,null,null,null,null,null,null,null,null,"Umlaufvermögen",null,null,null,null,null,null,null,null,null,null,null,null,"Fremdkapital"]
[null,null,null,null,null,null,null,null,null,"Waren",null,null,null,null,null,null,null,null,10000,null,null,null,"Verbindlichkeiten (Kreditinstitute)",null,null,null,null,null,null,null,null,30000]
[null,null,null,null,null,null,null,null,null,"Bank",null,null,null,null,null,null,null,null,5000]
[null,null,null,null,null,null,null,null,null,"Kasse",null,null,null,null,null,null,null,null,1000]
[]
[]
[]
[null,null,null,null,null,null,null,null,null,null,null,null,null,null,null,null,null,null,{"$f":"SUM(S22:V33)","v":56000},null,null,null,null,null,null,null,null,null,null,null,null,{"$f":"SUM(AF22:AI33)","v":56000}]
[]
[]
[null,"Im Laufe des Geschäftsjahres sind die folgenden Buchungen beispielhaft zu erfassen:\n1. Ein neuer Computer im Wert von 2.000 Euro wird auf Ziel (d.h. gegen Rechnung) gekauft.\n2. Für den Computer aus Nr. 1 werden durch Überweisung 1.000 Euro angezahlt.\n3. Es werden Waren im Wert von 6.000 Euro gegen direkte Banklastschrift gekauft.\n4. Die Miete für den Laden i.H.v. 2.000 Euro wird vom Bankkonto abgebucht.\n5. Ein Kunde kauft Waren zum Verkaufspreis von 15.000 Euro gegen direkte Bankbuchung (EC-Karte). Diese Waren hatten einen Einkaufspreis i.H.v. 9.000 Euro.\n6. Die Bank bucht für das bestehende Darlehen: 5.000 Euro Zinsen und 8.000 Euro Tilgung.\n7. An eine studentische Aushilfe werden 400 Euro Lohn in bar bezahlt. Beiträge zur Zwangsversicherung sollen nicht betrachtet werden.\n8. Die Schlussinventur findet Waren im Wert von 7.000 Euro im Lager.\n"]
[null,"\nAufgaben:\n1. Buchen Sie alle Buchungen im Grundbuch (Journal), \nd.h. erstellen Sie die Buchungssätze, die diese Buchungsfälle abbilden.\n2. Buchen Sie im Hauptbuch, d.h. führen Sie T-Konten.\n3. Stellen Sie eine ordnungsgemäße GuV-Rechnung auf.\n4. Ermitteln Sie die Schlussbilanz des Geschäftsjahres.\n"]

{"sheet":"8 Anlage","index":16,"n_rows":52,"n_cols":35,"rows_kept":52,"cut":false,"hidden":false,"merged":[[122,1,122,10],[120,12,120,21],[120,23,120,32],[120,34,120,43],[119,1,119,10],[120,1,120,10],[121,1,121,10],[119,12,119,21],[119,23,119,32],[119,34,119,43],[118,12,118,21],[118,23,118,32],[118,34,118,43],[114,1,114,10],[111,23,111,32],[111,34,111,43],[118,1,118,10],[116,12,116,21],[116,23,116,32],[116,34,116,43],[115,1,115,10],[117,12,117,21],[117,23,117,32],[111,12,111,21],[112,23,112,32],[112,34,112,43],[113,12,113,21],[113,23,113,32],[113,34,113,43],[115,34,115,43],[1,0,1,43],[112,1,112,10],[110,1,110,10],[117,34,117,43],[116,1,116,10],[117,1,117,10],[109,34,109,43],[111,1,111,10],[115,12,115,21],[115,23,115,32],[107,23,107,32],[107,34,107,43],[112,12,112,21],[110,12,110,21],[110,23,110,32],[110,34,110,43],[108,12,108,21],[108,23,108,32],[108,34,108,43],[107,1,107,10],[108,1,108,10],[114,23,114,32],[114,34,114,43],[113,1,113,10],[109,12,109,21],[109,23,109,32],[114,12,114,21],[109,1,109,10],[107,12,107,21],[105,12,105,21],[105,23,105,32],[105,34,105,43],[104,1,104,10],[106,12,106,21],[106,23,106,32],[106,34,106,43],[105,1,105,10],[106,1,106,10],[103,12,103,21],[103,23,103,32],[103,34,103,43],[102,1,102,10],[104,12,104,21],[104,23,104,32],[104,34,104,43],[103,1,103,10],[101,12,101,21],[101,23,101,32],[101,34,101,43],[100,1,100,10],[102,12,102,21],[102,23,102,32],[102,34,102,43],[101,1,101,10],[99,12,99,21],[99,23,99,32],[99,34,99,43],[98,1,98,10],[100,12,100,21],[100,23,100,32],[100,34,100,43],[99,1,99,10],[97,12,97,21],[97,23,97,32],[97,34,97,43],[96,1,96,10],[98,12,98,21],[98,23,98,32],[98,34,98,43],[97,1,97,10],[95,12,95,21],[95,23,95,32],[95,34,95,43],[94,1,94,10],[96,12,96,21],[96,23,96,32],[96,34,96,43],[95,1,95,10],[93,12,93,21],[93,23,93,32],[93,34,93,43],[92,1,92,10],[94,12,94,21],[94,23,94,32],[94,34,94,43],[93,1,93,10],[91,12,91,21],[91,23,91,32],[91,34,91,43],[90,1,90,10],[92,12,92,21],[92,23,92,32],[92,34,92,43],[91,1,91,10],[89,12,89,21],[89,23,89,32],[89,34,89,43],[88,1,88,10],[90,12,90,21],[90,23,90,32],[90,34,90,43],[89,1,89,10],[87,12,87,21],[87,23,87,32],[87,34,87,43],[86,1,86,10],[88,12,88,21],[88,23,88,32],[88,34,88,43],[87,1,87,10],[85,12,85,21],[85,23,85,32],[85,34,85,43],[84,1,84,10],[86,12,86,21],[86,23,86,32],[86,34,86,43],[85,1,85,10],[83,12,83,21],[83,23,83,32],[83,34,83,43],[82,1,82,10],[84,12,84,21],[84,23,84,32],[84,34,84,43],[83,1,83,10],[81,12,81,21],[81,23,81,32],[81,34,81,43],[80,1,80,10],[82,12,82,21],[82,23,82,32],[82,34,82,43],[81,1,81,10],[79,12,79,21],[79,23,79,32],[79,34,79,43],[78,1,78,10],[80,12,80,21],[80,23,80,32],[80,34,80,43],[79,1,79,10],[77,12,77,21],[77,23,77,32],[77,34,77,43],[76,1,76,10],[78,12,78,21],[78,23,78,32],[78,34,78,43],[77,1,77,10],[75,12,75,21],[75,23,75,32],[75,34,75,43],[74,1,74,10],[76,12,76,21],[76,23,76,32],[76,34,76,43],[75,1,75,10],[73,12,73,21],[73,23,73,32],[73,34,73,43],[72,1,72,10],[74,12,74,21],[74,23,74,32],[74,34,74,43],[73,1,73,10],[71,12,71,21],[71,23,71,32],[71,34,71,43],[70,1,70,10],[72,12,72,21],[72,23,72,32],[72,34,72,43],[71,1,71,10],[69,12,69,21],[69,23,69,32],[69,34,69,43],[68,1,68,10],[70,12,70,21],[70,23,70,32],[70,34,70,43],[69,1,69,10],[67,12,67,21],[67,23,67,32],[67,34,67,43],[66,1,66,10],[68,12,68,21],[68,23,68,32],[68,34,68,43],[67,1,67,10],[65,12,65,21],[65,23,65,32],[65,34,65,43],[64,1,64,10],[66,12,66,21],[66,23,66,32],[66,34,66,43],[65,1,65,10],[63,12,63,21],[63,23,63,32],[63,34,63,43],[62,1,62,10],[64,12,64,21],[64,23,64,32],[64,34,64,43],[63,1,63,10],[61,12,61,21],[61,23,61,32],[61,34,61,43],[60,1,60,10],[62,12,62,21],[62,23,62,32],[62,34,62,43],[61,1,61,10],[59,12,59,21],[59,23,59,32],[59,34,59,43],[58,1,58,10],[60,12,60,21],[60,23,60,32],[60,34,60,43],[59,1,59,10],[57,12,57,21],[57,23,57,32],[57,34,57,43],[56,1,56,10],[58,12,58,21],[58,23,58,32],[58,34,58,43],[57,1,57,10],[55,12,55,21],[55,23,55,32],[55,34,55,43],[54,1,54,10],[56,12,56,21],[56,23,56,32],[56,34,56,43],[55,1,55,10],[53,12,53,21],[53,23,53,32],[53,34,53,43],[52,1,52,10],[54,12,54,21],[54,23,54,32],[54,34,54,43],[53,1,53,10],[51,12,51,21],[51,23,51,32],[51,34,51,43],[50,1,50,10],[52,12,52,21],[52,23,52,32],[52,34,52,43],[51,1,51,10],[49,12,49,21],[49,23,49,32],[49,34,49,43],[48,1,48,10],[50,12,50,21],[50,23,50,32],[50,34,50,43],[49,1,49,10],[47,12,47,21],[47,23,47,32],[47,34,47,43],[46,1,46,10],[48,12,48,21],[48,23,48,32],[48,34,48,43],[47,1,47,10],[45,12,45,21],[45,23,45,32],[45,34,45,43],[44,1,44,10],[46,12,46,21],[46,23,46,32],[46,34,46,43],[45,1,45,10],[43,12,43,21],[43,23,43,32],[43,34,43,43],[42,1,42,10],[44,12,44,21],[44,23,44,32],[44,34,44,43],[43,1,43,10],[41,23,41,32],[41,34,41,43],[40,1,40,10],[42,12,42,21],[42,23,42,32],[42,34,42,43],[39,12,39,21],[39,23,39,32],[41,1,41,10],[39,34,39,43],[38,1,38,10],[39,1,39,10],[40,12,40,21],[40,23,40,32],[40,34,40,43],[41,12,41,21],[36,34,36,43],[37,12,37,21],[37,23,37,32],[37,34,37,43],[38,12,38,21],[38,23,38,32],[38,34,38,43],[35,1,35,10],[34,12,34,21],[34,23,34,32],[34,34,34,43],[36,1,36,10],[35,12,35,21],[35,23,35,32],[35,34,35,43],[36,12,36,21],[36,23,36,32],[33,1,33,10],[32,12,32,21],[32,23,32,32],[32,34,32,43],[34,1,34,10],[33,12,33,21],[33,23,33,32],[33,34,33,43],[31,1,31,10],[30,12,30,21],[30,23,30,32],[30,34,30,43],[32,1,32,10],[31,12,31,21],[31,23,31,32],[31,34,31,43],[29,1,29,10],[28,12,28,21],[28,23,28,32],[28,34,28,43],[30,1,30,10],[29,12,29,21],[29,23,29,32],[29,34,29,43],[26,1,26,10],[26,12,26,21],[26,23,26,32],[26,34,26,43],[27,1,27,10],[27,12,27,21],[27,23,27,32],[27,34,27,43],[24,1,24,10],[24,12,24,21],[24,23,24,32],[24,34,24,43],[25,1,25,10],[25,12,25,21],[25,23,25,32],[25,34,25,43],[22,1,22,10],[22,12,22,21],[22,23,22,32],[22,34,22,43],[23,1,23,10],[23,12,23,21],[23,23,23,32],[23,34,23,43],[20,1,20,10],[20,12,20,21],[20,23,20,32],[20,34,20,43],[21,1,21,10],[21,12,21,21],[21,23,21,32],[21,34,21,43],[18,1,18,10],[18,12,18,21],[18,23,18,32],[18,34,18,43],[19,1,19,10],[19,12,19,21],[19,23,19,32],[19,34,19,43],[16,1,16,10],[16,12,16,21],[16,23,16,32],[16,34,16,43],[17,1,17,10],[17,12,17,21],[17,23,17,32],[17,34,17,43],[14,1,14,10],[14,12,14,21],[14,23,14,32],[14,34,14,43],[15,1,15,10],[15,12,15,21],[15,23,15,32],[15,34,15,43],[12,1,12,10],[12,12,12,21],[12,23,12,32],[12,34,12,43],[13,1,13,10],[13,12,13,21],[13,23,13,32],[13,34,13,43],[11,1,11,10],[11,12,11,21],[11,23,11,32],[11,34,11,43],[8,1,8,10],[8,12,8,21],[8,23,8,32],[8,34,8,43],[9,1,9,10],[9,12,9,21],[9,23,9,32],[9,34,9,43],[5,1,5,10],[5,12,5,21],[5,23,5,32],[5,34,5,43],[7,1,7,10],[7,12,7,21],[7,23,7,32],[7,34,7,43],[10,1,10,10],[10,12,10,21],[10,23,10,32],[10,34,10,43]]}
[]
["Anlage: Allgemeine Kontenübersicht"]
[]
[null,"Aktiva, Passiva, Aufwands- und Ertragskonten"]
[]
[null,"Aktiva",null,null,null,null,null,null,null,null,null,null,"Passiva",null,null,null,null,null,null,null,null,null,null,"Aufwendungen",null,null,null,null,null,null,null,null,null,null,"Erträge"]
[]
[null,"Anlagevermögen",null,null,null,null,null,null,null,null,null,null,"Eigenkapital",null,null,null,null,null,null,null,null,null,null,"Rohstoffaufwand",null,null,null,null,null,null,null,null,null,null,"Warenerlöse"]
[null,"Grundstücke",null,null,null,null,null,null,null,null,null,null,"Vollhafter",null,null,null,null,null,null,null,null,null,null,"(Fertigungsmaterial",null,null,null,null,null,null,null,null,null,null,"Umsatzerlöse"]
[null,"Gebäude",null,null,null,null,null,null,null,null,null,null,"Kommanditisten",null,null,null,null,null,null,null,null,null,null,"Materialeinzelkosten)",null,null,null,null,null,null,null,null,null,null,"Mieterträge"]
[null,"Maschinen",null,null,null,null,null,null,null,null,null,null,"gezeichnetes Kapital",null,null,null,null,null,null,null,null,null,null,"Hilfsstoffaufwand",null,null,null,null,null,null,null,null,null,null,"Pachterträge"]
[null,"Büro/Geschäftsaus-",null,null,null,null,null,null,null,null,null,null,"(Kap.Gesellschaften)",null,null,null,null,null,null,null,null,null,null,"Betriebsstoffaufwand",null,null,null,null,null,null,null,null,null,null,"Leasingerlöse"]
[null,"stattung (BGA)",null,null,null,null,null,null,null,null,null,null,"Rücklagen",null,null,null,null,null,null,null,null,null,null,"Löhne",null,null,null,null,null,null,null,null,null,null,"Zinsertrag"]
[null,"Büromaschinen",null,null,null,null,null,null,null,null,null,null,"Bilanzgewinn",null,null,null,null,null,null,null,null,null,null,"Gehälter",null,null,null,null,null,null,null,null,null,null,"a. o. Ertrag"]
[null,"Fuhrpark",null,null,null,null,null,null,null,null,null,null,"(Kap.Gesellschaften)",null,null,null,null,null,null,null,null,null,null,"Sozialaufwendungen",null,null,null,null,null,null,null,null,null,null,"   Unterkonten"]
[null,"Geringwertige Wirt-",null,null,null,null,null,null,null,null,null,null,"Gewinnvortrag",null,null,null,null,null,null,null,null,null,null,"(AG-Anteil)",null,null,null,null,null,null,null,null,null,null,"   Kundenskonto"]
[null,"schaftsgüter",null,null,null,null,null,null,null,null,null,null,"(Kap.Gesellschaften)",null,null,null,null,null,null,null,null,null,null,"Steuern",null,null,null,null,null,null,null,null,null,null,"   Kundenboni"]
[null,"(Sammelposten)",null,null,null,null,null,null,null,null,null,null,null,null,null,null,null,null,null,null,null,null,null,"Gebühren",null,null,null,null,null,null,null,null,null,null,"   Erlösschmälerungen"]
[null,"Wertpapiere des ",null,null,null,null,null,null,null,null,null,null,"langfristiges",null,null,null,null,null,null,null,null,null,null,"Rechtsberatungs-"]
[null,"Anlagevermögens",null,null,null,null,null,null,null,null,null,null,"Fremdkapital",null,null,null,null,null,null,null,null,null,null,"aufwand"]
[null,null,null,null,null,null,null,null,null,null,null,null,"Darlehen",null,null,null,null,null,null,null,null,null,null,"Büroaufwendungen"]
[null,"Umlaufvermögen",null,null,null,null,null,null,null,null,null,null,"Hypotheken",null,null,null,null,null,null,null,null,null,null,"Kosten des Geld-"]
[null,"Rohstoffe",null,null,null,null,null,null,null,null,null,null,null,null,null,null,null,null,null,null,null,null,null,"verkehrs",null,null,null,null,null,null,null,null,null,null,"Eröffnungskonten"]
[null,"Hilfsstoffe",null,null,null,null,null,null,null,null,null,null,"kurzfristiges",null,null,null,null,null,null,null,null,null,null,"Mietaufwand"]
[null,"Betriebsstoffe",null,null,null,null,null,null,null,null,null,null,"Fremdkapital",null,null,null,null,null,null,null,null,null,null,"Pachtaufwand",null,null,null,null,null,null,null,null,null,null,"Eröffnungsbilanzkonto"]
[null,"Unfertige Erzeugnisse",null,null,null,null,null,null,null,null,null,null,"Verindlichkeiten aus",null,null,null,null,null,null,null,null,null,null,"Leasingaufwendungen"]
[null,"Fertigerzeugnisse (FE)",null,null,null,null,null,null,null,null,null,null,"Lieferungen/Leistungen",null,null,null,null,null,null,null,null,null,null,"Instandhaltungsauf-",null,null,null,null,null,null,null,null,null,null,"Abschlusskonten"]
[null,"Wareneinkauf (WEK)",null,null,null,null,null,null,null,null,null,null,"erhaltene Anzahlungen",null,null,null,null,null,null,null,null,null,null,"wand"]
[null," Unterkonten",null,null,null,null,null,null,null,null,null,null,"Umsatzsteuer",null,null,null,null,null,null,null,null,null,null,"Sondereinzelkosten",null,null,null,null,null,null,null,null,null,null,"Privatkonto"]
[null,"  Lieferantenskonti",null,null,null,null,null,null,null,null,null,null,"Schuldwechsel",null,null,null,null,null,null,null,null,null,null,"des Vertriebs"]
[null,"  Lieferantenboni",null,null,null,null,null,null,null,null,null,null,"Bankschulden",null,null,null,null,null,null,null,null,null,null,"Abschreibung",null,null,null,null,null,null,null,null,null,null,"Betriebsergebnis-"]
[null,"  Erlösschmälerungen",null,null,null,null,null,null,null,null,null,null,"Postgiroschulden",null,null,null,null,null,null,null,null,null,null,"Zinsaufwand",null,null,null,null,null,null,null,null,null,null,"konto"]
[null,"Forderungen aus ",null,null,null,null,null,null,null,null,null,null,"Verindlichkeiten an",null,null,null,null,null,null,null,null,null,null,"außerordentlicher"]
[null,"Lieferungen und",null,null,null,null,null,null,null,null,null,null,"Finanzamt",null,null,null,null,null,null,null,null,null,null,"Aufwand (a. o. A.)",null,null,null,null,null,null,null,null,null,null,"neutrales Ergebnis-"]
[null,"Leistungen (LuL)",null,null,null,null,null,null,null,null,null,null,"Verbindlichkeiten gegen",null,null,null,null,null,null,null,null,null,null,null,null,null,null,null,null,null,null,null,null,null,"konto"]
[null,"geleistete Anzahlungen",null,null,null,null,null,null,null,null,null,null,"Sozialversicherungs-"]
[null,"Zweifelhafte Forderungen",null,null,null,null,null,null,null,null,null,null,"träger",null,null,null,null,null,null,null,null,null,null,null,null,null,null,null,null,null,null,null,null,null,"Gewinn- und Verlust-"]
[null,"sonstige Vermögensgegenstände",null,null,null,null,null,null,null,null,null,null,"sonstige Verbindlich-",null,null,null,null,null,null,null,null,null,null,null,null,null,null,null,null,null,null,null,null,null,"konto"]
[null,"Forderungen an",null,null,null,null,null,null,null,null,null,null,"keiten"]
[null,"Mitarbeiter",null,null,null,null,null,null,null,null,null,null,null,null,null,null,null,null,null,null,null,null,null,null,null,null,null,null,null,null,null,null,null,null,"Schlussbilanzkonto"]
[null,"Vorsteuer",null,null,null,null,null,null,null,null,null,null,"Rechnungsabgrenzungs-",null,null,null,null,null,null,null,null,null,null,null,null,null,null,null,null,null,null,null,null,null,"(SBK)"]
[null,"sonstige Forderungen",null,null,null,null,null,null,null,null,null,null,"posten"]
[null,"Schecks",null,null,null,null,null,null,null,null,null,null,"PRAP (passive)"]
[null,"Bankguthaben"]
[null,"Postgiroguthaben"]
[null,"Kasse"]
[null,"Rechnungsabgrenzungs-"]
[null,"posten"]
[null,"ARAP (aktive)"]
[]
[]
[null,"siehe SKR 04 bzw. 03"]

{"sheet":"8 Anlage Bilanz","index":17,"n_rows":68,"n_cols":38,"rows_kept":68,"cut":false,"hidden":false,"merged":[[40,22,40,29],[41,22,41,29],[54,3,54,10],[61,1,61,8],[62,1,62,8],[45,22,45,29],[50,3,50,10],[46,22,46,29],[51,3,51,10],[47,22,47,29],[53,3,53,10],[46,3,46,10],[47,3,47,10],[7,12,7,14],[7,16,7,18],[43,22,43,29],[44,22,44,29],[1,0,1,38],[34,22,34,29],[35,22,35,29],[37,22,37,29],[38,22,38,29],[43,3,43,10],[7,35,7,37],[7,31,7,33],[42,22,42,29],[31,22,31,29],[32,22,32,29],[44,3,44,10]]}
[]
["Anlage: vereinfachtes Bilanzgliederungsschema nach BilMoG:  § 266 HGB für Kapitalgesellschaften und Co."]
[]
["XY GmbH, Sitz"]
["Bilanz zum 31. Dezember 201X"]
[]
[]
["AKTIVA",null,null,null,null,null,null,null,null,null,null,null,"2013-12-31",null,null,null,{"$f":"+M8-365","v":"2012-12-31"},null,null,null,"PASSIVA",null,null,null,null,null,null,null,null,null,null,{"$f":"+M8","v":"2013-12-31"},null,null,null,{"$f":"+Q8","v":"2012-12-31"}]
[]
[null,null,null,null,null,null,null,null,null,null,null,null,"EUR",null,"EUR",null,"EUR",null,"EUR",null,null,null,null,null,null,null,null,null,null,null,null,"EUR",null,"EUR",null,"EUR",null,"EUR"]
["A.","Anlagevermögen",null,null,null,null,null,null,null,null,null,null,null,null,null,null,null,null,null,null,"A.","Eigenkapital"]
[]
[null,"I.","Immaterielle Vermögensgegenstände",null,null,null,null,null,null,null,null,null,null,null,null,null,null,null,null,null,null,"I.","Gezeichnetes Kapital",null,null,null,null,null,null,null,null,0,null,null,null,0]
[null,null,"1.","Selbst geschaffene gewerbliche Schutzrechte und",null,null,null,null,null,null,null,null,null,null,null,null,null,null,null,null,null,"II.","Kapitalrücklage",null,null,null,null,null,null,null,null,0,null,null,null,0]
[null,null,null,"ähnliche Rechte und Werte",null,null,null,null,null,null,null,null,0,null,null,null,0,null,null,null,null,"III.","Gewinnrücklagen"]
[null,null,"2.","entgeltlich erworbene Konzessionen, gewerbliche Schutzrechte und ähnliche",null,null,null,null,null,null,null,null,null,null,null,null,null,null,null,null,null,"IV.","Gewinnvortrag/Verlustvortrag",null,null,null,null,null,null,null,null,0,null,null,null,0]
[null,null,null,"Rechte und Werte sowie Lizenzen an solchen Rechten",null,null,null,null,null,null,null,null,null,null,null,null,null,null,null,null,null,"V.","Jahresüberschuss/Jahresfehlbetrag",null,null,null,null,null,null,null,null,0,null,{"$f":"SUM(AF13:AF17)","v":0},null,0,null,{"$f":"SUM(AJ13:AJ17)","v":0}]
[null,null,null,"und Werten",null,null,null,null,null,null,null,null,0,null,null,null,0]
[null,null,"3.","Geschäfts- und Firmentwert",null,null,null,null,null,null,null,null,0,null,null,null,0]
[null,null,"4.","Geleistete Anzahlungen",null,null,null,null,null,null,null,null,0,null,{"$f":"SUM(M17:M20)","v":0},null,0,null,{"$f":"SUM(Q17:Q20)","v":0}]
[null,null,null,null,null,null,null,null,null,null,null,null,null,null,null,null,null,null,null,null,"B.","Rückstellungen"]
[null,"II.","Sachanlagen"]
[null,null,"1.","Grundstücke, grundstücksgleiche Rechte und Bauten",null,null,null,null,null,null,null,null,null,null,null,null,null,null,null,null,null,"1.","Rückstellungen für Pensionen/ähnliche Verpflichtungen",null,null,null,null,null,null,null,null,0,null,null,null,0]
[null,null,null,"einschließlich der Bauten auf fremden Grundstücken",null,null,null,null,null,null,null,null,null,null,null,null,0,null,null,null,null,"2.","Steuerrückstellungen",null,null,null,null,null,null,null,null,0,null,null,null,0]
[null,null,"2.","Technische Anlagen und Maschinen",null,null,null,null,null,null,null,null,null,null,null,null,0,null,null,null,null,"3.","Sonstige Rückstellungen",null,null,null,null,null,null,null,null,0,null,{"$f":"SUM(AF23:AF25)","v":0},null,0,null,{"$f":"SUM(AJ23:AJ25)","v":0}]
[null,null,"3.","Andere Anlagen, Betriebs- und Geschäftsausstattung",null,null,null,null,null,null,null,null,null,null,null,null,0]
[null,null,"4.","Geleistete Anzahlungen und Anlagen im Bau",null,null,null,null,null,null,null,null,null,null,{"$f":"SUM(M23:M27)","v":0},null,0,null,{"$f":"SUM(Q23:Q27)","v":0}]
[]
[null,"III.","Finanzanlagen",null,null,null,null,null,null,null,null,null,null,null,null,null,null,null,null,null,"C.","Verbindlichkeiten"]
[null,null,"Beteiligungen",null,null,null,null,null,null,null,null,null,null,null,0,null,null,null,0]
[null,null,null,null,null,null,null,null,null,null,null,null,null,null,null,null,null,null,null,null,null,"1.","Verbindlichkeiten gegenüber Kreditinstituten",null,null,null,null,null,null,null,null,0,null,null,null,0]
[null,null,null,null,null,null,null,null,null,null,null,null,null,null,{"$f":"SUM(O13:O30)","v":0},null,null,null,{"$f":"SUM(S13:S30)","v":0},null,null,null,0]
[null,null,null,null,null,null,null,null,null,null,null,null,null,null,null,null,null,null,null,null,null,null,0]
["B.","Umlaufvermögen",null,null,null,null,null,null,null,null,null,null,null,null,null,null,null,null,null,null,null,"2.","Verbindlichkeiten aus Lieferungen und Leistungen",null,null,null,null,null,null,null,null,0,null,null,null,0]
[null,null,null,null,null,null,null,null,null,null,null,null,null,null,null,null,null,null,null,null,null,null,0]
[null,"I.","Vorräte",null,null,null,null,null,null,null,null,null,null,null,null,null,null,null,null,null,null,null,0]
[null,null,"1.","Roh-, Hilfs- und Betriebsstoffe",null,null,null,null,null,null,null,null,0,null,null,null,0,null,null,null,null,"3.","Verbindlichkeiten gegenüber Gesellschaftern",null,null,null,null,null,null,null,null,0,null,null,null,0]
[null,null,"2.","Unfertige Erzeugnisse und Leistungen",null,null,null,null,null,null,null,null,0,null,null,null,0,null,null,null,null,null,0]
[null,null,"3.","Fertige Erzeugnisse und Waren",null,null,null,null,null,null,null,null,0,null,null,null,0,null,null,null,null,null,0]
[null,null,"4.","geleistete Anzahlungen",null,null,null,null,null,null,null,null,0,null,{"$f":"SUM(M37:M40)","v":0},null,0,null,{"$f":"SUM(Q37:Q40)","v":0},null,null,"4.","Sonstige Verbindlichkeiten",null,null,null,null,null,null,null,null,0,null,null,null,0]
[null,null,null,null,null,null,null,null,null,null,null,null,null,null,null,null,null,null,null,null,null,null,0]
[null,"II.","Forderungen und sonstige Vermögensgegenstände",null,null,null,null,null,null,null,null,null,null,null,null,null,null,null,null,null,null,null,0]
[null,null,"1.","Forderungen aus Lieferungen und Leistungen",null,null,null,null,null,null,null,null,0,null,null,null,0,null,null,null,null,null,0]
[null,null,null,0,null,null,null,null,null,null,null,null,null,null,null,null,null,null,null,null,null,null,0]
[null,null,null,0,null,null,null,null,null,null,null,null,null,null,null,null,null,null,null,null,null,null,0]
[null,null,"2.","Forderungen gegen verbundene Unternehmen",null,null,null,null,null,null,null,null,0,null,null,null,0,null,null,null,null,null,0]
[null,null,null,0,null,null,null,null,null,null,null,null,null,null,null,null,null,null,null,null,null,null,0]
[null,null,null,0,null,null,null,null,null,null,null,null,null,null,null,null,null,null,null,null,null,null,0,null,null,null,null,null,null,null,null,null,null,{"$f":"SUM(AF31:AF48)","v":0},null,null,null,{"$f":"SUM(AJ31:AJ48)","v":0}]
[null,null,"3.","Forderungen gegen Unternehmen, mit denen",null,null,null,null,null,null,null,null,0,null,null,null,0]
[null,null,null,"ein Beteiligungsverhältnis besteht"]
[null,null,null,0,null,null,null,null,null,null,null,null,null,null,null,null,null,null,null,null,"D.","Rechnungsabgrenzungsposten",null,null,null,null,null,null,null,null,null,null,null,{"$f":"SUM(AF34:AF51)","v":0},null,null,null,{"$f":"SUM(AJ34:AJ51)","v":0}]
[null,null,null,0]
[null,null,"4.","Sonstige Vermögensgegenstände",null,null,null,null,null,null,null,null,0,null,null,null,0]
[null,null,null,0,null,null,null,null,null,null,null,null,null,null,null,null,null,null,null,null,"E.","Passive latente Steuern",null,null,null,null,null,null,null,null,null,null,null,{"$f":"SUM(AF37:AF54)","v":0},null,null,null,{"$f":"SUM(AJ37:AJ54)","v":0}]
[null,null,null,0,null,null,null,null,null,null,null,null,null,null,{"$f":"SUM(M43:M55)","v":0},null,null,null,{"$f":"SUM(Q43:Q55)","v":0}]
[]
[null,"III.","Kassenbestand und Guthaben bei Kreditinstituten",null,null,null,null,null,null,null,null,null,null,null,0,null,null,null,0]
[]
[null,null,null,null,null,null,null,null,null,null,null,null,null,null,{"$f":"SUM(O37:O57)","v":0},null,null,null,{"$f":"SUM(S37:S57)","v":0}]
[]
["C.","Rechnungsabgrenzungsposten",null,null,null,null,null,null,null,null,null,null,null,null,0,null,null,null,0]
[null,0]
[null,0]
[]
["D.","Aktive latente Steuern",null,null,null,null,null,null,null,null,null,null,null,null,0,null,null,null,0]
[]
["E.","Aktiver Unterschiedsbetrag aus der Vermögensrechnung",null,null,null,null,null,null,null,null,null,null,null,null,0,null,null,null,0]
[null,null,null,null,null,null,null,null,null,null,null,null,null,null,{"$f":"+O32+O59+O61","v":0},null,null,null,{"$f":"+S32+S59+S61","v":0},null,null,null,null,null,null,null,null,null,null,null,null,null,null,{"$f":"SUM(AH13:AH48)","v":0},null,null,null,{"$f":"SUM(AL13:AL48)","v":0}]

{"sheet":"9","index":18,"n_rows":268,"n_cols":51,"rows_kept":268,"cut":false,"hidden":false,"merged":[[265,17,265,20],[265,37,265,40],[266,7,266,16],[266,17,266,20],[266,37,266,40],[267,7,267,16],[267,17,267,20],[267,37,267,40],[259,17,259,20],[259,37,259,40],[260,7,260,16],[260,17,260,20],[260,37,260,40],[261,7,261,16],[261,17,261,20],[261,37,261,40],[263,1,263,51],[254,17,254,20],[254,37,254,40],[255,7,255,16],[255,17,255,20],[255,37,255,40],[256,7,256,16],[256,17,256,20],[256,37,256,40],[258,1,258,51],[248,1,248,51],[250,17,250,20],[250,37,250,40],[251,7,251,16],[251,17,251,20],[251,37,251,40],[252,7,252,16],[252,17,252,20],[252,37,252,40],[243,17,243,20],[243,37,243,40],[244,7,244,16],[244,17,244,20],[244,37,244,40],[245,7,245,16],[245,17,245,20],[245,37,245,40],[247,1,247,51],[240,1,240,51],[242,1,242,51],[97,2,97,10],[97,17,97,28],[97,38,97,49],[117,2,117,10],[217,1,217,3],[183,0,183,52],[144,41,144,44],[144,45,144,48],[144,4,144,7],[144,8,144,11],[144,12,144,15],[144,16,144,19],[144,20,144,23],[144,24,144,27],[144,28,144,31],[144,32,144,35],[146,4,146,6],[146,8,146,10],[146,12,146,14],[146,16,146,18],[98,2,98,10],[98,17,98,28],[238,1,238,42],[239,1,239,51],[96,2,96,10],[96,17,96,28],[148,4,148,6],[148,8,148,10],[148,12,148,14],[148,16,148,18],[145,24,145,26],[136,14,136,17],[137,14,137,17],[151,17,151,20],[141,4,141,7],[141,8,141,11],[141,12,141,15],[141,16,141,19],[141,20,141,23],[141,24,141,27],[141,28,141,31],[96,38,96,49],[111,1,111,51],[130,1,130,51],[141,32,141,35],[133,1,134,6],[95,2,95,10],[95,17,95,28],[95,38,95,49],[129,1,129,42],[98,38,98,49],[119,2,119,10],[120,1,120,51],[121,1,121,51],[122,1,122,51],[125,0,125,52],[104,0,104,52],[114,0,114,52],[110,1,110,51],[112,1,112,51],[118,1,118,51],[99,2,99,10],[99,17,99,28],[99,38,99,49],[101,1,101,51],[106,1,106,51],[116,1,116,51],[80,17,80,28],[81,17,81,28],[75,1,75,51],[94,38,94,49],[85,2,85,10],[85,17,85,28],[87,2,87,10],[87,17,87,28],[87,38,87,49],[88,2,88,10],[94,2,94,10],[94,17,94,28],[88,17,88,28],[88,38,88,49],[92,2,92,10],[89,17,89,28],[92,17,92,28],[92,38,92,49],[93,2,93,10],[93,17,93,28],[93,38,93,49],[91,2,91,10],[91,17,91,28],[91,38,91,49],[65,17,65,28],[78,2,78,10],[57,2,57,10],[66,17,66,28],[61,2,61,10],[61,17,61,28],[61,34,61,51],[65,2,65,10],[78,17,78,28],[78,34,78,51],[71,0,71,52],[67,38,67,49],[56,2,56,10],[51,17,51,28],[68,38,68,49],[85,38,85,49],[89,2,89,10],[50,38,50,49],[51,38,51,49],[59,1,59,51],[52,38,52,49],[53,38,53,49],[54,38,54,49],[55,38,55,49],[55,17,55,28],[51,2,51,10],[52,17,52,28],[66,2,66,10],[65,38,65,49],[63,38,63,49],[64,2,64,10],[64,17,64,28],[64,38,64,49],[63,2,63,10],[53,17,53,28],[63,17,63,28],[52,2,52,10],[53,2,53,10],[54,2,54,10],[55,2,55,10],[89,38,89,49],[68,13,68,37],[68,2,68,10],[90,2,90,10],[86,2,86,10],[86,17,86,28],[86,38,86,49],[84,2,84,10],[84,17,84,28],[84,38,84,49],[82,17,82,28],[73,1,73,51],[90,17,90,28],[90,38,90,49],[66,38,66,49],[56,38,56,49],[67,2,67,10],[67,17,67,28],[54,17,54,28],[56,17,56,28],[47,2,47,10],[48,2,48,10],[49,2,49,10],[44,17,44,28],[43,17,43,28],[50,2,50,10],[47,38,47,49],[48,38,48,49],[49,38,49,49],[45,17,45,28],[47,17,47,28],[48,17,48,28],[49,17,49,28],[50,17,50,28],[23,1,23,51],[25,1,25,51],[27,1,27,51],[31,1,31,51],[33,1,33,51],[38,1,38,51],[41,2,41,10],[1,0,1,52],[5,1,5,51],[16,1,16,51],[9,1,9,51],[10,1,10,51],[14,1,14,51],[41,17,41,28],[19,0,19,52],[36,0,36,52],[41,34,41,51],[133,9,133,21],[140,1,140,3],[133,23,134,28],[135,14,135,17],[145,12,145,14],[145,16,145,18],[151,37,151,40],[141,37,141,40],[144,37,144,40],[148,37,148,39],[148,20,148,22],[148,24,148,26],[148,28,148,30],[152,7,152,16],[152,17,152,20],[152,37,152,40],[145,20,145,22],[148,32,148,34],[146,20,146,22],[145,8,145,10],[153,7,153,16],[153,17,153,20],[153,37,153,40],[156,17,156,20],[156,37,156,40],[166,1,166,42],[157,7,157,16],[157,17,157,20],[157,37,157,40],[158,7,158,16],[158,17,158,20],[158,37,158,40],[163,7,163,16],[163,17,163,20],[163,37,163,40],[169,14,169,18],[161,17,161,20],[161,37,161,40],[162,7,162,16],[162,17,162,20],[162,37,162,40],[170,14,170,18],[186,1,186,42],[174,14,174,18],[177,17,177,20],[177,37,177,40],[178,7,178,16],[178,17,178,20],[178,37,178,40],[179,7,179,16],[179,17,179,20],[179,37,179,40],[167,1,167,51],[187,1,187,42],[171,14,171,18],[172,14,172,18],[189,1,190,13],[189,15,190,27],[189,29,190,41],[195,1,195,13],[195,15,195,27],[195,29,195,43],[199,31,199,33],[210,1,210,42],[203,15,203,27],[204,23,204,26],[206,15,206,27],[199,34,199,38],[197,17,197,19],[199,17,199,19],[197,20,197,24],[198,20,198,24],[199,20,199,24],[197,29,198,43],[208,30,208,33],[200,29,201,41],[203,29,203,41],[204,37,204,40],[200,15,201,27],[211,1,211,42],[218,4,218,7],[218,8,218,11],[218,12,218,15],[218,16,218,19],[218,20,218,23],[218,24,218,27],[212,14,212,17],[218,28,218,31],[218,32,218,35],[213,14,213,17],[214,14,214,17],[221,8,221,11],[221,12,221,15],[221,16,221,19],[221,20,221,23],[221,32,221,35],[224,28,224,30],[224,32,224,34],[222,8,222,10],[222,12,222,14],[222,16,222,18],[222,20,222,22],[227,17,227,20],[227,37,227,40],[228,7,228,16],[228,17,228,20],[228,37,228,40],[218,44,218,47],[221,44,221,47],[224,44,224,46],[224,4,224,6],[224,8,224,10],[224,12,224,14],[224,16,224,18],[221,40,221,43],[224,40,224,42],[224,20,224,22],[218,36,218,39],[221,36,221,39],[224,36,224,38],[218,40,218,43],[222,24,222,26],[221,24,221,27],[221,28,221,31],[224,24,224,26],[221,4,221,7],[233,7,233,16],[233,17,233,20],[233,37,233,40],[234,7,234,16],[234,17,234,20],[234,37,234,40],[229,7,229,16],[229,17,229,20],[229,37,229,40],[232,17,232,20],[232,37,232,40]]}
[]
[{"$f":"'8'!A138:BA138+1","v":30}]
[]
[null,9,"Verbuchung von Abschreibungen"]
[]
[null,"Abschreibung ist allgemein gesagt diejenige buchhalterische Vorgehensweise, durch welche Vermögensgegenständen niedrigere Wertansätze zugewiesen werden, um den Wertverlust, den diese Vermögensgegenstände im Zeitablauf erleiden, abzubilden. Sie ist damit ein Bewertungsproblem, das die Bilanzierungsentscheidung (Aktivierung) voraussetzt. Die Abschreibung ist sowohl im Steuer- als auch im Handelsrecht vorgeschrieben. Man unterscheidet verschiedene Arten von Abschreibungen:\n"]
[]
[null,"9.1","Arten der Abschreibungen"]
[]
[null,"1) Planmäßige Abschreibung: Die Abschreibung, die nach einem Abschreibungsplan stattfindet.\n2) Außerplanmäßige Abschreibung: Die Abschreibung, die ohne einen Abschreibungsplan aufgrund außerordentlicher wertmindernder Anlässe stattfindet\n3) Bilanzielle Abschreibung: Die Abschreibung, die die Wertansätze in der Bilanz vermindert.\n4) Kalkulatorische Abschreibung: Die Abschreibung, die die Wertansätze für die Kalkulation ermittelt. Im Gegensatz zur bilanziellen Abschreibung ist sie auf Wiederbeschaffungswerte gerichtet.\n5) Direkte Abschreibung: Methode der Abschreibung, die direkt das zu mindernde Anlagekonto berührt.\n6) Indirekte Abschreibung: Methode der Abschreibung, die das zu mindernde Anlagekonto nicht berührt, sondern eine passive Korrekturposition bebucht."]
[null,"7) Degressive Abschreibung: Abschreibung, die am Anfang der Abschreibungszeit größere und gegen Ende kleinere Abschreibungsbeträge erfaßt, um einen zu Anfang höheren Wertverlust etwa technischer Güter besser abzubilden.\n8) Lineare Abschreibung, lineare: Die Abschreibung, die in allen Rechnungsperioden gleich hohe Abschreibungsbeträge erfaßt.\n9) Abschreibung nach Maßgabe der Leistung: Die Abschreibung, die sich in ihrer Höhe nach der tatsächlichen Leistung einer Anlage richtet.\n"]
[]
[null,"9.2","Buchungstechnik bei Abschreibungen"]
[]
[null,"Allgemein bildet die Abschreibung eine Wertminderung im Anlagekonto (Anlagevermögen) ab, denn die bilanzielle Abschreibung ist ja eine Absetzung für Abnutzung. Dies wird gemäß den Buchungsregeln als Haben-Buchung im jeweiligen Anlagekonto erfasst:\n"]
[]
[null,"Der Standartbuchungssatz lautet:\nAbschreibung (Aufwand).......................... 3.000\nAN Anlagekonto (Bestandskonto)......................... 3.000\n"]
[]
[]
[{"$f":"A2+1","v":31}]
[]
[null,"9.3","Planmäßige und außerplanmäßige Abschreibung"]
[]
[null,"Diese Methode verteilt bei Vermögensgegenständen des abnutzbaren Anlagevermögens die Anschaffungs- oder Herstellungskosten (= Bemessungsgrundlage = BMG) nach einem vorher festgelegten Plan auf die voraussichtliche Nutzungsdauer. \nDer steuerrechtliche Ausdruck heißt \"Absetzung für Abnutzung\" (AfA).\n"]
[]
[null,"Die planmäßige Abschreibung kann nach verschiedenen Methoden vorgenommen werden, zwischen denen der Bilanzierende wählen kann. Die einmal gewählte Methode muss für die Dauer der Nutzung beibehalten werden, Abweichungen sind nur in außergewöhnlichen Fällen zulässig. In diesem Fall haben Kapitalgesellschaften die Abweichung im Anhang anzugeben, zu begründen und ihren Einfluß auf die Vermögens-, Finanz- und Ertragslage darzustellen.\nDeterminanten des Abschreibungsplanes sind die Höhe der Anschaffungs- oder Herstellungskosten, die voraussichtliche Nutzungsdauer, die gewählte Abschreibungsmethode und die Höhe eines etwaigen Restwertes.\n"]
[]
[null,"Eine außerplanmäßige Abschreibung dagegen ist ein Abschreibungsverfahren, das bei abnutzbarem und nichtabnutzbarem Anlagevermögen sowie Umlaufvermögen zulässig oder geboten ist, um niedrigere Wertansätze zur Anwendung zu bringen, die sich aus dem Niederstwertprinzip ergeben. Anlass ist also stets ein außerplanmäßiges Schadensereignis, das einen Wertverlust bedingt. Hierfür kommen etwa Zerstörung, Beschädigung oder ähnliche Anlässe in Betracht. Bei Grundstücken können auch die Entdeckung von Umweltlasten, die neu gebaute Autobahn nebenan oder ähnliche Faktoren die Grundlage sein. Die außerplanmäßige Abschreibung ist steuer- wie handelsrechtlich nur bei dauernder Wertminderung zulässig. Ziel ist Verwirklichung von Gläubigerschutz und Vorsichtsprinzip."]
[]
[null,"9.4","Degressive und lineare Abschreibung"]
[]
[null,"Hierbei haben wir es hier mit der planmäßigen Verteilung der Anschaffungs- oder Herstellungskosten auf einen Abschreibungszeitraum zu tun, und zwar im Falle der linearen Abschreibung in gleichen Jahresraten auf die Jahre der Nutzung. Der Abschreibungsprozentsatz ergibt sich aus dem Quotienten aus 100 und der Nutzungsdauer; der Abschreibungsbetrag in Geldeinheiten aus Anschaffungs- oder Herstellungskosten und der Nutzungsdauer:\n"]
[]
[null,"Die Methode ist einfach zu handhaben und sowohl steuer- als auch handelsrechtlich zulässig (§ 7 Abs. 1 EStG und § 253 HGB). Sie wird häufig angewandt und liefert bei kurzen Nutzungsdauern höhere jährliche Abschreibungsbeträge als die degressive Abschreibungmethode.\nDurch die Abschaffung des Maßgeblichkeitsgrundsatzes durch die Bilanzrechtsmodernisierung ab 2009/2010 besteht jedoch keine direkte Kopplung mehr zwischen Steuer- und Handelsbilanz. Der reine Umstand, dass ein Abschreibungsverfahren steuerlich zulässig (und üblich) ist begründet nicht, dass die Methode auch handelsrechtlich angewandt werden muss. Die gleichzeitige Anwendung einer Methode in der Handelsbilanz und einer ganz anderen Methode in der Steuerbilanz ist daher zulässig und kann ein Instrument des Steuermanagements bzw. Bilanzpolitik darstellen.\n"]
[]
[]
[{"$f":"A20+1","v":32}]
[]
[null,"Unterschiedliche Methoden der handels- und der steuerlichen Abschreibung können jedoch zu steuerlichen Differenzen und damit zu einer latenten Steuer führen.\nDer Wechsel von der linearen zur degressiven AfA ist unzulässig (§ 7 Abs. 3 EStG). Das lineare Verfahren ist Voraussetzung, um die degressive Abschreibung zu ermitteln. Da sich die degressive Abschreibung nicht für Nutzungszeiten unter ca. 5 bis 6 Jahren eignet, ist die lineare Methode für diese Anlagegüter das einzige sinnvoll anwendbare Verfahren.\nBetrachten wir das an einem kleinen Beispiel. Ein Anlagegut im Wert von 100.000 € soll linear abgeschrieben werden. Das ergibt den folgenden linearen Abschreibungsplan:"]
[]
[]
[null,null,"Jahr",null,null,null,null,null,null,null,null,null,null,null,null,null,null,"AfA in Euro",null,null,null,null,null,null,null,null,null,null,null,null,null,null,null,null,"Restbuchwert zum 31.12."]
[]
[null,null,"Anschaffungsdatum",null,null,null,null,null,null,null,null,null,null,null,null,null,null,"2010-01-01",null,null,null,null,null,null,null,null,null,null,null,null,null,null,null,null,"Ausweis auf dem Bestandskonto"]
[null,null,"Nutzungsdauer",null,null,null,null,null,null,null,null,null,null,null,null,null,null,10,null,null,null,null,null,null,null,null,null,null,null,null,null,null,null,null,"zum Beispiel Maschinen, jeweils"]
[null,null,"Anschaffungskosten",null,null,null,null,null,null,null,null,null,null,null,null,null,null,1000000,null,null,null,null,null,null,null,null,null,null,null,null,null,null,null,null,"zum Jahresende:"]
[]
[null,null,2010,null,null,null,null,null,null,null,null,null,null,null,null,null,null,{"$f":"$R$46/$R$45","v":100000},null,null,null,null,null,null,null,null,null,null,null,null,null,null,null,null,null,null,null,null,{"$f":"R46-R48","v":900000}]
[null,null,{"$f":"C48+1","v":2011},null,null,null,null,null,null,null,null,null,null,null,null,null,null,{"$f":"$R$46/$R$45","v":100000},null,null,null,null,null,null,null,null,null,null,null,null,null,null,null,null,null,null,null,null,{"$f":"AM48-R49","v":800000}]
[null,null,{"$f":"C49+1","v":2012},null,null,null,null,null,null,null,null,null,null,null,null,null,null,100000,null,null,null,null,null,null,null,null,null,null,null,null,null,null,null,null,null,null,null,null,{"$f":"AM49-R50","v":700000}]
[null,null,2013,null,null,null,null,null,null,null,null,null,null,null,null,null,null,100000,null,null,null,null,null,null,null,null,null,null,null,null,null,null,null,null,null,null,null,null,600000]
[null,null,2014,null,null,null,null,null,null,null,null,null,null,null,null,null,null,100000,null,null,null,null,null,null,null,null,null,null,null,null,null,null,null,null,null,null,null,null,500000]
[null,null,2015,null,null,null,null,null,null,null,null,null,null,null,null,null,null,100000,null,null,null,null,null,null,null,null,null,null,null,null,null,null,null,null,null,null,null,null,400000]
[null,null,2016,null,null,null,null,null,null,null,null,null,null,null,null,null,null,100000,null,null,null,null,null,null,null,null,null,null,null,null,null,null,null,null,null,null,null,null,300000]
[null,null,2017,null,null,null,null,null,null,null,null,null,null,null,null,null,null,100000,null,null,null,null,null,null,null,null,null,null,null,null,null,null,null,null,null,null,null,null,200000]
[null,null,2018,null,null,null,null,null,null,null,null,null,null,null,null,null,null,100000,null,null,null,null,null,null,null,null,null,null,null,null,null,null,null,null,null,null,null,null,100000]
[null,null,2019,null,null,null,null,null,null,null,null,null,null,null,null,null,null,100000,null,null,null,null,null,null,null,null,null,null,null,null,null,null,null,null,null,null,null,null,0]
[]
[]
[null,"Unter einer degressiven Abschreibung dagegen versteht man die planmäßige Verteilung der Anschaffungs- oder Herstellungskosten in fallenden Jahresraten, wobei die Ausgangsbasis des jährlichen Abschreibungsbetrages nicht die Anschaffungs- oder Herstellungskosten, sondern die\njeweiligen Restbuchwerte sind.\nDie degressive Abschreibung ist in § 7 Abs. 2 Satz 2 Teilsätze 2 und 3 EStG geregelt und hat eine relative und eine absolute Grenze. Je nach Anschaffung gelten folgende zulässige maximale degressive Abschreibungen:\n"]
[]
[null,null,"Anschaffung",null,null,null,null,null,null,null,null,null,null,null,null,null,null,"Regel",null,null,null,null,null,null,null,null,null,null,null,null,null,null,null,null,"maximal"]
[]
[null,null,"bis 2000",null,null,null,null,null,null,null,null,null,null,null,null,null,null,"3 x lineare AfA",null,null,null,null,null,null,null,null,null,null,null,null,null,null,null,null,null,null,null,null,0.3]
[null,null,"2001 - 2005",null,null,null,null,null,null,null,null,null,null,null,null,null,null,"2 x lineare AfA",null,null,null,null,null,null,null,null,null,null,null,null,null,null,null,null,null,null,null,null,0.2]
[null,null,"2006 - 2007",null,null,null,null,null,null,null,null,null,null,null,null,null,null,"3 x lineare AfA",null,null,null,null,null,null,null,null,null,null,null,null,null,null,null,null,null,null,null,null,0.3]
[null,null,2008,null,null,null,null,null,null,null,null,null,null,null,null,null,null,"keine degressive AfA",null,null,null,null,null,null,null,null,null,null,null,null,null,null,null,null,null,null,null,null,0]
[null,null,"2009 - 2010",null,null,null,null,null,null,null,null,null,null,null,null,null,null,"2,5 x lineare AfA",null,null,null,null,null,null,null,null,null,null,null,null,null,null,null,null,null,null,null,null,0.25]
[null,null,"ab 2011",null,null,null,null,null,null,null,null,null,null,"erneute Abschaffung der degressiven AfA",null,null,null,null,null,null,null,null,null,null,null,null,null,null,null,null,null,null,null,null,null,null,null,null,0]
[]
[]
[{"$f":"A37+1","v":33}]
[]
[null,"Bei der Entscheidung, welche Formel anwendbar ist, kommt es auf den Anschaffungszeitpunkt an. Die Grenzwerte bleiben für bestehende Wirtschaftsgüter auch nach Änderung der Rechtsvorschriften gleich (Vertrauensschutz). Die alten Vorschriften gelten damit noch u.U. jahrzehntelang fort: Beispiel ein in 2007 angeschaffter Gegenstand darf auch weiterhin mit maximal 30% vom Buchwert degressiv steuerlich abgeschrieben werden. Das gilt auch für 2008, wo die degressive AfA für Neufälle abgeschafft wurde, und für Folgejahre.\n"]
[]
[null,"Betrachten wir auch hierzu ein Beispiel. Es gelten die oben gemachten Ausgangsannahmen, d. h., die Anlage habe einen Anschaffungskostenwert von 100.000 € und werde über 10 Jahre abgeschrieben. Die Anschaffung liegt in 2002, d. h., die höchste zulässige degressive AfA beträgt 20 %:\n"]
[]
[]
[null,null,"Jahr",null,null,null,null,null,null,null,null,null,null,null,null,null,null,"AfA in Euro",null,null,null,null,null,null,null,null,null,null,null,null,null,null,null,null,"Zeit-/Restbuchwertzum 31.12."]
[]
[null,null,"Anschaffungsdatum",null,null,null,null,null,null,null,null,null,null,null,null,null,null,"2002-01-01",null,null,null,null,null,null,null,null,null,null,null,null,null,null,null,null,"Ausweis auf dem Bestandskonto"]
[null,null,"Nutzungsdauer",null,null,null,null,null,null,null,null,null,null,null,null,null,null,10,null,null,null,null,null,null,null,null,null,null,null,null,null,null,null,null,"zum Beispiel Maschinen, jeweils"]
[null,null,"Anschaffungskosten",null,null,null,null,null,null,null,null,null,null,null,null,null,null,100000,null,null,null,null,null,null,null,null,null,null,null,null,null,null,null,null,"zum Jahresende:"]
[]
[null,null,2002,null,null,null,null,null,null,null,null,null,null,null,null,null,null,{"$f":"R83*0.2","v":20000},null,null,null,null,null,null,null,null,null,null,null,null,null,null,null,null,null,null,null,null,{"$f":"R83-R85","v":80000}]
[null,null,{"$f":"C85+1","v":2003},null,null,null,null,null,null,null,null,null,null,null,null,null,null,{"$f":"AM85*0.2","v":16000},null,null,null,null,null,null,null,null,null,null,null,null,null,null,null,null,null,null,null,null,{"$f":"AM85-R86","v":64000}]
[null,null,{"$f":"C86+1","v":2004},null,null,null,null,null,null,null,null,null,null,null,null,null,null,{"$f":"AM86*0.2","v":12800},null,null,null,null,null,null,null,null,null,null,null,null,null,null,null,null,null,null,null,null,{"$f":"AM86-R87","v":51200}]
[null,null,2005,null,null,null,null,null,null,null,null,null,null,null,null,null,null,{"$f":"AM87*0.2","v":10240},null,null,null,null,null,null,null,null,null,null,null,null,null,null,null,null,null,null,null,null,{"$f":"AM87-R88","v":40960}]
[null,null,2006,null,null,null,null,null,null,null,null,null,null,null,null,null,null,{"$f":"AM88*0.2","v":8192},null,null,null,null,null,null,null,null,null,null,null,null,null,null,null,null,null,null,null,null,32768]
[null,null,2007,null,null,null,null,null,null,null,null,null,null,null,null,null,null,6553.6,null,null,null,null,null,null,null,null,null,null,null,null,null,null,null,null,null,null,null,null,26214.400000000001]
[null,null,2008,null,null,null,null,null,null,null,null,null,null,null,null,null,null,5242.880000000001,null,null,null,null,null,null,null,null,null,null,null,null,null,null,null,null,null,null,null,null,20971.52]
[null,null,2009,null,null,null,null,null,null,null,null,null,null,null,null,null,null,4194.3040000000001,null,null,null,null,null,null,null,null,null,null,null,null,null,null,null,null,null,null,null,null,16777.216]
[null,null,2010,null,null,null,null,null,null,null,null,null,null,null,null,null,null,3355.4432000000002,null,null,null,null,null,null,null,null,null,null,null,null,null,null,null,null,null,null,null,null,13421.772800000001]
[null,null,2011,null,null,null,null,null,null,null,null,null,null,null,null,null,null,2684.3545600000002,null,null,null,null,null,null,null,null,null,null,null,null,null,null,null,null,null,null,null,null,10737.418240000001]
[null,null,{"$f":"C94+1","v":2012},null,null,null,null,null,null,null,null,null,null,null,null,null,null,2147.4836480000004,null,null,null,null,null,null,null,null,null,null,null,null,null,null,null,null,null,null,null,null,8589.9345920000014]
[null,null,2013,null,null,null,null,null,null,null,null,null,null,null,null,null,null,1717.9869184000004,null,null,null,null,null,null,null,null,null,null,null,null,null,null,null,null,null,null,null,null,6871.9476736000015]
[null,null,2014,null,null,null,null,null,null,null,null,null,null,null,null,null,null,1374.3895347200005,null,null,null,null,null,null,null,null,null,null,null,null,null,null,null,null,null,null,null,null,5497.558138880001]
[null,null,2015,null,null,null,null,null,null,null,null,null,null,null,null,null,null,1099.5116277760003,null,null,null,null,null,null,null,null,null,null,null,null,null,null,null,null,null,null,null,null,4398.0465111040012]
[null,null,2016,null,null,null,null,null,null,null,null,null,null,null,null,null,null,879.60930222080026,null,null,null,null,null,null,null,null,null,null,null,null,null,null,null,null,null,null,null,null,3518.437208883201]
[null,null,2017,null,null,null,null,null,null,null,null,null,null,null,null,null,null,703.6874417766403,null,null,null,null,null,null,null,null,null,null,null,"etc.",null,null,null,null,null,null,null,null,2814.7497671065607,null,null,null,null,null,null,null,null,null,null,null,"etc."]
[]
[null,"Wird die degressive Abschreibung als alleinige Methode angewandt, so wird der Nullwert offensichtlich nie erreicht, d. h., das abzuschreibende Anlagegut wird nicht voll abgeschrieben. Das ist steuerlich nicht optimal. § 7 Abs. 3 EStG sieht daher die Option eines Wechsels zur linearen Abschreibung vor, wobei der Zeitpunkt dieses Wechsels vom Steuerpflichtigen bestimmt, ein einmal vollzogener Wechsel aber nicht rückgängig gemacht werden kann. Diese Regelung ist eine Durchbrechung des Grundsatzes der Methodenstetigkeit und besitzt Fortgeltung. Soll beispielsweise im vorstehend betrachteten Beispiel im 7. Jahr der Wechsel von der degressiven zur linearen Abschreibung vollzogen werden, so müsste der im 7. Jahr anstehende Restwert von 20.971,52 € für die restliche Zeit linear abgeschrieben werden.\n"]
[]
[]
[{"$f":"A72+1","v":34}]
[]
[null,"Soll, um den Nullpunkt zu erreichen, auf lineare AfA gewechselt werden, so hat sich die Fausregel eingebürgert, zu dem Zeitpunkt zu wechseln, zu dem der degressive Restwert kleiner wird als eine anfängliche lineare AfA-Rate gewesen wäre. Dieses Verfahren eignet sich nicht für kurze und lange, sondern nur für mittlere Nutzungsdauern um ca. 10 Jahre. Die Anwendung der Faustregel\nsetzt die Rechtsverhältnisse der Zeit bis 2000 oder 2006/2007 voraus. \n"]
[]
[null,"9.5","Geringwertige Wirtschaftsgüter (Bewertungsvereinfachung)"]
[]
[null,"Es gibt im Steuerrecht vielfältige Wahlrechte für die Behandlung von geringwertigen Wirtschaftsgütern nach § 6 Abs. 2 und dem Sammelposten nach § 6 Abs. 2a EStG. Um den Rahmen nicht zu sprengen, werden nur die Regelungen erwähnt, die in der Praxis die größte Bedeutung haben: \n"]
[null,"Durch das Unternehmensteuerreformgesetz wurde (sollte) ab 2008 die Abschreibung der gewingwertigen Wirtschaftsgüter \"entbürokratisiert\" (werden). Sie ist jedoch jetzt wesentlich komplexer und umständlicher!\nGrundsätzlich gelten Wirtschaftsgüter im Bereich über 150 Euro (ab 2018: 250 Euro) bis einschließlich 1.000 Euro als geringwertige Wirtschaftsgüter (gWG). Die Verbrauchsfiktionsgrenze wurde damit von 60 Euro auf 150 Euro und ab 2018 auf 250 Euro angehoben. Alles, was unter dieser Grenze liegt, wird im Moment der Anschaffung sofort als Aufwand verbucht. Maßgeblich ist jeweils der einzeln nutzbare („verkehrsfähige“) Gegenstand. Objekte, die weiterveräußert werden sollen (Waren) oder zur Verarbeitung angeschafft werden (Roh-, Hilfs- und Betriebsstoffe) fallen nicht unter diese Grenze. Sie sind weiterhin stets bei Anschaffung zu aktivieren. Die Obergrenze der geringwertigen Wirtschaftsgüter beträgt 1.000 Euro. Dies bedeutet, dass selbst \"kleine\" Notebook Computer und ähnliche Gegenstände schon als geringwertige Wirtschaftsgüter durchgehen.\n"]
[null,"Wirtschaftsgüter des Anlagevermögens (abnutzbare, bewegliche), die selbständig nutzungsfähig sind, mit Anschaffungs- oder Herstellungskosten von über 150 Euro und maximal 410 Euro (ab 2018 800 Euro), können im Jahr der Anschaffung oder Herstellung voll abgeschrieben werden. Im Gegensatz zu den Wirtschaftsgütern bis 150 Euro sind hier gesonderte Aufzeichnungspflichten zu erfüllen (§ 6 Abs. 2 Satz 4 und 5 EStG)"]
[]
[{"$f":"A105+1","v":35}]
[]
[null,"Diese werden in der Praxis dadurch erfüllt, dass alle Wirtschaftsgüter, die unter diese Regelung fallen erst auf ein Bestandskonto gebucht werden und dann eine Abschlussbuchung auf das Konto Sofortabschreibung GWG vorgenommen wird.\n\nWirtschaftsgüter, deren Anschaffungskosten über 410 Euro (ab 2018: 800 Euro) bis 1.000 Euro liegen, werden in der Praxis in aller Regel genauso aktiviert und auf die betriebsgewöhnliche Nutzungsdauer abgeschrieben wie Wirtschaftsgüter über  1.000 Euro. Von der Regelung zu den Sammelposten nach § 6 Abs. 2a EStG wird in der Regel kein Gebrauch gemacht und deshalb soll diese hier auch nicht besprochen werden."]
[]
[null,"Ein weiterer wichtiger durch die Unternehmensteuerreform 2008 entstandener Unterschied ist, dass die AfA der gWG auch weiterhin steuerlich vorzunehmen ist, wenn der Gegenstand aus dem Anlagevermögen ausscheidet. Wertminderungen oder -erhöhungen des gWG\nwährend seiner fiktiven Abschreibungszeit werden also ignoriert! Die Buchungsmethode bei Verkauf oder Verlust ist also von der bei „normalen“ Anlagegegenständen verschieden. Würde man bei einem Gegenstand, der kein geringwertiges Wirtschaftsgut ist, und der während der Abschreibung aus dem Anlagevermögen ausscheidet, den Verkaufswert mit dem Buchwert abgleichen und einen entsprechenden Aufwand oder Ertrag im Zusammenhang mit dem Ausscheiden des Gegenstandes buchen, ist bei geringwertigen Wirtschaftsgütern ab 2008 die pauschale Abschreibung fortzusetzen und der Gegenstand stets mit einem Ertrag auszubuchen.\n"]
[]
[null,"Zufammenfassend können Geringwertige Wirtschaftsgüter (GWG) wahlweise wie folgt eingestuft werden: \na) GWG mit einem Nettobetrag ohne Vorsteuer bis 410 €  (ab 2018: 800 Euro) sind  sofort als Betriebsausgabe (Aufwand) gewinnmindernd abzuziehen, wobei im Falle von GWG bis 150 €  (ab 2018: 250 Euro) eine gesonderte Aufzeichnung unterbleiben kann (§ 6 Abs. 2 Sätze 4 und 5 EStG ). Lediglich für Wirtschaftsgüter über 150 € (ab 2018: 250 Euro) sind der Tag der Anschaffung/Herstellung/Einlage sowie die Anschaffungs- oder Herstellungskosten gemäß § 6 Abs. 2 Satz 4 EStG in einem gesonderten Verzeichnis zu erfassen, sofern dies nicht bereits aus der Buchführung ersichtlich ist.\n"]
[null,"b) Alternativ ist es möglich, die GWG mit einem Nettobetrag ohne Vorsteuer von mehr als  150 € (ab 2018: 250 Euro) bis 1.000 €  in einen  Sammelposten (Pool-Abschreibung) einzustellen  und GWG mit einem Nettobetrag von weniger als 150 € (ab 2018: < 250 Euro)sofort abzuschreiben. Der Sammelposten ist analog zur Regelung der Jahre 2008 und 2009 ( Unternehmensteuerreformgesetz 2008, § 6 Abs. 2a EStG a. F.) gewinnmindernd im Jahr der Bildung sowie in den nachfolgenden vier Jahren aufzulösen. Gesonderte Dokumentationsanforderungen bestehen lediglich im Hinblick auf eine ggf. abweichende Wahlrechtsausübung in der Handelsbilanz gemäß § 5 Abs. 1 Sätze 2 und 3 EStG."]
[null,"c) Daneben besteht weiterhin die Möglichkeit, die beweglichen Wirtschaftsgüter des Anlagevermögens  separat zu aktivieren  und über die betriebsgewöhnliche Nutzungsdauer abzuschreiben.\n\nHinweis: Es gilt bei der Auswahl der Methoden zu beachten, dass das Stetigkeitsgebot gewahrt wird. Die Möglichkeit der Sofortabschreibung ist dabei stets wirtschaftsgutbezogen individuell und die Sammelpostenregelung stets wirtschaftsjahrbezogen auszuüben, d. h. das Wahlrecht kann  nur einheitlich für alle GWG  von mehr als 150 Euro (250 Euro), aber nicht mehr als 1.000 € Nettobetrag ohne Vorsteuer ausgeübt werden (siehe beigefügte Anlage Schaubild GWG).\n"]
[]
[]
[{"$f":"A115+1","v":36}]
[]
[null,"9.6","Übungen zu Abschreibungen"]
[]
[null,"Übung 9.6.1: "]
[null,"Berechnen und verbuchen Sie die lineare Abschreibung für einen am 30.07.2008 gekauften Transporter mit Anschaffungskosten von 36.000 € für den 31.12.2010;  Nutzungsdauer: 8 Jahre.\n"]
[]
[]
[null,"Industrie UN",null,null,null,null,null,null,null,"30.07.2008 Kauf: Maschine",null,null,null,null,null,null,null,null,null,null,null,null,null,"Lieferant"]
[]
[null,null,null,null,null,null,null,null,null,null,null,null,"Entgelt",null,36000]
[null,null,null,null,null,null,null,null,null,null,null,null,"+Umsatzsteuer 19%",null,{"$f":"O136*19%","v":6840},null,null,null,"(Vorsteuer)"]
[null,null,null,null,null,null,null,null,null,null,null,null,"= Kaufpreis",null,{"$f":"O136*1.19","v":42840}]
[]
[null,"AK"]
[null,36000,null,null,"Restbuchwert zum 31.12."]
[null,null,null,null,{"$f":"B141-E145","v":33750},null,null,null,{"$f":"E142-I145","v":29250},null,null,null,{"$f":"I142-M145","v":24750},null,null,null,{"$f":"M142-Q145","v":20250},null,null,null,{"$f":"Q142-U145","v":15750},null,null,null,{"$f":"U142-Y145","v":11250},null,null,null,{"$f":"Y142-AC145","v":6750},null,null,null,{"$f":"AC142-AG145","v":2250},null,null,null,null,0]
[]
[null,null,null,null,"Abschreibung"]
[null,null,null,null,{"$f":"B141/8/12*6","v":2250},null,null,null,{"$f":"$B$141/8","v":4500},null,null,null,{"$f":"$B$141/8","v":4500},null,null,null,{"$f":"$B$141/8","v":4500},null,null,null,{"$f":"$B$141/8","v":4500},null,null,null,{"$f":"$B$141/8","v":4500},null,null,null,{"$f":"$B$141/8","v":4500},null,null,null,{"$f":"$B$141/8","v":4500},null,null,null,null,{"$f":"AG142","v":2250},null,null,null,"= Summe",null,null,null,{"$f":"SUM(E145:AO145)","v":36000}]
[]
[]
[]
[null,"30.07.08",null,null,"31.12.08",null,null,null,"31.12.09",null,null,null,"31.12.10",null,null,null,"31.12.11",null,null,null,"31.12.12",null,null,null,"31.12.13",null,null,null,"31.12.14",null,null,null,"31.12.15",null,null,null,null,"31.12.16"]
[]
[]
[null,"Buchungssatz:",null,null,null,null,null,"Soll",null,null,null,null,null,null,null,null,null,{"$f":"SUM(R153:U154)","v":42840},null,null,null,null,null,"Haben",null,null,null,null,null,null,null,null,null,null,null,null,null,{"$f":"SUM(AL153:AO154)","v":42840},null,null,null,"(Kontrollsumme)"]
[null,"2008: Lieferung",null,null,null,null,null,"Maschine",null,null,null,null,null,null,null,null,null,{"$f":"O136","v":36000},null,null,null,"an",null,"Bank",null,null,null,null,null,null,null,null,null,null,null,null,null,{"$f":"R153+R154","v":42840}]
[null,"Maschine",null,null,null,null,null,"Vorsteuer",null,null,null,null,null,null,null,null,null,{"$f":"R153*0.19","v":6840},null,null,null,"an"]
[]
[]
[null,"Buchungssatz:",null,null,null,null,null,"Soll",null,null,null,null,null,null,null,null,null,{"$f":"SUM(R158:U159)","v":4500},null,null,null,null,null,"Haben",null,null,null,null,null,null,null,null,null,null,null,null,null,{"$f":"SUM(AL158:AO159)","v":4500}]
[null,"31.12.10: ",null,null,null,null,null,{"$f":"B159","v":"Abschreibung"},null,null,null,null,null,null,null,null,null,{"$f":"M145","v":4500},null,null,null,"an",null,{"$f":"H153","v":"Maschine"},null,null,null,null,null,null,null,null,null,null,null,null,null,{"$f":"R158+R159","v":4500}]
[null,"Abschreibung"]
[]
[]
[null,"Buchungssatz:",null,null,null,null,null,"Soll",null,null,null,null,null,null,null,null,null,{"$f":"SUM(R163:U164)","v":24750},null,null,null,null,null,"Haben",null,null,null,null,null,null,null,null,null,null,null,null,null,{"$f":"SUM(AL163:AO164)","v":24750}]
[null,"31.12.10: ",null,null,null,null,null,{"$f":"B164","v":"Schlussbilanz"},null,null,null,null,null,null,null,null,null,{"$f":"M142","v":24750},null,null,null,"an",null,"Maschine",null,null,null,null,null,null,null,null,null,null,null,null,null,{"$f":"R163+R164","v":24750}]
[null,"Schlussbilanz"]
[]
[]
[null,"Übung 9.6.2: "]
[null,"Berechnen und verbuchen Sie die lineare Abschreibung (Satz 2,5 %) eines Gebäudes, welches mit Grundstück 1,2 Mio. € Anschaffungskosten hatte. Das Grundstück ist 800 qm groß, vergleichbare Nachbargrundstücke kosten 430 €/qm.\n\n"]
[]
[null,null,null,null,null,null,null,null,null,null,null,null,"Anschaffungskosten gesamt",null,1200000]
[null,null,null,null,null,null,null,null,null,null,null,null,"./. Grund / Boden",null,null,null,null,null,null,"(keine Abschreibung vom Grund / Boden, nur Gebäude wird abgeschrieben)"]
[null,null,null,null,null,null,null,null,null,null,null,null,"800 qm x 430 Euro/qm =",null,{"$f":"-800*430","v":-344000}]
[null,null,null,null,null,null,null,null,null,null,null,null,"= Gebäude Anschaffungskosten",null,{"$f":"SUM(O170:S172)","v":856000}]
[]
[null,null,null,null,null,null,null,null,null,null,null,null,"davon 2,5%",null,{"$f":"O173*2.5%","v":21400}]
[]
[]
[null,"Buchungssatz:",null,null,null,null,null,"Soll",null,null,null,null,null,null,null,null,null,{"$f":"SUM(R179:U180)","v":21400},null,null,null,null,null,"Haben",null,null,null,null,null,null,null,null,null,null,null,null,null,{"$f":"SUM(AL179:AO180)","v":21400}]
[null,"Gebäude-",null,null,null,null,null,"Abschreibung",null,null,null,null,null,null,null,null,null,{"$f":"O175","v":21400},null,null,null,"an",null,"Gebäude",null,null,null,null,null,null,null,null,null,null,null,null,null,{"$f":"R179+R180","v":21400}]
[null,"Abschreibung"]
[]
[]
[]
[{"$f":"A126+1","v":37}]
[]
[]
[null,"Übung 9.6.3: "]
[null,"Kauf von 10 Bohrmaschinen am 01.12.2009 zu insgesamt € 3.360; geschätzte Nutzungsdauer: 4 Jahre. Berechnen Sie die steuerlich günstigste Abschreibung! Vorsicht!"]
[]
[null,"AK < 150",null,null,null,null,null,null,null,null,null,null,null,null,null," 150 < AK < 1.000",null,null,null,null,null,null,null,null,null,null,null,null,null,"AK > 1.000"]
[]
[]
[]
[]
[]
[null,"Sofortaufwand",null,null,null,null,null,null,null,null,null,null,null,null,null,"Pool-AfA: 1/5",null,null,null,null,null,null,null,null,null,null,null,null,null,"AfA: Nutzungsdauer"]
[]
[null,null,null,null,null,null,null,null,null,null,null,null,null,null,null,null,null,"10 =",null,null,3360,null,null,null,null,null,null,null,null,"Zum Vergleich, wenn nur 1 Maschine zum gleichen Preis angeschafft wird"]
[]
[null,null,null,null,null,null,null,null,null,null,null,null,null,null,null,null,null,"1 =",null,null,{"$f":"U198/10","v":336},null,null,null,null,null,null,null,null,null,null,"1 =",null,null,{"$f":"U198","v":3360}]
[null,null,null,null,null,null,null,null,null,null,null,null,null,null,null," 150 < 336 < 1.000",null,null,null,null,null,null,null,null,null,null,null,null,null," 3.360 > 1.000"]
[]
[]
[null,null,null,null,null,null,null,null,null,null,null,null,null,null,null,"Pool-Abschreibung 2009:",null,null,null,null,null,null,null,null,null,null,null,null,null,"Bohrmaschine: AfA 2009"]
[null,null,null,null,null,null,null,null,null,null,null,null,null,null,null,"3.360 : 5 Jahre =",null,null,null,null,null,null,null,{"$f":"U198/5","v":672},null,null,null,null,null,"3.360 : 4 Jahre =",null,null,null,null,null,null,null,{"$f":"AI200/4","v":840}]
[null,null,null,null,null,null,null,null,null,null,null,null,"beachte zeitanteilig nicht zulässig",null,null,null,null,null,null,null,null,null,null,null,null,null,null,null,null,"beachte evtl. zeitanteilig"]
[null,null,null,null,null,null,null,null,null,null,null,null,null,null,null,"AfA 672 an Sammelposten 2009 672",null,null,null,null,null,null,null,null,null,null,null,null,null,"AfA 840 an Bohrmaschine 840"]
[]
[null,null,null,null,null,null,null,null,null,null,null,null,null,null,null,null,null,null,null,null,null,null,null,null,null,null,null,null,null,"AfA-Differenz zwischen Pool-AfA bzw. Qualifizierung als normales AfA-Gut:",{"$f":"AL205-X205","v":168}]
[]
[null,"Übung 9.6.4: "]
[null,"Eine Maschine (Anschaffung 25.04.01, Nutzungsdauer 10 Jahre) wird Ende des Jahres  03 mit 4.000 € linear abgeschrieben. \na) Wie hoch war der Listenpreis, wenn die Anschaffungsnebenkosten 1.000 € betrugen?\nb) Wie hoch ist die Abschreibung im Jahr 10, wenn die Maschine noch mindestens im Jahr 11 weiter genutzt werden kann?\n"]
[null,null,null,null,null,null,null,null,null,null,null,null,"10 x AfA 4.000",null,{"$f":"10*4000","v":40000}]
[null,null,null,null,null,null,null,null,null,null,null,null,"- AK-Nebenkosten",null,-1000]
[null,null,null,null,null,null,null,null,null,null,null,null,"= Listenpreis netto",null,{"$f":"SUM(O213:R214)","v":39000}]
[]
[null,"AK"]
[null,40000,null,null,"Restbuchwert"]
[null,null,null,null,{"$f":"B218-E222","v":37000},null,null,null,{"$f":"E219-I222","v":33000},null,null,null,{"$f":"I219-M222","v":29000},null,null,null,{"$f":"M219-Q222","v":25000},null,null,null,{"$f":"Q219-U222","v":21000},null,null,null,{"$f":"U219-Y222","v":17000},null,null,null,{"$f":"Y219-AC222","v":13000},null,null,null,{"$f":"AC219-AG222","v":9000},null,null,null,{"$f":"AG219-AK222","v":5000},null,null,null,{"$f":"AK219-AO222","v":1000},null,null,null,{"$f":"AO219-AS222","v":0}]
[]
[null,null,null,null,"Abschreibung"]
[null,null,null,null,{"$f":"B218/10/12*9","v":3000},null,null,null,{"$f":"$B$218/10","v":4000},null,null,null,{"$f":"$B$218/10","v":4000},null,null,null,{"$f":"$B$218/10","v":4000},null,null,null,{"$f":"$B$218/10","v":4000},null,null,null,{"$f":"$B$218/10","v":4000},null,null,null,{"$f":"$B$218/10","v":4000},null,null,null,{"$f":"$B$218/10","v":4000},null,null,null,{"$f":"$B$218/10","v":4000},null,null,null,{"$f":"B218/10","v":4000},null,null,null,{"$f":"B218/10/12*3","v":1000}]
[]
[]
[null,"25.04.01",null,null,"31.12.01",null,null,null,"31.12.02",null,null,null,"31.12.03",null,null,null,"31.12.04",null,null,null,"31.12.05",null,null,null,"31.12.06",null,null,null,"31.12.07",null,null,null,"31.12.08",null,null,null,"31.12.09",null,null,null,"31.12.10",null,null,null,"31.12.11"]
[]
[]
[null,"Buchungssatz:",null,null,null,null,null,"Soll",null,null,null,null,null,null,null,null,null,{"$f":"SUM(R229:U230)","v":1000},null,null,null,null,null,"Haben",null,null,null,null,null,null,null,null,null,null,null,null,null,{"$f":"SUM(AL229:AO230)","v":1000}]
[null,"31.12.10: ",null,null,null,null,null,{"$f":"B230","v":"Abschreibung"},null,null,null,null,null,null,null,null,null,{"$f":"AS222","v":1000},null,null,null,"an",null,"Maschinen",null,null,null,null,null,null,null,null,null,null,null,null,null,{"$f":"R229+R230","v":1000}]
[null,"Abschreibung"]
[]
[null,"Alternativ:"]
[null,"Buchungssatz:",null,null,null,null,null,"Soll",null,null,null,null,null,null,null,null,null,{"$f":"SUM(R234:U235)","v":999},null,null,null,null,null,"Haben",null,null,null,null,null,null,null,null,null,null,null,null,null,{"$f":"SUM(AL234:AO235)","v":999}]
[null,"31.12.10: ",null,null,null,null,null,{"$f":"B235","v":"Abschreibung bei"},null,null,null,null,null,null,null,null,null,{"$f":"AS222-1","v":999},null,null,null,"an",null,"Maschinen",null,null,null,null,null,null,null,null,null,null,null,null,null,{"$f":"R234+R235","v":999}]
[null,"Abschreibung bei",null,null,null,null,null,{"$f":"B236","v":"Erinnerungswert"}]
[null,"Erinnerungswert"]
[]
[]
[null,"Übung 9.6.5: "]
[null,"Die X-GmbH (Wirtschaftsjahr = Kalenderjahr) ist ein  IT-Dienstleister  (Wartung von Kopiergeräten) im Raum Rostock. Im August 2011 werden für die Außendienstmitarbeiter drei Smartpads mit einem Stückpreis in Höhe von 238 € inkl. USt sowie fünf Laptops zu je 952 € inkl. USt angeschafft."]
[null,"Aufgrund des sehr guten Jahresergebnisses wünscht die Geschäftsleitung der X-GmbH eine möglichst  steuermindernde Behandlung  sämtlicher Investitionen. Die voraussichtliche Nutzungsdauer der Vermögensgegenstände/Wirtschaftsgüter entspricht der betriebsgewöhnlichen Nutzungsdauer. "]
[]
[null,"1. Aufwandsmaximale Abschreibung in Handels- und Steuerbilanz: \nDie angeschafften Smartpads weisen Netto-Anschaffungskosten von 200 € auf (238 €/ 1,19). Es handelt sich um bewegliche Wirtschaftsgüter des Anlagevermögens, die einer selbständigen Nutzung fähig sind. Dementsprechend stehen der X-GmbH alle drei Wahlmöglichkeiten des § 6 Abs. 2, 2a EStG bzw. § 7 Abs. 1 Satz 1 EStG zur Verfügung. \nAufgrund der intendierten  Steuerminderung  ist im vorliegenden Fall eine  Sofortabschreibung der Smartpads zielführender als eine Aktivierung und Abschreibung über drei  bzw. fünf Jahre, da so die vollen 200 € sofort als Aufwand erfasst werden können. Im Zugangszeitpunkt ist deshalb zu buchen: \n"]
[null,"Buchungssatz:",null,null,null,null,null,"Soll",null,null,null,null,null,null,null,null,null,{"$f":"SUM(R245:U246)","v":714},null,null,null,null,null,"Haben",null,null,null,null,null,null,null,null,null,null,null,null,null,{"$f":"SUM(AL245:AO246)","v":714},null,null,null,"(Kontrollsumme)"]
[null,"08/2011: Lieferung",null,null,null,null,null,"Sofortabschreibung ",null,null,null,null,null,null,null,null,null,600,null,null,null,"an",null,"Bank",null,null,null,null,null,null,null,null,null,null,null,null,null,{"$f":"R245+R246","v":714}]
[null,"Smartpads",null,null,null,null,null,"Vorsteuer",null,null,null,null,null,null,null,null,null,{"$f":"R245*0.19","v":114},null,null,null,"an"]
[]
[null,"Durch die Sofortabschreibung der Smartpads wurde das zustehende Wahlrecht ausgeübt, so dass eine Anwendung des Sammelpostens nicht mehr in Betracht kommt. Dementsprechend müssen die  Laptops  gemäß § 7 Abs. 1 Satz 1 EStG aktiviert und über die Nutzungsdauer von typisierten drei Jahren abgeschrieben werden (Gebot!)."]
[null,"Es ist  monatsanteilig abzuschreiben, wobei angefangene Monate vollständig mit eingerechnet werden (§ 7 Abs. 1 Satz 4 EStG ). Es ergeben sich von August bis Dezember fünf Monate, daraus resultiert eine Abschreibung für 2011 in Höhe von 800/3 • (5/12) = 111,11 €. Unter Aktivierung des Zugangs in voller Höhe ergibt sich :"]
[]
[null,"Buchungssatz:",null,null,null,null,null,"Soll",null,null,null,null,null,null,null,null,null,{"$f":"SUM(R252:U253)","v":4760},null,null,null,null,null,"Haben",null,null,null,null,null,null,null,null,null,null,null,null,null,{"$f":"SUM(AL252:AO253)","v":4760},null,null,null,"(Kontrollsumme)"]
[null,"08/2011: Lieferung",null,null,null,null,null,"BGA",null,null,null,null,null,null,null,null,null,{"$f":"800*5","v":4000},null,null,null,"an",null,"Bank",null,null,null,null,null,null,null,null,null,null,null,null,null,{"$f":"R252+R253","v":4760}]
[null,"Laptops",null,null,null,null,null,"Vorsteuer",null,null,null,null,null,null,null,null,null,{"$f":"R252*0.19","v":760},null,null,null,"an"]
[]
[null,"Buchungssatz:",null,null,null,null,null,"Soll",null,null,null,null,null,null,null,null,null,{"$f":"SUM(R256:U257)","v":555.55555555555554},null,null,null,null,null,"Haben",null,null,null,null,null,null,null,null,null,null,null,null,null,{"$f":"SUM(AL256:AO257)","v":555.55555555555554}]
[null,"31.12.11: ",null,null,null,null,null,{"$f":"B257","v":"Abschreibung"},null,null,null,null,null,null,null,null,null,{"$f":"R252/3/12*5","v":555.55555555555554},null,null,null,"an",null,{"$f":"H252","v":"BGA"},null,null,null,null,null,null,null,null,null,null,null,null,null,{"$f":"R256+R257","v":555.55555555555554}]
[null,"Abschreibung"]
[]
[null,"2. Variante: Buchung bei der Sammelpostenmethode (Pool-Abschreibung)\nSofern im vorliegenden Sachverhalt die Sammelpostenmethode anzuwenden ist, sind sowohl die Smartpads als auch die Laptops dem Sammelposten 2011 (Bestandskonto) zuzuführen, da die jeweiligen Nettoanschaffungskosten mehr als 150 € betragen, aber 1.000 € nicht übersteigen. Bei Zugang werden diese deshalb auf dem entsprechenden Buchungskonto erfasst: \n"]
[null,"Buchungssatz:",null,null,null,null,null,"Soll",null,null,null,null,null,null,null,null,null,{"$f":"SUM(R261:U262)","v":5474},null,null,null,null,null,"Haben",null,null,null,null,null,null,null,null,null,null,null,null,null,{"$f":"SUM(AL261:AO262)","v":5474},null,null,null,"(Kontrollsumme)"]
[null,"08/2011: Lieferung",null,null,null,null,null,"Sammelposten 2011",null,null,null,null,null,null,null,null,null,{"$f":"800*5+R245","v":4600},null,null,null,"an",null,"Bank",null,null,null,null,null,null,null,null,null,null,null,null,null,{"$f":"R261+R262","v":5474}]
[null,"Laptops/Smartpads",null,null,null,null,null,"Vorsteuer",null,null,null,null,null,null,null,null,null,{"$f":"R261*0.19","v":874},null,null,null,"an"]
[]
[null,"Eine monatsanteilige Abschreibung gibt es beim Sammelpostenverfahren nicht. Dementsprechend werden alle Zugänge erfasst und bei Bilanzerstellung die  anteilige Auflösung von 1/5 erfasst. Im vorliegenden Fall ergibt sich eine Auflösung des Bilanzpostens wie folgt: 4.600/5 = 920 €: "]
[]
[null,"Buchungssatz:",null,null,null,null,null,"Soll",null,null,null,null,null,null,null,null,null,{"$f":"SUM(R267:U268)","v":920},null,null,null,null,null,"Haben",null,null,null,null,null,null,null,null,null,null,null,null,null,{"$f":"SUM(AL267:AO268)","v":920},null,null,null,"(Kontrollsumme)"]
[null,"12/2011: ",null,null,null,null,null,"Abschreibung",null,null,null,null,null,null,null,null,null,{"$f":"R261/5","v":920},null,null,null,"an",null,{"$f":"H261","v":"Sammelposten 2011"},null,null,null,null,null,null,null,null,null,null,null,null,null,{"$f":"R267+R268","v":920}]
[null,"Abschreibung",null,null,null,null,null,"Sammelposten 2011"]

{"sheet":"Schaubild GWG","index":19,"n_rows":64,"n_cols":9,"rows_kept":64,"cut":false,"hidden":false,"merged":[[42,0,42,1],[42,2,42,3],[42,4,42,5],[42,7,42,8],[16,0,16,1],[16,2,16,3],[16,4,16,5],[16,7,16,8]]}
[]
[]
["Schaubild: (praxisrelevante) Wahlmöglichkeiten bei geringwertigen Wirtschaftsgütern:"]
[]
["1. Möglichkeit: Sammelposten"]
[]
[null,"0,00 Euro bis 150,00 Euro",null,null,"150,01 Euro bis 1.000,00 Euro",null,null,null,"ab 1.000,01 Euro"]
[null,"Sofortabzug als ",null,null,"Einstellung in Sammelposten",null,null,null,"Ausweis als Wirtschaftsgut, das"]
[null,"Aufwand",null,null,"Abschreibung über pauschal 5 Jahre",null,null,null,"über die betriebsgewöhnliche"]
[null,null,null,null,"Abgänge aus dem Sammelposten",null,null,null,"Nutzungsdauer abzuschreiben ist"]
[null,null,null,null,"bleiben unberücksichtigt"]
[]
[]
[]
[]
[]
["0,00 Euro",null,"150,00 Euro",null,"410,00 Euro",null,null,"1.000,00 Euro"]
[]
[]
["2. Möglichkeit (praxisrelevanter): GWG Sofortabzug"]
[]
[null,"0,00 Euro bis 150,00 Euro",null,null,"150,01 Euro bis 410,00 Euro",null,null,"ab 410,01 Euro"]
[null,"Sofortabzug als ",null,null,"GWG",null,null,"Ausweis als Wirtschaftsgut, das"]
[null,"Aufwand",null,null,"mit Sofortabschreibung",null,null,"über die betriebsgewöhnliche "]
[null,null,null,null,null,null,null,"Nutzungsdauer abzuschreiben ist"]
[]
[]
[]
["Ab 01.01.2018:"]
[]
["1. Möglichkeit: Sammelposten"]
[]
[null,"0,00 Euro bis 250,00 Euro",null,null,"250,01 Euro bis 1.000,00 Euro",null,null,null,"ab 1.000,01 Euro"]
[null,"Sofortabzug als ",null,null,"Einstellung in Sammelposten",null,null,null,"Ausweis als Wirtschaftsgut, das"]
[null,"Aufwand",null,null,"Abschreibung über pauschal 5 Jahre",null,null,null,"über die betriebsgewöhnliche"]
[null,null,null,null,"Abgänge aus dem Sammelposten",null,null,null,"Nutzungsdauer abzuschreiben ist"]
[null,null,null,null,"bleiben unberücksichtigt"]
[]
[]
[]
[]
[]
["0,00 Euro",null,"250,00 Euro",null,"800,00 Euro",null,null,"1.000,00 Euro"]
[]
[]
["2. Möglichkeit (praxisrelevanter): GWG Sofortabzug"]
[]
[null,"0,00 Euro bis 250,00 Euro",null,null,"250,01 Euro bis 800,00 Euro",null,null,"ab 800,01 Euro"]
[null,"Sofortabzug als ",null,null,"GWG",null,null,"Ausweis als Wirtschaftsgut, das"]
[null,"Aufwand",null,null,"mit Sofortabschreibung",null,null,"über die betriebsgewöhnliche "]
[null,null,null,null,null,null,null,"Nutzungsdauer abzuschreiben ist"]
[]
[]
[null,"GWG 2018: Wesentliche Neuerungen"]
[]
[null," - Die neue gesetzliche Regelung hebt die vorgenannten Grenzwerte im Wesentlichen an. Der neue Grenzwert für"]
[null,"   geringwertige Wirtschaftsgüter nach § 6 Abs. 2 Satz 1 GWG beträgt zukünftig 800 Euro. "]
[null,"   Bei der Aufzeichnungspflicht nach § 6 Abs. 2 Satz 4 verbleibt es aber bei den 150 Euro!"]
[null," - Für die Alternative des Sammelpostens nach § 6 Abs. 2a Satz 1 EStG beträgt der untere Grenzwert zukünftig 250 Euro"]
[null,"   der ober von 1.000 Euro bleibt unverändert. Unverändert bleiben die übrigen Voraussetzungen und Folgen der"]
[null,"   Bildung des Sammelpostens."]
[null," - Zudem können gemäß § 6 Abs. 2a Satz 4 EStG Wirtschaftsgüter, die einer selbständigen Nutzung fähig sind, bei einem"]
[null,"   Wert von 250 Euro  (statt bislang 150 Euro) in voller Höhe im Jahr der Anschaffung oder Herstellung als Betriebsausgabe"]
[null,"   abgezogen werden."]

{"sheet":"10","index":20,"n_rows":417,"n_cols":44,"rows_kept":417,"cut":false,"hidden":false,"merged":[[406,9,406,13],[408,9,408,13],[410,9,410,13],[380,2,380,18],[398,1,398,51],[409,39,409,43],[410,14,410,18],[410,19,410,23],[410,24,410,28],[410,29,410,33],[410,34,410,38],[410,39,410,43],[409,14,409,18],[409,19,409,23],[409,24,409,28],[409,29,409,33],[409,34,409,38],[408,39,408,43],[407,29,407,33],[407,34,407,38],[407,39,407,43],[408,29,408,33],[408,34,408,38],[408,14,408,18],[149,0,149,6],[316,2,316,18],[328,0,328,52],[348,1,348,51],[349,1,349,51],[351,1,351,51],[360,2,360,17],[342,37,342,40],[336,37,336,40],[338,17,338,20],[338,37,338,40],[344,17,344,20],[323,17,323,20],[330,17,330,20],[330,37,330,40],[331,17,331,20],[331,37,331,40],[321,0,321,6],[321,7,321,10],[321,17,321,20],[322,0,322,6],[322,7,322,10],[322,17,322,20],[319,0,319,6],[184,23,185,35],[192,23,193,35],[201,2,201,18],[210,2,210,18],[179,0,179,52],[154,37,154,40],[155,17,155,20],[153,17,153,20],[194,14,194,17],[171,14,171,17],[171,20,171,22],[171,24,171,27],[206,40,206,43],[206,0,206,6],[206,17,206,20],[203,34,203,39],[203,40,203,43],[203,0,203,6],[204,34,204,39],[207,23,207,29],[207,30,207,33],[207,34,207,39],[207,0,207,6],[207,7,207,10],[68,0,68,52],[50,23,51,34],[98,23,99,34],[106,23,107,34],[115,2,115,17],[219,2,219,18],[216,0,216,6],[216,7,216,10],[216,17,216,20],[216,23,216,29],[219,25,219,41],[215,0,215,6],[215,7,215,10],[215,17,215,20],[215,23,215,29],[215,30,215,33],[215,34,215,39],[174,14,174,17],[169,14,169,17],[169,36,169,37],[214,40,214,43],[215,40,215,43],[202,34,202,39],[202,40,202,43],[414,34,414,38],[415,34,415,38],[416,34,416,38],[418,34,418,38],[411,39,411,43],[412,14,412,18],[412,19,412,23],[412,24,412,28],[412,29,412,33],[412,34,412,38],[412,39,412,43],[411,14,411,18],[411,19,411,23],[411,24,411,28],[411,29,411,33],[411,34,411,38],[408,19,408,23],[408,24,408,28],[407,14,407,18],[407,19,407,23],[407,24,407,28],[406,14,406,18],[406,19,406,23],[406,24,406,28],[406,29,406,33],[406,34,406,38],[406,39,406,43],[405,19,405,23],[405,24,405,28],[405,29,405,33],[405,34,405,38],[403,39,403,43],[404,14,404,18],[404,19,404,23],[404,24,404,28],[404,29,404,33],[405,39,405,43],[404,34,404,38],[404,39,404,43],[403,14,403,18],[403,19,403,23],[403,24,403,28],[403,29,403,33],[403,34,403,38],[405,14,405,18],[342,17,342,20],[298,2,298,18],[343,17,343,20],[343,37,343,40],[339,17,339,20],[339,37,339,40],[340,17,340,20],[340,37,340,40],[335,17,335,20],[335,37,335,40],[336,17,336,20],[332,17,332,20],[332,37,332,40],[333,17,333,20],[333,37,333,40],[334,17,334,20],[334,37,334,40],[323,0,323,6],[323,7,323,10],[319,7,319,10],[319,17,319,20],[320,0,320,6],[320,7,320,10],[320,17,320,20],[317,0,317,6],[317,7,317,10],[317,17,317,20],[318,0,318,6],[318,7,318,10],[318,17,318,20],[313,40,313,43],[314,23,314,29],[314,30,314,33],[314,34,314,39],[314,40,314,43],[314,0,314,6],[314,7,314,10],[314,17,314,20],[313,0,313,6],[313,7,313,10],[313,17,313,20],[313,23,313,29],[313,30,313,33],[313,34,313,39],[311,40,311,43],[312,0,312,6],[312,7,312,10],[312,17,312,20],[312,23,312,29],[312,30,312,33],[312,34,312,39],[312,40,312,43],[311,0,311,6],[311,7,311,10],[311,17,311,20],[311,23,311,29],[311,30,311,33],[311,34,311,39],[309,40,309,43],[310,0,310,6],[310,7,310,10],[310,17,310,20],[310,23,310,29],[310,30,310,33],[310,34,310,39],[310,40,310,43],[309,0,309,6],[309,7,309,10],[309,17,309,20],[309,23,309,29],[309,30,309,33],[309,34,309,39],[307,25,307,41],[308,0,308,6],[308,7,308,10],[308,17,308,20],[308,23,308,29],[308,30,308,33],[308,34,308,39],[308,40,308,43],[307,2,307,18],[304,40,304,43],[305,0,305,6],[305,7,305,10],[305,17,305,20],[305,23,305,29],[305,30,305,33],[305,34,305,39],[305,40,305,43],[304,0,304,6],[304,7,304,10],[304,17,304,20],[304,23,304,29],[304,30,304,33],[304,34,304,39],[301,40,301,43],[303,0,303,6],[303,7,303,10],[303,17,303,20],[303,23,303,29],[303,30,303,33],[303,34,303,39],[303,40,303,43],[301,0,301,6],[301,7,301,10],[301,17,301,20],[301,23,301,29],[301,30,301,33],[301,34,301,39],[299,40,299,43],[300,0,300,6],[300,7,300,10],[300,17,300,20],[300,23,300,29],[300,30,300,33],[300,34,300,39],[300,40,300,43],[299,0,299,6],[299,7,299,10],[299,17,299,20],[299,23,299,29],[299,30,299,33],[299,34,299,39],[266,14,266,17],[266,18,266,31],[284,1,285,6],[284,23,285,28],[298,25,298,41],[286,14,286,17],[287,14,287,17],[288,14,288,17],[275,1,275,51],[279,0,279,52],[290,1,291,6],[290,23,291,28],[292,14,292,17],[293,14,293,17],[294,14,294,17],[261,14,261,17],[261,20,261,22],[261,24,261,27],[264,14,264,17],[264,36,264,37],[265,14,265,17],[265,36,265,37],[254,17,254,20],[254,37,254,40],[259,14,259,17],[259,36,259,37],[260,14,260,17],[260,36,260,37],[250,17,250,20],[250,37,250,40],[252,17,252,20],[252,37,252,40],[253,17,253,20],[253,37,253,40],[246,17,246,20],[246,37,246,40],[248,17,248,20],[248,37,248,40],[249,17,249,20],[249,37,249,40],[243,17,243,20],[243,37,243,40],[244,17,244,20],[244,37,244,40],[245,17,245,20],[245,37,245,40],[240,17,240,20],[240,37,240,40],[241,17,241,20],[241,37,241,40],[242,17,242,20],[242,37,242,40],[234,0,234,6],[234,7,234,10],[234,17,234,20],[235,0,235,6],[235,7,235,10],[235,17,235,20],[232,0,232,6],[232,7,232,10],[232,17,232,20],[233,0,233,6],[233,7,233,10],[233,17,233,20],[230,0,230,6],[230,7,230,10],[230,17,230,20],[231,0,231,6],[231,7,231,10],[231,17,231,20],[226,40,226,43],[229,0,229,6],[229,7,229,10],[229,17,229,20],[226,0,226,6],[226,7,226,10],[228,2,228,18],[226,17,226,20],[226,23,226,29],[226,30,226,33],[224,34,224,39],[224,40,224,43],[225,0,225,6],[225,7,225,10],[225,17,225,20],[225,23,225,29],[226,34,226,39],[223,40,223,43],[225,30,225,33],[225,34,225,39],[225,40,225,43],[224,0,224,6],[224,7,224,10],[224,17,224,20],[224,23,224,29],[224,30,224,33],[223,0,223,6],[223,7,223,10],[223,17,223,20],[223,23,223,29],[223,30,223,33],[223,34,223,39],[221,40,221,43],[222,0,222,6],[222,7,222,10],[222,17,222,20],[222,23,222,29],[222,30,222,33],[222,34,222,39],[222,40,222,43],[221,0,221,6],[221,7,221,10],[221,17,221,20],[221,23,221,29],[221,30,221,33],[221,34,221,39],[220,0,220,6],[220,7,220,10],[220,17,220,20],[220,23,220,29],[220,30,220,33],[220,34,220,39],[220,40,220,43],[216,40,216,43],[217,0,217,6],[217,7,217,10],[217,17,217,20],[217,23,217,29],[217,30,217,33],[217,34,217,39],[217,40,217,43],[216,30,216,33],[216,34,216,39],[214,0,214,6],[214,7,214,10],[214,17,214,20],[214,23,214,29],[214,30,214,33],[214,34,214,39],[155,37,155,40],[152,17,152,20],[213,0,213,6],[213,7,213,10],[213,17,213,20],[213,23,213,29],[213,30,213,33],[213,34,213,39],[156,37,156,40],[164,37,164,40],[213,40,213,43],[212,23,212,29],[212,30,212,33],[212,34,212,39],[212,40,212,43],[156,17,156,20],[152,37,152,40],[159,37,159,40],[143,0,143,6],[143,7,143,10],[143,17,143,20],[164,17,164,20],[145,0,145,6],[145,7,145,10],[145,17,145,20],[158,17,158,20],[148,0,148,6],[148,7,148,10],[160,17,160,20],[144,7,144,10],[144,17,144,20],[150,17,150,20],[154,17,154,20],[148,17,148,20],[149,17,149,20],[151,17,151,20],[146,0,146,6],[146,7,146,10],[146,17,146,20],[144,0,144,6],[149,7,149,10],[147,0,147,6],[137,7,137,10],[137,17,137,20],[137,23,137,29],[137,30,137,33],[137,34,137,39],[140,0,140,6],[140,7,140,10],[140,17,140,20],[140,23,140,29],[140,30,140,33],[140,34,140,39],[139,0,139,6],[138,0,138,6],[139,34,139,39],[138,7,138,10],[138,34,138,39],[138,23,138,29],[126,40,126,43],[121,0,121,6],[121,7,121,10],[121,17,121,20],[121,23,121,29],[136,40,136,43],[137,40,137,43],[170,14,170,17],[170,36,170,37],[162,17,162,20],[162,37,162,40],[163,17,163,20],[163,37,163,40],[139,17,139,20],[139,23,139,29],[139,30,139,33],[136,34,136,39],[138,40,138,43],[160,37,160,40],[158,37,158,40],[153,37,153,40],[142,2,142,17],[150,37,150,40],[151,37,151,40],[120,40,120,43],[124,25,124,41],[122,40,122,43],[122,23,122,29],[122,30,122,33],[122,34,122,39],[121,34,121,39],[125,30,125,33],[125,34,125,39],[125,40,125,43],[121,30,121,33],[121,40,121,43],[129,0,129,6],[129,7,129,10],[122,0,122,6],[122,7,122,10],[125,0,125,6],[125,7,125,10],[126,17,126,20],[126,0,126,6],[125,23,125,29],[128,0,128,6],[128,7,128,10],[117,34,117,39],[135,34,135,39],[129,30,129,33],[130,30,130,33],[131,34,131,39],[130,23,130,29],[127,17,127,20],[127,23,127,29],[127,30,127,33],[127,34,127,39],[122,17,122,20],[125,17,125,20],[128,23,128,29],[128,30,128,33],[128,34,128,39],[120,34,120,39],[117,0,117,6],[117,7,117,10],[117,17,117,20],[120,0,120,6],[120,7,120,10],[120,17,120,20],[117,23,117,29],[117,30,117,33],[127,0,127,6],[127,7,127,10],[174,36,174,37],[175,36,175,37],[138,30,138,33],[129,40,129,43],[134,34,134,39],[134,40,134,43],[131,23,131,29],[131,30,131,33],[131,40,131,43],[135,40,135,43],[133,25,133,41],[134,23,134,29],[134,30,134,33],[135,23,135,29],[136,23,136,29],[136,30,136,33],[140,40,140,43],[139,40,139,43],[130,0,130,6],[130,7,130,10],[130,17,130,20],[201,25,201,41],[202,0,202,6],[202,7,202,10],[202,17,202,20],[204,40,204,43],[202,30,202,33],[204,0,204,6],[204,7,204,10],[204,17,204,20],[188,14,188,17],[202,23,202,29],[130,34,130,39],[130,40,130,43],[135,30,135,33],[136,0,136,6],[131,0,131,6],[131,7,131,10],[131,17,131,20],[134,0,134,6],[134,7,134,10],[133,2,133,18],[206,7,206,10],[204,23,204,29],[204,30,204,33],[203,7,203,10],[203,17,203,20],[192,1,193,6],[135,0,135,6],[203,23,203,29],[203,30,203,33],[195,14,195,17],[196,14,196,17],[187,14,187,17],[186,14,186,17],[184,1,185,6],[175,14,175,17],[176,14,176,17],[176,18,176,31],[135,7,135,10],[135,17,135,20],[136,7,136,10],[147,7,147,10],[147,17,147,20],[136,17,136,20],[137,0,137,6],[238,0,238,52],[110,14,110,17],[212,0,212,6],[212,7,212,10],[212,17,212,20],[118,0,118,6],[118,7,118,10],[118,17,118,20],[210,25,210,41],[211,0,211,6],[211,7,211,10],[211,17,211,20],[211,23,211,29],[211,30,211,33],[211,34,211,39],[211,40,211,43],[207,40,207,43],[117,40,117,43],[208,23,208,29],[208,30,208,33],[118,30,118,33],[208,0,208,6],[208,7,208,10],[208,17,208,20],[98,1,99,6],[86,24,86,28],[86,14,86,18],[100,14,100,17],[124,2,124,18],[101,14,101,17],[102,14,102,17],[106,1,107,6],[108,14,108,17],[109,14,109,17],[118,23,118,29],[116,0,116,6],[116,7,116,10],[116,17,116,20],[116,23,116,29],[115,25,115,41],[113,0,113,52],[88,34,88,38],[89,34,89,38],[116,30,116,33],[116,34,116,39],[116,40,116,43],[120,23,120,29],[120,30,120,33],[84,39,84,43],[78,14,78,18],[79,14,79,18],[80,14,80,18],[80,19,80,23],[208,34,208,39],[208,40,208,43],[118,34,118,39],[118,40,118,43],[86,19,86,23],[207,17,207,20],[206,23,206,29],[206,30,206,33],[206,34,206,39],[129,17,129,20],[134,17,134,20],[128,17,128,20],[127,40,127,43],[126,23,126,29],[126,30,126,33],[129,34,129,39],[126,34,126,39],[128,40,128,43],[129,23,129,29],[85,19,85,23],[85,24,85,28],[85,29,85,33],[85,34,85,38],[84,19,84,23],[85,14,85,18],[82,19,82,23],[81,19,81,23],[83,19,83,23],[81,14,81,18],[82,14,82,18],[83,14,83,18],[84,14,84,18],[82,29,82,33],[83,29,83,33],[83,34,83,38],[85,39,85,43],[86,39,86,43],[87,34,87,38],[86,34,86,38],[79,29,79,33],[79,34,79,38],[82,24,82,28],[84,24,84,28],[84,29,84,33],[84,34,84,38],[79,39,79,43],[81,24,81,28],[81,29,81,33],[81,34,81,38],[82,34,82,38],[83,24,83,28],[80,29,80,33],[86,29,86,33],[80,24,80,28],[82,39,82,43],[83,39,83,43],[80,34,80,38],[80,39,80,43],[81,39,81,43],[79,19,79,23],[79,24,79,28],[75,29,75,33],[75,34,75,38],[75,39,75,43],[77,34,77,38],[77,39,77,43],[76,34,76,38],[76,39,76,43],[78,39,78,43],[78,19,78,23],[78,24,78,28],[78,29,78,33],[78,34,78,38],[75,14,75,18],[75,19,75,23],[75,24,75,28],[77,14,77,18],[77,29,77,33],[76,14,76,18],[76,19,76,23],[76,24,76,28],[76,29,76,33],[77,19,77,23],[77,24,77,28],[30,1,31,6],[30,11,30,21],[33,14,33,17],[34,14,34,17],[35,14,35,17],[41,1,42,6],[44,14,44,17],[45,14,45,17],[46,14,46,17],[32,10,32,17],[43,10,43,17],[54,14,54,17],[58,14,58,17],[58,36,58,37],[59,14,59,17],[59,36,59,37],[60,14,60,17],[60,20,60,22],[60,24,60,27],[50,1,51,6],[51,36,51,37],[52,14,52,17],[52,36,52,37],[53,14,53,17],[53,36,53,37],[356,14,356,17],[357,14,357,17],[358,14,358,17],[352,14,352,17],[353,14,353,17],[354,14,354,17],[352,38,352,41],[353,38,353,41],[354,38,354,41],[360,25,360,41],[361,0,361,6],[361,7,361,10],[361,17,361,20],[361,23,361,29],[361,30,361,33],[361,34,361,39],[381,0,381,6],[381,7,381,10],[381,17,381,20],[381,23,381,29],[381,30,381,33],[381,34,381,39],[362,23,362,29],[362,30,362,33],[362,34,362,39],[362,40,362,43],[362,0,362,6],[362,7,362,10],[362,17,362,20],[363,23,363,29],[361,40,361,43],[363,30,363,33],[363,34,363,39],[363,40,363,43],[363,0,363,6],[363,7,363,10],[363,17,363,20],[364,23,364,29],[364,30,364,33],[364,34,364,39],[364,40,364,43],[364,0,364,6],[364,7,364,10],[364,17,364,20],[365,23,365,29],[365,30,365,33],[365,34,365,39],[365,40,365,43],[365,0,365,6],[365,7,365,10],[365,17,365,20],[366,23,366,29],[366,30,366,33],[366,34,366,39],[366,40,366,43],[366,0,366,6],[366,7,366,10],[366,17,366,20],[382,30,382,33],[382,34,382,39],[382,40,382,43],[374,17,374,20],[374,37,374,40],[375,17,375,20],[375,37,375,40],[380,25,380,41],[381,40,381,43],[377,0,377,52],[382,0,382,6],[382,7,382,10],[382,17,382,20],[84,9,84,12],[384,23,384,29],[383,23,383,29],[383,30,383,33],[383,34,383,39],[383,40,383,43],[383,0,383,6],[383,7,383,10],[383,17,383,20],[384,30,384,33],[384,34,384,39],[384,40,384,43],[384,0,384,6],[384,7,384,10],[384,17,384,20],[371,17,371,20],[371,37,371,40],[373,17,373,20],[373,37,373,40],[369,17,369,20],[369,37,369,40],[370,17,370,20],[370,37,370,40],[382,23,382,29],[386,0,386,6],[386,7,386,10],[386,17,386,20],[385,23,385,29],[385,30,385,33],[62,1,62,51],[64,1,64,51],[66,1,66,51],[71,1,71,51],[73,1,73,51],[284,7,284,22],[290,7,290,22],[126,7,126,10],[138,17,138,20],[139,7,139,10],[159,17,159,20],[385,34,385,39],[385,40,385,43],[385,0,385,6],[385,7,385,10],[385,17,385,20],[78,9,78,13],[80,9,80,13],[82,9,82,13],[389,17,389,20],[389,37,389,40],[390,17,390,20],[390,37,390,40],[386,23,386,29],[386,30,386,33],[386,34,386,39],[386,40,386,43],[394,17,394,20],[394,37,394,40],[395,17,395,20],[395,37,395,40],[391,17,391,20],[391,37,391,40],[393,17,393,20],[393,37,393,40],[1,0,1,52],[7,1,7,51],[11,1,11,51],[13,1,13,51],[15,1,15,51],[17,1,17,51],[19,1,19,51],[23,1,23,51],[30,23,31,34],[48,1,48,51],[41,23,42,34],[38,1,38,42],[28,1,28,42],[26,0,26,52],[98,7,98,22],[106,7,106,22],[184,7,184,22],[192,7,192,22]]}
[]
[{"$f":"'9'!A184:BA184+1","v":38}]
[]
[null,10,"Die Umsatzsteuer"]
[]
[null,"10.1","Umsatzsteuerpflicht"]
[]
[null,"Der Umsatzsteuer unterliegen gemäß § 1 UStG:\n1. Lieferungen und sonstige Leistungen (= Dienstleistungen), die ein Unternehmer gegen Entgelt im Rahmen seines Unternehmens ausführt.\n2. Einfuhr von Gegenständen aus dem Drittlandsgebiet in das Zollgebiet (Einfuhrumsatzsteuer).\n3. Innergemeinschaftlicher Erwerb im Inland gegen Entgelt.\n"]
[]
[null,"10.2","Systematik der Umsatzsteuer"]
[]
[null,"Die foldende Skizze demonstriert, dass die Umsatzsteuer, im täglichen Sprachgebrauch \"Mehrwertsteuer\" im Rahmen des Leistungserstellungsprozesses von einem Unternehmer zum nächsten bzw. Endverbraucher fortgeführt („überwälzt“) wird:\n"]
[]
[null,"1) Jeder Unternehmer muss die Steuer in seiner Rechnung ausweisen und an die Behörden abführen (die sogenannte Umsatzsteuer-Zahllast). Die im Verkauf berechnete Umsatzsteuer wird also „für“ das Finanzamt erhoben und diesem geschuldet. Sie ist damit eine Verbindlichkeit.\n"]
[]
[null,"2) Der Unternehmer erhält die Steuerbeträge, die in den erhaltenen Rechnungen ausgewiesen sind, aber vom Finanzamt erstattet. Die sogenannte Vorsteuer-Überhänge sind also Forderungen gegen das Finanzamt.\n"]
[]
[null,"Umsatzsteuerschuld und Umsatzsteuerforderung können miteinander verrechnet werden. Dies ist kein Verstoß gegen das Verrechnungsverbot des § 246 Abs. 2 HGB.\n"]
[]
[null,"Die Umsatzsteuer ist also für alle Unternehmer erfolgsneutral. Da nur der Nichtunternehmer (idR Privatpersonen) die Vorsteuer-Erstattung nicht in Anspruch nehmen kann, trägt dieser am Ende der Leistungskette die Steuerlast. Dies begründet, dass die Steuer aus Sicht der Unternehmer ein Durchlaufposten ist.\n"]
[]
[null,"10.3","Umsatzsteuer im Einkauf- und Verkaufsprozess"]
[]
[null,"USt-pflichtig sind alle entgeltlichen Leistungen eines Unternehmens im Inland. Problem: Ein Produkt kann direkt vom Erzeuger zum Endverbraucher gelangen, dann fällt die USt nur einmal an, liegen auf dem Weg vom Erzeuger der Grundstoffe über die Weiterverarbeitungsindustrie und verschiedene Handelsstufen bis zum Endverbraucher aber z.B. 6 Stufen, fällt sechsmal die USt an. Würde man jetzt die USt kumulieren, hätte es die fatale Folge, dass Produkte für den Endverbraucher um so teurer würden, je arbeitsteiliger die Wirtschaft organisiert ist, dass aber eigentlich unerwünschte Konzentrationsprozesse in der Wirtschaft die Produkte verbilligen würden. Daher gibt es seit 1968 die USt in der Form der nicht-kumulativen.\n"]
[]
[]
[{"$f":"A2+1","v":39}]
[]
[null,"a) Einkauf:"]
[]
[null,"Industrie-UN",null,null,null,null,null,null,null,null,null,"Einkauf: Rohstoffe auf Ziel",null,null,null,null,null,null,null,null,null,null,null,"Urproduktion"]
[]
[null,null,null,null,null,null,null,null,null,null,"Eingangsrechnung:"]
[null,null,null,null,null,null,null,null,null,null,null,null,"Entgelt",null,400]
[null,null,null,null,null,null,null,null,null,null,null,null,"+Umsatzsteuer 19%",null,{"$f":"O34*19%","v":76},null,null,null,"(Vorsteuer = Forderung)"]
[null,null,null,null,null,null,null,null,null,null,null,null,"= Kaufpreis",null,{"$f":"O34*1.19","v":476},null,null,null,"(brutto = inklusive Umsatzsteuer)"]
[]
[null,"    Verkauf"]
[null,"b) Verkauf:"]
[]
[]
[null,"Industrie-UN",null,null,null,null,null,null,null,null,null,null,null,null,"Verkauf fertiges Produkt",null,null,null,null,null,null,null,null,"Kunde"]
[]
[null,null,null,null,null,null,null,null,null,null,"Ausgangsrechnung:"]
[null,null,null,null,null,null,null,null,null,null,null,null,"Entgelt",null,500]
[null,null,null,null,null,null,null,null,null,null,null,null,"+Umsatzsteuer 19%",null,{"$f":"O45*19%","v":95},null,null,null,"(Umsatzsteuer = Verbindlichkeit)"]
[null,null,null,null,null,null,null,null,null,null,null,null,"=Verkaufspreis",null,{"$f":"O45*1.19","v":595},null,null,null,{"$f":"S36","v":"(brutto = inklusive Umsatzsteuer)"}]
[]
[null,"Damit hat unser Industrie-UN selbst USt 76 € bezahlt, von seinem Kunden aber  USt 95 € erhalten. Da die USt nur den  ENDVERBRAUCHER treffen soll, erhält jeder Weiterverkäufer die selbst beim Einkauf bezahlte USt vom FA zurück (Vorsteuer), d. h. er zieht sie von der beim Verkauf eingenommenen USt ab und überweist den Rest  (Zahllast) ans Finanzamt.\n"]
[]
[null,"Industrie-UN",null,null,null,null,null,null,null,null,null,null,null,null,null,null,null,null,null,null,null,null,null,"Finanzamt"]
[]
[null,null,null,null,null,null,null,null,null,null,null,null,"Umsatzsteuer",null,{"$f":"O46","v":95},null,null,null,null,"(aus dem Verkauf)"]
[null,null,null,null,null,null,null,null,null,null,null,null,"-Vorsteuer",null,{"$f":"O35","v":76},null,null,null,null,"(aus dem Einkauf)"]
[null,null,null,null,null,null,null,null,null,null,null,null,"= Zahllast",null,{"$f":"O53-O54","v":19},null,null,null,null,"Umsatzsteuervoranmeldung",null,null,null,null,null,null,null,null,null,null,null,null,"(zum 10. Folgemonats)"]
[null,null,null,null,null,null,null,null,null,null,null,null,null,null,null,null,null,null,null,"Bezahlung ans Finanzamt"]
[null,null,null,null,null,null,null,null,null,null,null,null,null,null,"oder"]
[]
[null,null,null,null,null,null,null,null,null,null,null,null,"Verkauf",null,{"$f":"O45","v":500},null,null,null,null,"netto"]
[null,null,null,null,null,null,null,null,null,null,null,null,"Kauf",null,{"$f":"O34","v":400},null,null,null,null,"netto"]
[null,null,null,null,null,null,null,null,null,null,null,null,"Mehrwert",null,{"$f":"O59-O60","v":100},null,null,null,null,"x ",0.19,null,null,"=",{"$f":"O61*U61","v":19}]
[]
[null,"Im Beispiel beträgt die Zahllast:     \n95  €    ./.   76  €   =   19 € (Bezahlung Finanzamt). \nDies ist genau der vom Industrie-Unternehmen geschaffene Mehrwert \n500 – 400 = 100 x 19% =  19 \nalso der Differenz zwischen Ver- und Einkaufspreis. Daher der Name Mehrwertsteuer! \n"]
[]
[null,"c) Die Umsatzsteuer-Zahllast muss grundsätzlich jeweils bis zum 10. des Folgemonats der Leistung (= Lieferung der Ware) beim Finanzamt angemeldet und bezahlt werden. "]
[]
[null,"d) Export ist steuerfrei, weil jedes Empfängerland seinen eigenen USt-Satz hat. Beim Import fällt Einfuhrumsatzsteuer (Drittland) an in Höhe der deutschen USt. Bei EU-Importen spricht man von der Erwerbsteuer.\n"]
[]
[{"$f":"A27+1","v":40}]
[]
[]
[null,"e) Der ermäßigte Steuersatz von 7 % gilt für bestimmte Grundnahrungsmittel, Bücher, Zeitungen, Wasser usw., steuerfrei sind z.B. Bankumsätze, Versicherungsumsätze, Ärzte, Zinsen. Der Normalsatz begann 1968 mit 10 % und beträgt seit Januar 2007 inzwischen 19 %.\n"]
[]
[null,"f) Die USt ist wie z.B. die Tabaksteuer oder Mineralölsteuer eine Verbrauch-Steuer, d.h. sie wird zwar von den Unternehmen ans FA abgeführt, letztlich aber über die Preise vom Endverbraucher getragen. \n"]
[]
[null,"Umsatzstufe",null,null,null,null,null,null,null,"Verkaufs-",null,null,null,null,"./.Einkaufs-",null,null,null,null,"= Mehr-",null,null,null,null,"Umsatz-",null,null,null,null,"./. Vor-",null,null,null,null,"= Zahl-"]
[null,null,null,null,null,null,null,null,null,"preis",null,null,null,null,"    preis",null,null,null,null,"   wert",null,null,null,null,"Steuer",null,null,null,null,"   Steuer",null,null,null,null,"   last"]
[null,null,null,null,null,null,null,null,null,"Entgelt"]
[null,"I. Urproduktion",null,null,null,null,null,null,null,3000,null,null,null,null,0,null,null,null,null,{"$f":"J79-O79","v":3000},null,null,null,null,{"$f":"J79*19%","v":570},null,null,null,null,{"$f":"-O79*19%","v":0},null,null,null,null,{"$f":"Y79+AD79","v":570}]
[]
[null,"II. Industrie",null,null,null,null,null,null,null,4000,null,null,null,null,{"$f":"J79","v":3000},null,null,null,null,{"$f":"J81-O81","v":1000},null,null,null,null,{"$f":"J81*19%","v":760},null,null,null,null,{"$f":"-O81*19%","v":-570},null,null,null,null,{"$f":"Y81+AD81","v":190}]
[]
[null,"III. Großhandel",null,null,null,null,null,null,null,8000,null,null,null,null,{"$f":"J81","v":4000},null,null,null,null,{"$f":"J83-O83","v":4000},null,null,null,null,{"$f":"J83*19%","v":1520},null,null,null,null,{"$f":"-O83*19%","v":-760},null,null,null,null,{"$f":"Y83+AD83","v":760}]
[]
[null,"IV. Einzelhandel",null,null,null,null,null,null,null,10000,null,null,null,null,{"$f":"J83","v":8000},null,null,null,null,{"$f":"J85-O85","v":2000},null,null,null,null,{"$f":"J85*19%","v":1900},null,null,null,null,{"$f":"-O85*19%","v":-1520},null,null,null,null,{"$f":"Y85+AD85","v":380}]
[]
[null,"Endverbraucher",null,null,null,null,null,null,null,"entfällt",null,null,null,null,"entfällt",null,null,null,null,{"$f":"O87","v":"entfällt"},null,null,null,null,"entfällt",null,null,null,null,"entfällt",null,null,null,null,"entfällt"]
[null,null,null,null,null,null,null,null,null,null,null,null,null,null,null,null,null,null,null,null,null,null,null,null,null,null,null,null,null,null,null,null,null,"MEHRWERT",10000]
[null,null,null,null,null,null,null,null,null,null,null,null,null,null,null,null,null,null,null,null,null,null,null,null,null,null,null,null,null,null,null,null,null,null,{"$f":"SUM(AI79:AM85)","v":1900}]
[null,null,null,null,null,null,null,null,null,null,null,null,null,null,null,null,null,null,null,null,null,null,null,null,null,null,null,null,null,null,null,null,null,"ENDVERBRAUCHER",{"$f":"AI88+AI89","v":11900}]
[]
[]
[]
[null,"10.4","Verbuchung der Umsatzsteuer"]
[]
[null,"Beispiel 1: Verkäufe 60.000 > Einkäufe 50.000"]
[]
[]
[null,"Industrie",null,null,null,null,null,"(1) Einkauf: Rohstoffe auf Ziel",null,null,null,null,null,null,null,null,null,null,null,null,null,null,null,"Urproduktion"]
[]
[null,null,null,null,null,null,null,null,null,null,null,null,"Entgelt aus Eingangsrechnungen",null,50000]
[null,null,null,null,null,null,null,null,null,null,null,null,"+Umsatzsteuer 19%",null,{"$f":"O101*19%","v":9500},null,null,null,"(Vorsteuer)"]
[null,null,null,null,null,null,null,null,null,null,null,null,"=Kaufpreis (brutto)",null,{"$f":"O101*1.19","v":59500},null,null,null," (bezahlt)"]
[]
[null,"    Verkauf"]
[]
[null,"Industrie",null,null,null,null,null,"(2) Verkauf fertiges Produkt",null,null,null,null,null,null,null,null,null,null,null,null,null,null,null,"Kunde"]
[]
[null,null,null,null,null,null,null,null,null,null,null,null,"Entgelt aus Ausgangsrechnungen",null,60000]
[null,null,null,null,null,null,null,null,null,null,null,null,"+Umsatzsteuer 19%",null,{"$f":"O109*19%","v":11400}]
[null,null,null,null,null,null,null,null,null,null,null,null,"=Verkaufspreis (brutto)",null,{"$f":"O109*1.19","v":71400}]
[]
[]
[{"$f":"A69+1","v":41}]
[]
["Soll",null,"Rohstoffe",null,null,null,null,null,null,null,null,null,null,null,null,null,null,null,null,null,"H",null,null,"Soll",null,"Umsatzerlöse",null,null,null,null,null,null,null,null,null,null,null,null,null,null,null,null,null,"H"]
["Anfangsbestand",null,null,null,null,null,null,0,null,null,null,"Abgänge",null,null,null,null,null,0]
[]
["Zugänge (1)",null,null,null,null,null,null,{"$f":"O101","v":50000},null,null,null,null,null,null,null,null,null,null,null,null,null,null,null,null,null,null,null,null,null,null,null,null,null,null,"(2)",null,null,null,null,null,{"$f":"O109","v":60000}]
[]
[null,null,null,null,null,null,null,null,null,null,null,"Endbestand",null,null,null,null,null,{"$f":"H117+H118+H119+H121+H122-R117-R118-R119","v":50000},null,null,null,null,null,"Saldo => GuV",null,null,null,null,null,null,{"$f":"AO117+AO118+AO119++AO121+AO122-AE117-AE118-AE119","v":60000}]
[]
[null,null,null,null,null,null,null,{"$f":"SUM(H117:K122)","v":50000},null,null,null,null,null,null,null,null,null,{"$f":"SUM(R117:U122)","v":50000},null,null,null,null,null,null,null,null,null,null,null,null,{"$f":"SUM(AE117:AH122)","v":60000},null,null,null,null,null,null,null,null,null,{"$f":"SUM(AO117:AR122)","v":60000}]
[]
["Soll",null,"Vorsteuer",null,null,null,null,null,null,null,null,null,null,null,null,null,null,null,null,null,"H",null,null,"Soll",null,"Umsatzsteuer",null,null,null,null,null,null,null,null,null,null,null,null,null,null,null,null,null,"H"]
[null,null,null,null,null,null,null,null,null,null,null,"Abgänge",null,null,null,null,null,0]
[null,null,null,null,null,null,null,null,null,null,null,null,null,null,null,null,null,null,null,null,null,null,null,{"$f":"C125","v":"Vorsteuer"},null,null,null,null,null,null,{"$f":"R130","v":9500}]
["Zugänge (1)",null,null,null,null,null,null,{"$f":"O102","v":9500},null,null,null,null,null,null,null,null,null,null,null,null,null,null,null,"(3)",null,null,null,null,null,null,null,null,null,null,"Zugänge (2)",null,null,null,null,null,{"$f":"O110","v":11400}]
[]
[null,null,null,null,null,null,null,null,null,null,null,"Endbestand (3)",null,null,null,null,null,{"$f":"H126+H127+H128+H129+H130+H131-R126-R127-R128-R129","v":9500},null,null,null,null,null,"Zahllast",null,null,null,null,null,null,{"$f":"AO126+AO127+AO128+AO129+AO130+AO131-AE126-AE127-AE128-AE129","v":1900}]
[null,null,null,null,null,null,null,null,null,null,null,"=> Umsatzsteuer",null,null,null,null,null,null,null,null,null,null,null,"(4)"]
[null,null,null,null,null,null,null,{"$f":"SUM(H126:K131)","v":9500},null,null,null,null,null,null,null,null,null,{"$f":"SUM(R126:U131)","v":9500},null,null,null,null,null,null,null,null,null,null,null,null,{"$f":"SUM(AE126:AH131)","v":11400},null,null,null,null,null,null,null,null,null,{"$f":"SUM(AO126:AR131)","v":11400}]
[]
["Soll",null,"Forderungen a LuL",null,null,null,null,null,null,null,null,null,null,null,null,null,null,null,null,null,"H",null,null,"Soll",null,"Verbindlichkeiten a LuL",null,null,null,null,null,null,null,null,null,null,null,null,null,null,null,null,null,"H"]
["Anfangsbestand",null,null,null,null,null,null,{"$f":"Q108","v":0},null,null,null,"Abgänge",null,null,null,null,null,null,null,null,null,null,null,"Abgänge",null,null,null,null,null,null,null,null,null,null,"Anfangsbestand",null,null,null,null,null,0]
[]
["Zugänge (2)",null,null,null,null,null,null,{"$f":"O111","v":71400},null,null,null,null,null,null,null,null,null,null,null,null,null,null,null,null,null,null,null,null,null,null,null,null,null,null,"Zugänge (1)",null,null,null,null,null,{"$f":"O103","v":59500}]
[]
[null,null,null,null,null,null,null,null,null,null,null,"Endbestand",null,null,null,null,null,{"$f":"H135+H136+H137+H138+H139+H140-R135-R136-R137-R138","v":71400},null,null,null,null,null,"Endbestand",null,null,null,null,null,null,{"$f":"AO135+AO136+AO137+AO138+AO139+AO140-AE135-AE136-AE137-AE138","v":59500}]
[]
[null,null,null,null,null,null,null,{"$f":"SUM(H135:K140)","v":71400},null,null,null,null,null,null,null,null,null,{"$f":"SUM(R135:U140)","v":71400},null,null,null,null,null,null,null,null,null,null,null,null,{"$f":"SUM(AE135:AH140)","v":59500},null,null,null,null,null,null,null,null,null,{"$f":"SUM(AO135:AR140)","v":59500}]
[]
["Soll",null,"Bank",null,null,null,null,null,null,null,null,null,null,null,null,null,null,null,null,null,"H"]
["Anfangsbestand",null,null,null,null,null,null,{"$f":"Q117","v":0},null,null,null,"Abgänge",null,null,null,null,null,{"$f":"AE130","v":1900}]
[null,null,null,null,null,null,null,null,null,null,null,"(4)"]
["Zugänge",null,null,null,null,null,null,0]
[]
[null,null,null,null,null,null,null,null,null,null,null,"Endbestand",null,null,null,null,null,null,null,null,null,"(= Bankkonto wurde überzogen)"]
[]
[]
[null,"Buchungssatz:",null,null,null,null,null,"Soll",null,null,null,null,null,null,null,null,null,{"$f":"SUM(R152:U154)","v":59500},null,null,null,null,null,"Haben",null,null,null,null,null,null,null,null,null,null,null,null,null,{"$f":"SUM(AL152:AO154)","v":59500}]
[null,"1. Einkauf",null,null,null,null,null,{"$f":"C116","v":"Rohstoffe"},null,null,null,null,null,null,null,null,null,{"$f":"H119","v":50000},null,null,null,"an",null,{"$f":"Z134","v":"Verbindlichkeiten a LuL"},null,null,null,null,null,null,null,null,null,null,null,null,null,{"$f":"AO137","v":59500}]
[null,null,null,null,null,null,null,{"$f":"C125","v":"Vorsteuer"},null,null,null,null,null,null,null,null,null,{"$f":"H128","v":9500}]
[]
[null,"Buchungssatz:",null,null,null,null,null,"Soll",null,null,null,null,null,null,null,null,null,{"$f":"SUM(R156:U158)","v":71400},null,null,null,null,null,"Haben",null,null,null,null,null,null,null,null,null,null,null,null,null,{"$f":"SUM(AL156:AO158)","v":71400}]
[null,"2. Verkauf",null,null,null,null,null,{"$f":"C134","v":"Forderungen a LuL"},null,null,null,null,null,null,null,null,null,{"$f":"H137","v":71400},null,null,null,"an",null,{"$f":"Z116","v":"Umsatzerlöse"},null,null,null,null,null,null,null,null,null,null,null,null,null,{"$f":"AO119","v":60000}]
[null,null,null,null,null,null,null,null,null,null,null,null,null,null,null,null,null,null,null,null,null,null,null,{"$f":"Z125","v":"Umsatzsteuer"},null,null,null,null,null,null,null,null,null,null,null,null,null,{"$f":"AO128","v":11400}]
[]
[null,"Buchungssatz:",null,null,null,null,null,"Soll",null,null,null,null,null,null,null,null,null,{"$f":"SUM(R160)","v":9500},null,null,null,null,null,"Haben",null,null,null,null,null,null,null,null,null,null,null,null,null,{"$f":"SUM(AL160)","v":9500}]
[null,"3. Umbuchung",null,null,null,null,null,{"$f":"Z125","v":"Umsatzsteuer"},null,null,null,null,null,null,null,null,null,{"$f":"AE127","v":9500},null,null,null,"an",null,{"$f":"C125","v":"Vorsteuer"},null,null,null,null,null,null,null,null,null,null,null,null,null,{"$f":"R130","v":9500}]
[null,"    Vorsteuer"]
[]
[null,"Buchungssatz:",null,null,null,null,null,"Soll",null,null,null,null,null,null,null,null,null,{"$f":"SUM(R164:U165)","v":1900},null,null,null,null,null,"Haben",null,null,null,null,null,null,null,null,null,null,null,null,null,{"$f":"SUM(AL164:AO165)","v":1900}]
[null,"4. Bezahlung",null,null,null,null,null,{"$f":"Z125","v":"Umsatzsteuer"},null,null,null,null,null,null,null,null,null,{"$f":"AE130","v":1900},null,null,null,"an",null,{"$f":"C143","v":"Bank"},null,null,null,null,null,null,null,null,null,null,null,null,null,{"$f":"R144","v":1900}]
[null,"    Finanzamt"]
[]
[]
[null,"Berechnung der Zahllast gegenüber dem Finanzamt (zum 10. des Folgemonats):"]
[]
[null,null,null,null,null,null,null,null,null,null,null,null,"Summe Ausgangsrechnungen (netto)",null,60000]
[null,null,null,null,null,null,null,null,null,null,null,null,"Summe Eingangsrechnungen (netto)",null,50000]
[null,null,null,null,null,null,null,null,null,null,null,null,"Mehrwert",null,{"$f":"O170-O171","v":10000},null,null,null,null,"x ",0.19,null,null,"=",{"$f":"O172*U172","v":1900}]
[]
[]
[null,null,"oder:",null,null,null,null,null,null,null,null,null,"Umsatzsteuer",null,{"$f":"O170*U172","v":11400}]
[null,null,null,null,null,null,null,null,null,null,null,null,"Vorsteuer",null,{"$f":"-O171*U172","v":-9500}]
[null,null,null,null,null,null,null,null,null,null,null,null,"Zahllast",null,{"$f":"O175+O176","v":1900},null,null,null,"(= Bezahlung ans Finanzamt)"]
[]
[]
[{"$f":"A114+1","v":42}]
[]
[null,"Beispiel 2: Verkäufe 60.000 < Einkäufe 100.000"]
[]
[]
[null,"Industrie",null,null,null,null,null,"(1) Einkauf: Rohstoffe auf Ziel",null,null,null,null,null,null,null,null,null,null,null,null,null,null,null,"Urproduktion"]
[]
[null,null,null,null,null,null,null,null,null,null,null,null,"Entgelt aus Eingangsrechnungen",null,100000]
[null,null,null,null,null,null,null,null,null,null,null,null,"+Umsatzsteuer 19%",null,{"$f":"O187*19%","v":19000},null,null,null,"(Vorsteuer)"]
[null,null,null,null,null,null,null,null,null,null,null,null,"=Kaufpreis",null,{"$f":"O187*1.19","v":119000}]
[]
[null,"    Verkauf"]
[]
[null,"Industrie",null,null,null,null,null,"(2) Verkauf fertiges Produkt",null,null,null,null,null,null,null,null,null,null,null,null,null,null,null,"Kunde"]
[]
[null,null,null,null,null,null,null,null,null,null,null,null,"Entgelt aus Ausgangsrechnungen",null,60000]
[null,null,null,null,null,null,null,null,null,null,null,null,"+Umsatzsteuer 19%",null,{"$f":"O195*19%","v":11400}]
[null,null,null,null,null,null,null,null,null,null,null,null,"=Verkaufspreis",null,{"$f":"O195*1.19","v":71400}]
[]
[]
[]
[]
["S",null,"Rohstoffe",null,null,null,null,null,null,null,null,null,null,null,null,null,null,null,null,null,"H",null,null,"S",null,"Umsatzerlöse",null,null,null,null,null,null,null,null,null,null,null,null,null,null,null,null,null,"H"]
["Anfangsbestand",null,null,null,null,null,null,0,null,null,null,"Abgänge",null,null,null,null,null,0]
[]
["Zugänge (1)",null,null,null,null,null,null,{"$f":"O187","v":100000},null,null,null,null,null,null,null,null,null,null,null,null,null,null,null,null,null,null,null,null,null,null,null,null,null,null,"(2)",null,null,null,null,null,{"$f":"O195","v":60000}]
[]
[null,null,null,null,null,null,null,null,null,null,null,"Endbestand",null,null,null,null,null,{"$f":"H203+H204+H205+H207+H208-R203-R204-R205","v":100000},null,null,null,null,null,"Saldo => GuV",null,null,null,null,null,null,{"$f":"AO203+AO204+AO205++AO207+AO208-AE203-AE204-AE205","v":60000}]
[]
[null,null,null,null,null,null,null,{"$f":"SUM(H203:K208)","v":100000},null,null,null,null,null,null,null,null,null,{"$f":"SUM(R203:U208)","v":100000},null,null,null,null,null,null,null,null,null,null,null,null,{"$f":"SUM(AE203:AH208)","v":60000},null,null,null,null,null,null,null,null,null,{"$f":"SUM(AO203:AR208)","v":60000}]
[]
["S",null,"Vorsteuer",null,null,null,null,null,null,null,null,null,null,null,null,null,null,null,null,null,"H",null,null,"S",null,"Umsatzsteuer",null,null,null,null,null,null,null,null,null,null,null,null,null,null,null,null,null,"H"]
["Anfangsbestand",null,null,null,null,null,null,{"$f":"Q185","v":0},null,null,null,"Abgänge",null,null,null,null,null,0,null,null,null,null,null,null,null,null,null,null,null,null,null,null,null,null,"Anfangsbestand",null,null,null,null,null,0]
[null,null,null,null,null,null,null,null,null,null,null,null,null,null,null,null,null,null,null,null,null,null,null,{"$f":"C211","v":"Vorsteuer"},null,null,null,null,null,null,{"$f":"R216","v":19000}]
["Zugänge (1)",null,null,null,null,null,null,{"$f":"O188","v":19000},null,null,null,null,null,null,null,null,null,null,null,null,null,null,null,"(3)",null,null,null,null,null,null,null,null,null,null,"Zugänge (2)",null,null,null,null,null,{"$f":"O196","v":11400}]
[]
[null,null,null,null,null,null,null,null,null,null,null,"Endbestand (3)",null,null,null,null,null,{"$f":"H212+H213+H214+H215+H216+H217-R212-R213-R214-R215","v":19000},null,null,null,null,null,null,null,null,null,null,null,null,null,null,null,null,"Vorsteuer-",null,null,null,null,null,{"$f":"AE213-AO214","v":7600}]
[null,null,null,null,null,null,null,null,null,null,null,"=> Umsatzsteuer",null,null,null,null,null,null,null,null,null,null,null,null,null,null,null,null,null,null,null,null,null,null,"überhang (4)"]
[null,null,null,null,null,null,null,{"$f":"SUM(H212:K217)","v":19000},null,null,null,null,null,null,null,null,null,{"$f":"SUM(R212:U217)","v":19000},null,null,null,null,null,null,null,null,null,null,null,null,{"$f":"SUM(AE212:AH217)","v":19000},null,null,null,null,null,null,null,null,null,{"$f":"SUM(AO212:AR217)","v":19000}]
[]
["S",null,"Forderungen a LuL",null,null,null,null,null,null,null,null,null,null,null,null,null,null,null,null,null,"H",null,null,"S",null,"Verbindlichkeiten a LuL",null,null,null,null,null,null,null,null,null,null,null,null,null,null,null,null,null,"H"]
["Anfangsbestand",null,null,null,null,null,null,{"$f":"Q194","v":0},null,null,null,"Abgänge",null,null,null,null,null,null,null,null,null,null,null,"Abgänge",null,null,null,null,null,null,0,null,null,null,"Anfangsbestand",null,null,null,null,null,0]
[]
["Zugänge (2)",null,null,null,null,null,null,{"$f":"O197","v":71400},null,null,null,null,null,null,null,null,null,null,null,null,null,null,null,null,null,null,null,null,null,null,null,null,null,null,"Zugänge (1)",null,null,null,null,null,{"$f":"O189","v":119000}]
[]
[null,null,null,null,null,null,null,null,null,null,null,"Endbestand",null,null,null,null,null,{"$f":"H221+H222+H223+H224+H225+H226-R221-R222-R223-R224","v":71400},null,null,null,null,null,"Endbestand",null,null,null,null,null,null,{"$f":"AO221+AO222+AO223+AO224+AO225+AO226-AE221-AE222-AE223-AE224","v":119000}]
[]
[null,null,null,null,null,null,null,{"$f":"SUM(H221:K226)","v":71400},null,null,null,null,null,null,null,null,null,{"$f":"SUM(R221:U226)","v":71400},null,null,null,null,null,null,null,null,null,null,null,null,{"$f":"SUM(AE221:AH226)","v":119000},null,null,null,null,null,null,null,null,null,{"$f":"SUM(AO221:AR226)","v":119000}]
[]
["S",null,"Bank",null,null,null,null,null,null,null,null,null,null,null,null,null,null,null,null,null,"H"]
["Anfangsbestand",null,null,null,null,null,null,{"$f":"Q203","v":0}]
[]
["Zugänge (4)",null,null,null,null,null,null,{"$f":"AO216","v":7600}]
[]
[null,null,null,null,null,null,null,null,null,null,null,"Endbestand",null,null,null,null,null,{"$f":"H230+H231+H232+H233+H234+H235-R230-R231-R232-R233","v":7600}]
[]
[null,null,null,null,null,null,null,{"$f":"SUM(H230:K235)","v":7600},null,null,null,null,null,null,null,null,null,{"$f":"SUM(R230:U235)","v":7600}]
[]
[]
[{"$f":"A180+1","v":43}]
[]
[null,"Buchungssatz:",null,null,null,null,null,"Soll",null,null,null,null,null,null,null,null,null,{"$f":"SUM(R242:U244)","v":119000},null,null,null,null,null,"Haben",null,null,null,null,null,null,null,null,null,null,null,null,null,{"$f":"SUM(AL242:AO244)","v":119000}]
[null,"1. Einkauf",null,null,null,null,null,{"$f":"C202","v":"Rohstoffe"},null,null,null,null,null,null,null,null,null,{"$f":"H205","v":100000},null,null,null,"an",null,{"$f":"Z220","v":"Verbindlichkeiten a LuL"},null,null,null,null,null,null,null,null,null,null,null,null,null,{"$f":"AO223","v":119000}]
[null,null,null,null,null,null,null,{"$f":"C211","v":"Vorsteuer"},null,null,null,null,null,null,null,null,null,{"$f":"H214","v":19000}]
[]
[null,"Buchungssatz:",null,null,null,null,null,"Soll",null,null,null,null,null,null,null,null,null,{"$f":"SUM(R246:U248)","v":71400},null,null,null,null,null,"Haben",null,null,null,null,null,null,null,null,null,null,null,null,null,{"$f":"SUM(AL246:AO248)","v":71400}]
[null,"2. Verkauf",null,null,null,null,null,{"$f":"C220","v":"Forderungen a LuL"},null,null,null,null,null,null,null,null,null,{"$f":"H223","v":71400},null,null,null,"an",null,{"$f":"Z202","v":"Umsatzerlöse"},null,null,null,null,null,null,null,null,null,null,null,null,null,{"$f":"AO205","v":60000}]
[null,null,null,null,null,null,null,null,null,null,null,null,null,null,null,null,null,null,null,null,null,null,null,{"$f":"Z211","v":"Umsatzsteuer"},null,null,null,null,null,null,null,null,null,null,null,null,null,{"$f":"AO214","v":11400}]
[]
[null,"Buchungssatz:",null,null,null,null,null,"Soll",null,null,null,null,null,null,null,null,null,{"$f":"SUM(R250:U251)","v":19000},null,null,null,null,null,"Haben",null,null,null,null,null,null,null,null,null,null,null,null,null,{"$f":"SUM(AL250)","v":19000}]
[null,"3. Umbuchung",null,null,null,null,null,{"$f":"Z211","v":"Umsatzsteuer"},null,null,null,null,null,null,null,null,null,{"$f":"AE213","v":19000},null,null,null,"an",null,{"$f":"C211","v":"Vorsteuer"},null,null,null,null,null,null,null,null,null,null,null,null,null,{"$f":"R216","v":19000}]
[null,"    Vorsteuer"]
[]
[null,"Buchungssatz:",null,null,null,null,null,"Soll",null,null,null,null,null,null,null,null,null,{"$f":"SUM(R254:U255)","v":7600},null,null,null,null,null,"Haben",null,null,null,null,null,null,null,null,null,null,null,null,null,{"$f":"SUM(AL254:AO255)","v":7600}]
[null,"4. Bezahlung",null,null,null,null,null,{"$f":"C229","v":"Bank"},null,null,null,null,null,null,null,null,null,{"$f":"H232","v":7600},null,null,null,"an",null,{"$f":"Z211","v":"Umsatzsteuer"},null,null,null,null,null,null,null,null,null,null,null,null,null,{"$f":"AO216","v":7600}]
[null,"    Finanzamt"]
[]
[]
[null,"Berechnung der Vorsteuerüberhangs gegenüber dem Finanzamt (zum 10. des Folgemonats):"]
[]
[null,null,null,null,null,null,null,null,null,null,null,null,"Summe Ausgangsrechnungen (netto)",null,60000]
[null,null,null,null,null,null,null,null,null,null,null,null,"Summe Eingangsrechnungen (netto)",null,100000]
[null,null,null,null,null,null,null,null,null,null,null,null,"Mehrwert",null,{"$f":"O260-O261","v":-40000},null,null,null,null,"x ",0.19,null,null,"=",{"$f":"O262*U262","v":-7600}]
[]
[]
[null,null,"oder:",null,null,null,null,null,null,null,null,null,"Umsatzsteuer",null,{"$f":"O260*U262","v":11400}]
[null,null,null,null,null,null,null,null,null,null,null,null,"Kauf",null,{"$f":"-O261*U262","v":-19000}]
[null,null,null,null,null,null,null,null,null,null,null,null,"Vorsteuerüberhang",null,{"$f":"O265+O266","v":-7600},null,null,null,"(= Erstattung vom Finanzamt)"]
[]
[]
[null,"Gründe für das Entstehen eines Vorsteuerüberhangs:"]
[]
[null,"1) Hohe Anschaffungen (z. B. Anlagevermögen: Maschinen)"]
[null,"2) Existenzgründung"]
[null,"3) Rückläufige / geringe Umsatzerlöse"]
[]
[null,"Anmerkung: Zahllast und Vorsteuerüberhang wurden im 1. und 2. Beispiel auf Bank (Zahlung erfolgt jeweils im Folgemonat) gegengebucht. Für den Monat Dezember wäre aber die Zahllast eine am 31.12. zu bilanzierende sonstige Verbindlichkeit, der Vorsteuerüberhang eine sonstige Forderung, weil die Zahlung jeweils erst im Folgejahr erfolgt.\n"]
[]
[]
[]
[{"$f":"A239+1","v":44}]
[]
[null,"Beispiel 3: "]
[]
[]
[null,"Industrie",null,null,null,null,null,"(1) ER für Maschinenreparatur",null,null,null,null,null,null,null,null,null,null,null,null,null,null,null,"UN"]
[]
[null,null,null,null,null,null,null,null,null,null,null,null,"Entgelt aus Eingangsrechnungen",null,800]
[null,null,null,null,null,null,null,null,null,null,null,null,"+Umsatzsteuer 19%",null,{"$f":"O287*19%","v":152},null,null,null,"(Vorsteuer)"]
[null,null,null,null,null,null,null,null,null,null,null,null,"=Bruttorechnungsbetrag",null,{"$f":"O287*1.19","v":952}]
[]
[null,"Industrie",null,null,null,null,null,"(2) ER für Zeitungsinserat",null,null,null,null,null,null,null,null,null,null,null,null,null,null,null,"UN"]
[]
[null,null,null,null,null,null,null,null,null,null,null,null,"Entgelt aus Eingangsrechnungen",null,500]
[null,null,null,null,null,null,null,null,null,null,null,null,"+Umsatzsteuer 19%",null,{"$f":"O293*19%","v":95},null,null,null,"(Vorsteuer)"]
[null,null,null,null,null,null,null,null,null,null,null,null,"=Kaufpreis",null,{"$f":"O293*1.19","v":595}]
[]
[]
[]
["S",null,"Aufwand a. Reparatur",null,null,null,null,null,null,null,null,null,null,null,null,null,null,null,null,null,"H",null,null,"S",null,"Aufwand für Inserate",null,null,null,null,null,null,null,null,null,null,null,null,null,null,null,null,null,"H"]
[]
[]
["Reparatur (1)",null,null,null,null,null,null,{"$f":"O287","v":800},null,null,null,null,null,null,null,null,null,null,null,null,null,null,null,"Inserate (2)",null,null,null,null,null,null,{"$f":"O293","v":500}]
[]
[null,null,null,null,null,null,null,null,null,null,null,"Saldo => GuV",null,null,null,null,null,{"$f":"H300+H301+H302+H304+H305-R300-R301-R302","v":800},null,null,null,null,null,null,null,null,null,null,null,null,null,null,null,null,"Saldo => GuV",null,null,null,null,null,{"$f":"AE300+AE301+AE302+AE304+AE305-AO300-AO301-AO302","v":500}]
[]
[null,null,null,null,null,null,null,{"$f":"SUM(H300:K305)","v":800},null,null,null,null,null,null,null,null,null,{"$f":"SUM(R300:U305)","v":800},null,null,null,null,null,null,null,null,null,null,null,null,{"$f":"SUM(AE300:AH305)","v":500},null,null,null,null,null,null,null,null,null,{"$f":"SUM(AO300:AR305)","v":500}]
[]
["S",null,"Vorsteuer",null,null,null,null,null,null,null,null,null,null,null,null,null,null,null,null,null,"H",null,null,"S",null,"Umsatzsteuer",null,null,null,null,null,null,null,null,null,null,null,null,null,null,null,null,null,"H"]
["Anfangsbestand",null,null,null,null,null,null,{"$f":"Q285","v":0},null,null,null,"Abgänge",null,null,null,null,null,0,null,null,null,null,null,null,null,null,null,null,null,null,null,null,null,null,"AB",null,null,null,null,null,0]
[]
["Reparatur (1)",null,null,null,null,null,null,{"$f":"O288","v":152}]
[]
["Inserate (2)",null,null,null,null,null,null,{"$f":"O294","v":95},null,null,null,"Endbestand (3)",null,null,null,null,null,{"$f":"H309+H310+H311+H312+H313+H314-R309-R310-R311-R312","v":247},null,null,null,null,null,"Vorsteuer (3)",null,null,null,null,null,null,{"$f":"R313","v":247},null,null,null,"Vorsteuer-",null,null,null,null,null,{"$f":"AE313","v":247}]
[null,null,null,null,null,null,null,null,null,null,null,"=> Umsatzsteuer",null,null,null,null,null,null,null,null,null,null,null,null,null,null,null,null,null,null,null,null,null,null,"überhang (4)"]
[null,null,null,null,null,null,null,{"$f":"SUM(H309:K314)","v":247},null,null,null,null,null,null,null,null,null,{"$f":"SUM(R309:U314)","v":247},null,null,null,null,null,null,null,null,null,null,null,null,{"$f":"SUM(AE309:AH314)","v":247},null,null,null,null,null,null,null,null,null,{"$f":"SUM(AO309:AR314)","v":247}]
[]
["S",null,"Bank",null,null,null,null,null,null,null,null,null,null,null,null,null,null,null,null,null,"H"]
["Anfangsbestand",null,null,null,null,null,null,null,null,null,null,"Abgänge"]
[null,null,null,null,null,null,null,null,null,null,null,{"$f":"A311","v":"Reparatur (1)"},null,null,null,null,null,{"$f":"H302+H311","v":952}]
[null,null,null,null,null,null,null,{"$f":"AO313","v":247},null,null,null,{"$f":"A313","v":"Inserate (2)"},null,null,null,null,null,{"$f":"H313+AE302","v":595}]
[]
[null,null,null,null,null,null,null,null,null,null,null,"Endbestand"]
[]
[]
[]
[]
[]
[]
[{"$f":"A280+1","v":45}]
[]
[null,"Buchungssatz:",null,null,null,null,null,"Soll",null,null,null,null,null,null,null,null,null,{"$f":"SUM(R332:U334)","v":952},null,null,null,null,null,"Haben",null,null,null,null,null,null,null,null,null,null,null,null,null,{"$f":"SUM(AL332:AO334)","v":952}]
[null,"1. Reparatur",null,null,null,null,null,{"$f":"C299","v":"Aufwand a. Reparatur"},null,null,null,null,null,null,null,null,null,{"$f":"H302","v":800},null,null,null,"an",null,{"$f":"C317","v":"Bank"},null,null,null,null,null,null,null,null,null,null,null,null,null,{"$f":"R319","v":952}]
[null,null,null,null,null,null,null,{"$f":"C308","v":"Vorsteuer"},null,null,null,null,null,null,null,null,null,{"$f":"H311","v":152}]
[]
[null,"Buchungssatz:",null,null,null,null,null,"Soll",null,null,null,null,null,null,null,null,null,{"$f":"SUM(R336:U338)","v":595},null,null,null,null,null,"Haben",null,null,null,null,null,null,null,null,null,null,null,null,null,{"$f":"SUM(AL336:AO338)","v":595}]
[null,"2. Inserat",null,null,null,null,null,{"$f":"Z299","v":"Aufwand für Inserate"},null,null,null,null,null,null,null,null,null,{"$f":"AE302","v":500},null,null,null,"an",null,{"$f":"C317","v":"Bank"},null,null,null,null,null,null,null,null,null,null,null,null,null,{"$f":"R320","v":595}]
[null,null,null,null,null,null,null,{"$f":"C308","v":"Vorsteuer"},null,null,null,null,null,null,null,null,null,{"$f":"H313","v":95}]
[]
[null,"Buchungssatz:",null,null,null,null,null,"Soll",null,null,null,null,null,null,null,null,null,{"$f":"SUM(R340)","v":247},null,null,null,null,null,"Haben",null,null,null,null,null,null,null,null,null,null,null,null,null,{"$f":"SUM(AL340)","v":247}]
[null,"3. Umbuchung",null,null,null,null,null,{"$f":"Z308","v":"Umsatzsteuer"},null,null,null,null,null,null,null,null,null,{"$f":"AE313","v":247},null,null,null,"an",null,{"$f":"C308","v":"Vorsteuer"},null,null,null,null,null,null,null,null,null,null,null,null,null,{"$f":"R313","v":247}]
[null,"    Vorsteuer"]
[]
[null,"Buchungssatz:",null,null,null,null,null,"Soll",null,null,null,null,null,null,null,null,null,{"$f":"SUM(R344:U345)","v":247},null,null,null,null,null,"Haben",null,null,null,null,null,null,null,null,null,null,null,null,null,{"$f":"SUM(AL344:AO345)","v":247}]
[null,"4. Bezahlung",null,null,null,null,null,{"$f":"C317","v":"Bank"},null,null,null,null,null,null,null,null,null,{"$f":"H320","v":247},null,null,null,"an",null,{"$f":"Z308","v":"Umsatzsteuer"},null,null,null,null,null,null,null,null,null,null,null,null,null,{"$f":"AO313","v":247}]
[null,"    Finanzamt",null,null,null,null,null,null,null,null,null,null,null,null,null,null,null,null,null,null,null,null,null,"(Begleichung der Forderung ans Finanzamt)"]
[]
[]
[]
[null,"Analog sind USt-pflichtig: Rechtsberatungskosten, Ausgangsfrachtkosten, Bürokosten, Telefonkosten, Notargebühren.\n"]
[null,"Aber USt-frei: Zinsaufwand, i.d.R. Mietaufwand, natürlich alle unternehmensinternen Aufwendungen wie Löhne, Materialverbrauch usw.\n"]
[]
[null,"weitere Übung 10.1:  \nVerkäufe mit 19 % USt: 500.000 € (netto);\nEinkäufe mit 19 % USt: 280.000 € (netto); Einkäufe mit 7 % USt: 20.000 € (netto)\n\na) Bilden Sie den zur Ermittlung der Zahllast notwendigen Buchungssatz!\nb) Verbuchen Sie die Überweisung der Zahllast!\nc) Was würde sich bei a) und b) ändern, wenn die Beträge von VSt und USt gerade vertauscht wären?\n"]
[null,null,null,null,null,null,null,null,null,null,null,null,"Entgelt aus Eingangsrechnungen",null,280000,null,null,null,null,null,null,null,null,null,null,null,null,null,null,null,null,null,null,null,null,null,"Entgelt aus Eingangsrechnungen",null,20000]
[null,null,null,null,null,null,null,null,null,null,null,null,"+Umsatzsteuer 19%",null,{"$f":"O353*19%","v":53200},null,null,null,"(Vorsteuer)",null,null,null,null,null,null,null,null,null,null,null,null,null,null,null,null,null,"+Umsatzsteuer 7 %",null,{"$f":"AM353*7%","v":1400.0000000000002},null,null,null,"(Vorsteuer)"]
[null,null,null,null,null,null,null,null,null,null,null,null,"=Kaufpreis",null,{"$f":"O353*1.19","v":333200},null,null,null,null,null,null,null,null,null,null,null,null,null,null,null,null,null,null,null,null,null,"=Kaufpreis",null,{"$f":"SUM(AM353:AP354)","v":21400}]
[]
[null,null,null,null,null,null,null,null,null,null,null,null,"Entgelt aus Ausgangsrechnungen",null,500000]
[null,null,null,null,null,null,null,null,null,null,null,null,"+Umsatzsteuer 19%",null,{"$f":"O357*19%","v":95000}]
[null,null,null,null,null,null,null,null,null,null,null,null,"=Verkaufspreis",null,{"$f":"O357*1.19","v":595000}]
[]
["S",null,"Vorsteuer",null,null,null,null,null,null,null,null,null,null,null,null,null,null,null,null,null,"H",null,null,"S",null,"Umsatzsteuer",null,null,null,null,null,null,null,null,null,null,null,null,null,null,null,null,null,"H"]
[null,null,null,null,null,null,null,null,null,null,null,null,null,null,null,null,null,null,null,null,null,null,null,null,null,null,null,null,null,null,null,null,null,null,null,null,null,null,null,null,{"$f":"O358","v":95000}]
[null,null,null,null,null,null,null,{"$f":"O354","v":53200}]
[]
[null,null,null,null,null,null,null,{"$f":"AM354","v":1400.0000000000002},null,null,null,"Saldo",null,null,null,null,null,{"$f":"H362+H363+H364+H365+H366-R362-R363-R364","v":54600},null,null,null,null,null,"Vorsteuer",null,null,null,null,null,null,{"$f":"R365","v":54600}]
[null,null,null,null,null,null,null,null,null,null,null,"=> Umsatzsteuer",null,null,null,null,null,null,null,null,null,null,null,"Zahllast",null,null,null,null,null,null,{"$f":"AO362-AE365","v":40400}]
[null,null,null,null,null,null,null,{"$f":"SUM(H362:K366)","v":54600},null,null,null,null,null,null,null,null,null,{"$f":"SUM(R362:U366)","v":54600},null,null,null,null,null,null,null,null,null,null,null,null,{"$f":"SUM(AE362:AH366)","v":95000},null,null,null,null,null,null,null,null,null,{"$f":"SUM(AO362:AR366)","v":95000}]
[]
[]
[null,"Buchungssatz:"]
[null,"1. Umbuchung",null,null,null,null,null,{"$f":"Z361","v":"Umsatzsteuer"},null,null,null,null,null,null,null,null,null,{"$f":"R365","v":54600},null,null,null,"an",null,{"$f":"C361","v":"Vorsteuer"},null,null,null,null,null,null,null,null,null,null,null,null,null,{"$f":"R365","v":54600}]
[null,"    Vorsteuer"]
[]
[null,"Buchungssatz:"]
[null,"2. Bezahlung",null,null,null,null,null,{"$f":"Z361","v":"Umsatzsteuer"},null,null,null,null,null,null,null,null,null,{"$f":"AE366","v":40400},null,null,null,"an",null,"Bank",null,null,null,null,null,null,null,null,null,null,null,null,null,{"$f":"AE366","v":40400}]
[null,"    Finanzamt"]
[]
[{"$f":"A329+1","v":46}]
[]
[]
["S",null,"Vorsteuer",null,null,null,null,null,null,null,null,null,null,null,null,null,null,null,null,null,"H",null,null,"S",null,"Umsatzsteuer",null,null,null,null,null,null,null,null,null,null,null,null,null,null,null,null,null,"H"]
[]
[null,null,null,null,null,null,null,null,null,null,null,null,null,null,null,null,null,null,null,null,null,null,null,null,null,null,null,null,null,null,null,null,null,null,null,null,null,null,null,null,{"$f":"O354","v":53200}]
[]
[null,null,null,null,null,null,null,{"$f":"O358","v":95000},null,null,null,"Saldo",null,null,null,null,null,{"$f":"H382+H383+H384+H385+H386-R382-R383-R384","v":95000},null,null,null,null,null,"Vorsteuer",null,null,null,null,null,null,{"$f":"R385","v":95000},null,null,null,null,null,null,null,null,null,{"$f":"AM354","v":1400.0000000000002}]
[null,null,null,null,null,null,null,null,null,null,null,"=> Umsatzsteuer",null,null,null,null,null,null,null,null,null,null,null,null,null,null,null,null,null,null,null,null,null,null,"Vorsteuerüberh.",null,null,null,null,null,{"$f":"AE385-AO383-AO385","v":40400}]
[null,null,null,null,null,null,null,{"$f":"SUM(H382:K386)","v":95000},null,null,null,null,null,null,null,null,null,{"$f":"SUM(R382:U386)","v":95000},null,null,null,null,null,null,null,null,null,null,null,null,{"$f":"SUM(AE382:AH386)","v":95000},null,null,null,null,null,null,null,null,null,{"$f":"SUM(AO382:AR386)","v":95000}]
[]
[]
[null,"Buchungssatz:"]
[null,"1. Umbuchung",null,null,null,null,null,{"$f":"Z381","v":"Umsatzsteuer"},null,null,null,null,null,null,null,null,null,{"$f":"R385","v":95000},null,null,null,"an",null,{"$f":"C381","v":"Vorsteuer"},null,null,null,null,null,null,null,null,null,null,null,null,null,{"$f":"R385","v":95000}]
[null,"    Vorsteuer"]
[]
[null,"Buchungssatz:"]
[null,"2. Bezahlung",null,null,null,null,null,"Bank",null,null,null,null,null,null,null,null,null,{"$f":"AO386","v":40400},null,null,null,"an",null,"Umsatzsteuerford.",null,null,null,null,null,null,null,null,null,null,null,null,null,{"$f":"AO386","v":40400}]
[null,"    Finanzamt"]
[]
[]
[null,"weitere Übung 10.2:  \nMüller B verkauft Mehl für 3.000 € netto an Großhändler C. Bäcker D, der sein Mehl beim Großhändler C kauft, verkauft sein Brot an den Kunden E für 6.000 €. Großhändler C hat eine USt-Zahllast von 56 €. Unterstellen Sie, dass durchweg der ermäßigte USt-Satz gilt. Für wie viele € verkaufte Großhändler C sein Mehl netto an den Bäcker D?\n"]
[]
[]
[null,"Mehrwert: 7 % = 56 Euro => 100 % = 800 Euro"]
[]
[null,"Umsatzstufe",null,null,null,null,null,null,null,"Verkaufs-",null,null,null,null,"./.Einkaufs-",null,null,null,null,"= Mehr-",null,null,null,null,"Umsatz-",null,null,null,null,"./. Vor-",null,null,null,null,"= Zahl-"]
[null,null,null,null,null,null,null,null,null,"preis netto",null,null,null,null,"    preis",null,null,null,null,"   wert",null,null,null,null,"Steuer",null,null,null,null,"   Steuer",null,null,null,null,"   last"]
[null,null,null,null,null,null,null,null,null,"Entgelt"]
[null,"Urproduktion",null,null,null,null,null,null,null,3000,null,null,null,null,0,null,null,null,null,{"$f":"J407-O407","v":3000},null,null,null,null,{"$f":"J407*7%","v":210.00000000000003},null,null,null,null,{"$f":"-O407*7%","v":0},null,null,null,null,{"$f":"Y407+AD407","v":210.00000000000003}]
[null,"(Müller B)"]
[null,"Großhandel C",null,null,null,null,null,null,null,3800,null,null,null,null,3000,null,null,null,null,{"$f":"J409-O409","v":800},null,null,null,null,{"$f":"J409*7%","v":266},null,null,null,null,{"$f":"-O409*7%","v":-210.00000000000003},null,null,null,null,{"$f":"Y409+AD409","v":55.999999999999972}]
[]
[null,"Bäcker D",null,null,null,null,null,null,null,6000,null,null,null,null,3800,null,null,null,null,{"$f":"J411-O411","v":2200},null,null,null,null,{"$f":"J411*7%","v":420.00000000000006},null,null,null,null,{"$f":"-O411*7%","v":-266},null,null,null,null,{"$f":"Y411+AD411","v":154.00000000000006}]
[]
[null,"Kunde E",null,null,null,null,null,null,null,null,null,"entfällt",null,null,"entfällt",null,null,null,null,{"$f":"O413","v":"entfällt"},null,null,null,null,"entfällt",null,null,null,null,"entfällt",null,null,null,null,"entfällt"]
[]
[null,null,null,null,null,null,null,null,null,null,null,null,null,null,null,null,null,null,null,null,null,null,null,null,null,null,null,null,null,null,null,null,null,"MEHRWERT",{"$f":"J411","v":6000}]
[null,null,null,null,null,null,null,null,null,null,null,null,null,null,null,null,null,null,null,null,null,null,null,null,null,null,null,null,null,null,null,null,null,"+ USt 7 %",{"$f":"SUM(AI407:AM411)","v":420.00000000000006}]
[null,null,null,null,null,null,null,null,null,null,null,null,null,null,null,null,null,null,null,null,null,null,null,null,null,null,null,null,null,null,null,null,null,"ENDVERBRAUCHER (Kunde E)",{"$f":"AI415+AI416","v":6420}]

{"sheet":"11","index":21,"n_rows":319,"n_cols":97,"rows_kept":319,"cut":false,"hidden":false,"merged":[[12,1,12,51],[32,35,32,41],[31,35,31,41],[282,0,282,52],[284,1,284,42],[1,0,1,52],[27,18,27,24],[27,26,27,32],[62,0,62,52],[121,0,121,52],[58,39,58,42],[59,22,59,28],[98,37,98,40],[105,1,105,17],[105,18,105,24],[106,1,106,17],[183,0,183,52],[202,34,202,39],[235,1,235,42],[231,0,231,52],[59,39,59,42],[95,7,95,16],[95,17,95,20],[95,37,95,40],[317,9,317,17],[317,18,317,21],[317,22,317,30],[317,31,317,34],[315,18,315,21],[314,9,314,17],[314,18,314,21],[316,9,316,17],[318,18,318,21],[318,22,318,30],[318,31,318,34],[315,22,315,30],[315,31,315,34],[316,18,316,21],[316,22,316,30],[316,31,316,34],[313,31,313,34],[315,9,315,17],[314,31,314,34],[314,22,314,30],[312,9,312,17],[312,18,312,21],[312,22,312,30],[312,31,312,34],[313,9,313,17],[313,18,313,21],[313,22,313,30],[308,96,308,99],[310,12,310,31],[311,9,311,17],[311,18,311,21],[311,22,311,30],[311,31,311,34],[291,37,291,40],[295,2,295,19],[295,29,295,37],[298,29,298,37],[302,2,302,19],[302,29,302,37],[299,2,299,19],[299,29,299,37],[300,2,300,19],[300,29,300,37],[301,2,301,19],[301,29,301,37],[298,2,298,19],[289,17,289,20],[289,37,289,40],[290,7,290,9],[290,17,290,20],[290,37,290,40],[293,2,293,19],[293,29,293,37],[285,1,285,50],[288,17,288,20],[288,37,288,40],[28,1,28,17],[28,18,28,24],[29,1,29,17],[29,18,29,24],[58,22,58,28],[58,29,58,32],[32,1,32,17],[32,18,32,24],[33,1,33,17],[33,18,33,24],[30,1,30,17],[30,18,30,24],[31,1,31,17],[31,18,31,24],[38,11,38,16],[38,17,38,20],[46,0,46,6],[41,11,41,16],[42,11,42,16],[35,2,35,18],[36,0,36,6],[36,7,36,10],[36,11,36,16],[36,17,36,20],[64,96,64,99],[66,12,66,31],[54,29,54,32],[58,33,58,38],[55,22,55,28],[55,33,55,38],[55,39,55,42],[52,24,52,40],[53,22,53,28],[53,29,53,32],[53,33,53,38],[53,39,53,42],[54,22,54,28],[55,29,55,32],[59,17,59,20],[45,23,45,29],[42,0,42,6],[85,17,85,20],[74,9,74,17],[98,17,98,20],[100,7,100,16],[101,7,101,16],[103,1,103,42],[69,18,69,21],[69,22,69,30],[69,31,69,34],[71,18,71,21],[59,7,59,10],[59,11,59,16],[42,23,42,29],[42,30,42,33],[44,25,44,41],[42,34,42,39],[42,40,42,43],[45,40,45,43],[100,37,100,40],[53,11,53,16],[55,0,55,6],[55,7,55,10],[59,0,59,6],[114,30,114,33],[114,0,114,6],[114,7,114,10],[114,11,114,16],[114,17,114,20],[109,18,109,24],[112,2,112,18],[112,25,112,41],[113,40,113,43],[104,1,104,17],[104,18,104,24],[99,7,99,16],[75,18,75,21],[99,37,99,40],[76,9,76,17],[94,17,94,20],[96,17,96,20],[73,18,73,21],[101,37,101,40],[76,18,76,21],[76,22,76,30],[76,31,76,34],[94,37,94,40],[113,17,113,20],[90,7,90,16],[89,37,89,40],[91,17,91,20],[83,17,83,20],[106,18,106,24],[57,22,57,28],[113,34,113,39],[68,9,68,17],[96,37,96,40],[81,37,81,40],[85,37,85,40],[82,17,82,20],[81,17,81,20],[91,37,91,40],[38,0,38,6],[41,17,41,20],[42,17,42,20],[108,1,108,17],[47,34,47,39],[70,18,70,21],[70,22,70,30],[45,11,45,16],[45,17,45,20],[56,0,56,6],[57,0,57,6],[48,11,48,16],[49,11,49,16],[46,7,46,10],[46,11,46,16],[67,9,67,17],[67,18,67,21],[90,37,90,40],[74,31,74,34],[57,11,57,16],[58,17,58,20],[41,34,41,39],[40,0,40,6],[40,7,40,10],[40,11,40,16],[40,17,40,20],[38,7,38,10],[35,25,35,41],[114,40,114,43],[115,0,115,6],[41,40,41,43],[45,30,45,33],[45,34,45,39],[41,23,41,29],[41,30,41,33],[47,0,47,6],[36,23,36,29],[36,30,36,33],[36,34,36,39],[36,40,36,43],[40,23,40,29],[40,30,40,33],[40,34,40,39],[37,30,37,33],[37,34,37,39],[114,23,114,29],[37,40,37,43],[38,40,38,43],[117,30,117,33],[115,40,115,43],[113,7,113,10],[107,18,107,24],[113,30,113,33],[46,17,46,20],[46,23,46,29],[46,30,46,33],[46,34,46,39],[114,34,114,39],[113,23,113,29],[101,17,101,20],[115,23,115,29],[115,30,115,33],[115,34,115,39],[47,40,47,43],[47,7,47,10],[47,23,47,29],[47,30,47,33],[58,11,58,16],[56,7,56,10],[57,7,57,10],[107,1,107,17],[113,0,113,6],[126,34,126,39],[125,11,125,16],[125,17,125,20],[125,34,125,39],[119,17,119,20],[125,0,125,6],[119,34,119,39],[50,40,50,43],[40,40,40,43],[118,23,118,29],[118,30,118,33],[118,34,118,39],[118,40,118,43],[46,40,46,43],[119,0,119,6],[115,7,115,10],[115,11,115,16],[115,17,115,20],[100,17,100,20],[118,0,118,6],[118,7,118,10],[118,11,118,16],[118,17,118,20],[113,11,113,16],[127,40,127,43],[127,0,127,6],[127,7,127,10],[127,11,127,16],[50,11,50,16],[124,25,124,41],[53,7,53,10],[48,34,48,39],[57,33,57,38],[72,9,72,17],[48,7,48,10],[49,0,49,6],[49,7,49,10],[48,0,48,6],[119,30,119,33],[119,7,119,10],[109,1,109,17],[119,11,119,16],[119,23,119,29],[54,33,54,38],[54,39,54,42],[56,33,56,38],[56,39,56,42],[117,0,117,6],[49,23,49,29],[49,30,49,33],[50,23,50,29],[50,30,50,33],[48,30,48,33],[48,17,48,20],[49,40,49,43],[48,40,48,43],[125,40,125,43],[119,40,119,43],[99,17,99,20],[108,18,108,24],[50,34,50,39],[53,17,53,20],[49,34,49,39],[124,2,124,18],[125,23,125,29],[48,23,48,29],[50,17,50,20],[53,0,53,6],[58,0,58,6],[58,7,58,10],[117,34,117,39],[117,40,117,43],[129,23,129,29],[54,17,54,20],[57,39,57,42],[128,23,128,29],[57,17,57,20],[75,22,75,30],[75,31,75,34],[56,22,56,28],[56,29,56,32],[59,33,59,38],[74,22,74,30],[129,17,129,20],[128,17,128,20],[128,30,128,33],[127,17,127,20],[126,23,126,29],[126,40,126,43],[126,17,126,20],[126,30,126,33],[127,23,127,29],[127,30,127,33],[127,34,127,39],[128,34,128,39],[128,40,128,43],[38,23,38,29],[38,30,38,33],[38,34,38,39],[37,0,37,6],[37,7,37,10],[37,11,37,16],[37,17,37,20],[37,23,37,29],[129,0,129,6],[129,7,129,10],[42,7,42,10],[41,0,41,6],[41,7,41,10],[129,11,129,16],[50,0,50,6],[50,7,50,10],[52,2,52,18],[128,7,128,10],[128,11,128,16],[128,0,128,6],[125,7,125,10],[49,17,49,20],[47,11,47,16],[47,17,47,20],[44,2,44,18],[45,0,45,6],[45,7,45,10],[131,34,131,39],[131,40,131,43],[130,23,130,29],[130,30,130,33],[130,34,130,39],[130,40,130,43],[131,23,131,29],[131,30,131,33],[59,29,59,32],[68,18,68,21],[71,9,71,17],[74,18,74,21],[67,22,67,30],[67,31,67,34],[68,31,68,34],[71,22,71,30],[71,31,71,34],[70,9,70,17],[69,9,69,17],[129,34,129,39],[129,40,129,43],[133,24,133,40],[134,33,134,38],[134,39,134,42],[135,22,135,28],[135,29,135,32],[135,33,135,38],[135,39,135,42],[136,39,136,42],[136,0,136,6],[136,7,136,10],[136,11,136,16],[136,17,136,20],[136,22,136,28],[134,0,134,6],[134,7,134,10],[134,11,134,16],[134,17,134,20],[134,22,134,28],[134,29,134,32],[135,11,135,16],[135,17,135,20],[136,29,136,32],[135,0,135,6],[135,7,135,10],[137,33,137,38],[137,39,137,42],[137,0,137,6],[137,7,137,10],[137,11,137,16],[137,17,137,20],[54,0,54,6],[54,7,54,10],[54,11,54,16],[56,11,56,16],[56,17,56,20],[131,11,131,16],[131,17,131,20],[130,0,130,6],[130,7,130,10],[130,11,130,16],[55,11,55,16],[55,17,55,20],[73,9,73,17],[73,22,73,30],[73,31,73,34],[70,31,70,34],[72,31,72,34],[136,33,136,38],[138,7,138,10],[138,17,138,20],[138,11,138,16],[138,29,138,32],[138,0,138,6],[57,29,57,32],[75,9,75,17],[89,17,89,20],[137,29,137,32],[131,0,131,6],[131,7,131,10],[130,17,130,20],[129,30,129,33],[126,0,126,6],[126,7,126,10],[126,11,126,16],[125,30,125,33],[117,7,117,10],[117,11,117,16],[117,17,117,20],[117,23,117,29],[72,18,72,21],[72,22,72,30],[68,22,68,30],[139,29,139,32],[83,37,83,40],[138,33,138,38],[138,39,138,42],[86,17,86,20],[133,2,133,18],[139,33,139,38],[139,39,139,42],[79,17,79,20],[79,37,79,40],[80,17,80,20],[80,37,80,40],[86,37,86,40],[87,17,87,20],[87,37,87,40],[138,22,138,28],[82,37,82,40],[139,0,139,6],[139,7,139,10],[139,11,139,16],[139,17,139,20],[139,22,139,28],[90,17,90,20],[137,22,137,28],[140,22,140,28],[140,29,140,32],[140,33,140,38],[140,39,140,42],[140,0,140,6],[140,7,140,10],[140,11,140,16],[140,17,140,20],[142,96,142,99],[143,12,143,31],[144,9,144,17],[144,18,144,21],[144,22,144,30],[144,31,144,34],[146,9,146,17],[146,18,146,21],[146,22,146,30],[146,31,146,34],[145,9,145,17],[145,18,145,21],[145,22,145,30],[145,31,145,34],[148,9,148,17],[148,18,148,21],[148,22,148,30],[148,31,148,34],[147,9,147,17],[147,18,147,21],[147,22,147,30],[147,31,147,34],[150,9,150,17],[150,18,150,21],[150,22,150,30],[150,31,150,34],[149,9,149,17],[149,18,149,21],[149,22,149,30],[149,31,149,34],[152,9,152,17],[152,18,152,21],[152,22,152,30],[152,31,152,34],[151,9,151,17],[151,18,151,21],[151,22,151,30],[151,31,151,34],[158,17,158,20],[158,37,158,40],[159,17,159,20],[159,37,159,40],[153,9,153,17],[153,18,153,21],[153,22,153,30],[153,31,153,34],[162,17,162,20],[162,37,162,40],[164,17,164,20],[164,37,164,40],[160,17,160,20],[160,37,160,40],[161,17,161,20],[161,37,161,40],[168,17,168,20],[168,37,168,40],[169,7,169,16],[169,17,169,20],[169,37,169,40],[165,17,165,20],[165,37,165,40],[166,17,166,20],[166,37,166,40],[178,17,178,20],[178,37,178,40],[174,7,174,16],[174,17,174,20],[174,37,174,40],[175,17,175,20],[175,37,175,40],[170,17,170,20],[170,37,170,40],[173,17,173,20],[173,37,173,40],[25,1,25,40],[20,1,20,40],[21,1,21,39],[188,1,188,42],[189,1,189,42],[22,1,22,37],[23,1,23,41],[24,1,24,40],[179,7,179,16],[179,17,179,20],[28,26,28,32],[29,26,29,32],[30,26,30,32],[31,26,31,32],[32,26,32,32],[33,26,33,32],[81,7,81,8],[179,37,179,40],[180,7,180,16],[180,17,180,20],[180,37,180,40],[177,17,177,20],[177,37,177,40],[178,7,178,16],[194,14,194,17],[195,14,195,17],[187,18,187,24],[196,14,196,17],[192,1,193,6],[192,11,192,21],[192,23,193,28],[198,2,198,18],[198,25,198,41],[199,0,199,6],[199,7,199,10],[199,11,199,16],[199,17,199,20],[199,23,199,29],[199,30,199,33],[199,34,199,39],[199,40,199,43],[200,23,200,29],[200,30,200,33],[200,34,200,39],[200,40,200,43],[200,0,200,6],[200,7,200,10],[200,11,200,16],[200,17,200,20],[201,23,201,29],[201,30,201,33],[201,34,201,39],[201,40,201,43],[201,0,201,6],[201,7,201,10],[201,11,201,16],[201,17,201,20],[203,23,203,29],[203,30,203,33],[203,34,203,39],[203,40,203,43],[203,0,203,6],[203,7,203,10],[203,11,203,16],[203,17,203,20],[204,23,204,29],[204,30,204,33],[204,34,204,39],[204,40,204,43],[204,0,204,6],[204,7,204,10],[204,11,204,16],[204,17,204,20],[205,23,205,29],[205,30,205,33],[205,34,205,39],[205,40,205,43],[205,0,205,6],[205,7,205,10],[205,11,205,16],[205,17,205,20],[207,2,207,18],[207,25,207,41],[208,0,208,6],[208,7,208,10],[208,11,208,16],[208,17,208,20],[208,23,208,29],[208,30,208,33],[208,34,208,39],[208,40,208,43],[209,23,209,29],[209,30,209,33],[209,34,209,39],[209,40,209,43],[209,0,209,6],[209,7,209,10],[209,11,209,16],[209,17,209,20],[210,23,210,29],[210,30,210,33],[210,34,210,39],[210,40,210,43],[210,0,210,6],[210,7,210,10],[210,11,210,16],[210,17,210,20],[211,23,211,29],[211,30,211,33],[211,34,211,39],[211,40,211,43],[211,0,211,6],[211,7,211,10],[211,11,211,16],[211,17,211,20],[212,23,212,29],[212,30,212,33],[212,34,212,39],[212,40,212,43],[212,0,212,6],[212,7,212,10],[212,11,212,16],[212,17,212,20],[213,23,213,29],[213,30,213,33],[213,34,213,39],[213,40,213,43],[213,0,213,6],[213,7,213,10],[213,11,213,16],[213,17,213,20],[214,23,214,29],[214,30,214,33],[214,34,214,39],[214,40,214,43],[214,0,214,6],[214,7,214,10],[214,11,214,16],[214,17,214,20],[221,17,221,20],[221,37,221,40],[223,17,223,20],[223,37,223,40],[219,17,219,20],[219,37,219,40],[220,17,220,20],[220,37,220,40],[227,17,227,20],[227,37,227,40],[228,17,228,20],[228,37,228,40],[224,17,224,20],[224,37,224,40],[226,17,226,20],[226,37,226,40],[243,14,243,17],[244,14,244,17],[245,14,245,17],[249,2,249,18],[236,1,236,42],[241,1,242,6],[241,11,241,21],[241,23,242,28],[249,25,249,41],[250,0,250,6],[250,7,250,10],[250,11,250,16],[250,17,250,20],[250,23,250,29],[250,30,250,33],[250,34,250,39],[250,40,250,43],[251,23,251,29],[251,30,251,33],[251,34,251,39],[251,40,251,43],[251,0,251,6],[251,7,251,10],[251,11,251,16],[251,17,251,20],[252,23,252,29],[252,30,252,33],[252,34,252,39],[252,40,252,43],[252,0,252,6],[252,7,252,10],[252,11,252,16],[252,17,252,20],[254,23,254,29],[254,30,254,33],[254,34,254,39],[254,40,254,43],[254,0,254,6],[254,7,254,10],[254,11,254,16],[254,17,254,20],[255,23,255,29],[255,30,255,33],[255,34,255,39],[255,40,255,43],[255,0,255,6],[255,7,255,10],[255,11,255,16],[255,17,255,20],[256,23,256,29],[256,30,256,33],[256,34,256,39],[256,40,256,43],[256,0,256,6],[256,7,256,10],[256,11,256,16],[256,17,256,20],[258,2,258,18],[258,25,258,41],[259,0,259,6],[259,7,259,10],[259,11,259,16],[259,17,259,20],[259,23,259,29],[259,30,259,33],[259,34,259,39],[259,40,259,43],[260,23,260,29],[260,30,260,33],[260,34,260,39],[260,40,260,43],[260,0,260,6],[260,7,260,10],[260,11,260,16],[260,17,260,20],[261,23,261,29],[261,30,261,33],[261,34,261,39],[261,40,261,43],[261,0,261,6],[261,7,261,10],[261,11,261,16],[261,17,261,20],[262,23,262,29],[262,30,262,33],[262,34,262,39],[262,40,262,43],[262,0,262,6],[262,7,262,10],[262,11,262,16],[262,17,262,20],[263,23,263,29],[263,30,263,33],[263,34,263,39],[263,40,263,43],[263,0,263,6],[263,7,263,10],[263,11,263,16],[263,17,263,20],[264,23,264,29],[264,30,264,33],[264,34,264,39],[264,40,264,43],[264,0,264,6],[264,7,264,10],[264,11,264,16],[264,17,264,20],[265,7,265,10],[265,11,265,16],[265,17,265,20],[269,37,269,40],[271,17,271,20],[271,37,271,40],[267,17,267,20],[267,37,267,40],[268,17,268,20],[268,37,268,40],[265,23,265,29],[7,1,7,51],[9,1,9,51],[11,1,11,51],[15,0,15,52],[305,2,305,19],[305,29,305,37],[303,2,303,19],[303,29,303,37],[297,2,297,19],[297,29,297,37],[275,17,275,20],[275,37,275,40],[276,17,276,20],[276,37,276,40],[272,17,272,20],[272,37,272,40],[274,17,274,20],[274,37,274,40],[269,7,269,9],[269,17,269,20],[265,30,265,33],[265,34,265,39],[265,40,265,43],[265,0,265,6]]}
[]
[{"$f":"'10'!A378:BA378+1","v":47}]
[" "]
[null,11,"Das Privatkonto"]
[]
[null,"11.1","Grundlagen und Zweck des Privatkontos"]
[]
[null,"Werden Waren für private, d.h., für nichtbetriebliche Zwecke entnommen, so liegt ein umsatzsteuerpflichtiger Vorgang vor. Dieser sogenannte \"Eigenverbrauch\" bzw. unentgeltliche Wertabgabe ist als fiktiver Verkauf an den jeweils entnehmenden Unternehmer zu behandeln. Bei einer Personengesellschaft bzw. bei Einzelunternehmen muss dieser Vorgang über das Privatkonto des jeweiligen Gesellschafters bzw. Unternehmers abgerechnet werden.\nStandardbuchungssatz:\n\nPrivatkonto (inklusive USt).............................. 1.190\nAN Warenabgabe (Ertrag) ...................................................................... 1.000\n       Umsatzsteuer (Bestandskonto = \"Verbindlichkeit\")........................... 190\n"]
[]
[null,"Bei einer Kapitalgesellschaft gibt es keine Privatkonten, weil diese nur für Vollhafter eingerichtet werden. In diesem Fall ist der Verkauf als Forderung gegenüber den Gesellschaftern zu erfassen:\n  \nForderungen Gesellschafter ..................... 1.190\nAN Warenabgabe (Ertrag) ...................................................................... 1.000\n       Umsatzsteuer (Bestandskonto = \"Verbindlichkeit\")........................... 190\n"]
[]
[null,"Kerngedanke dieses Vorganges ist, dass der Unternehmer nicht besser stehen soll, wenn er Waren für eigene, nichtunternehmerische Zwecke aus seinem Unternehmen entnimmt als ein Privatkunde, der dieselben Waren vom Unternehmen kauft: In beiden Fällen ist eine entsprechende Umsatzsteuer zu berechnen.\n"]
[null,"Eine private Nutzung oder spätere Entnahme wird über den Tatbestand der Lieferung oder sonstigen Leistung einer gleichgestellten Wertabgabe korrigiert. Durch die Belastung des „Selbstversorgers“ mit Umsatzsteuer soll der selbst versorgende Unternehmer mit dem normalen Endverbraucher gleichgestellt werden (§ 3 Abs. 1b und 9a UStG). Die Selbstversorgung stellt eine fiktive Leistung des Unternehmers an sich selbst dar. Die Bemessungsgrundlage für den „Eigenverbrauch“ orientiert sich dabei nicht an den marktüblichen (Verkaufs-) Preisen, sondern an dem Einkaufspreis bzw. den Kosten, die der selbstversorgende Unternehmer beim Einkauf für sein Unternehmen aufwenden musste (§ 10 Abs. 4 UStG).\n"]
[]
[]
[{"$f":"A2+1","v":48}]
[]
[null,"11.2","Gewinn-Ermittlungsmethode durch EK-Vergleich"]
[]
[]
[null,"Eigenkapital zum 31.12.2017"]
["./.","Eigenkapital zum 01.01.2017"]
["=","Eigenkapitalveränderung (Zunahme oder Abnahme)"]
["./.","Privateinlagen (z.B. bar)"]
["+","Privatentnahmen (z.B.PKW)"]
["=","Gewinn / Verlust"]
[]
[null,null,null,null,null,null,null,null,null,null,null,null,null,null,null,null,null,null,"Beispiel 1",null,null,null,null,null,null,null,"Beispiel 2"]
[null,{"$f":"B21","v":"Eigenkapital zum 31.12.2017"},null,null,null,null,null,null,null,null,null,null,null,null,null,null,null,null,70000,null,null,null,null,null,null,null,30000]
["./.",{"$f":"B22","v":"Eigenkapital zum 01.01.2017"},null,null,null,null,null,null,null,null,null,null,null,null,null,null,null,null,50000,null,null,null,null,null,null,null,50000]
["=","Eigenkapitalveränderung",null,null,null,null,null,null,null,null,null,null,null,null,null,null,null,null,{"$f":"S29-S30","v":20000},null,null,null,null,null,null,null,{"$f":"AA29-AA30","v":-20000}]
["./.","Privateinlagen (z. B. bar)",null,null,null,null,null,null,null,null,null,null,null,null,null,null,null,null,-10000,null,null,null,null,null,null,null,-10000]
["+","Privatentnahmen (z. B. PKW)",null,null,null,null,null,null,null,null,null,null,null,null,null,null,null,null,40000,null,null,null,null,null,null,null,40000]
["=","Gewinn (oder Verlust)",null,null,null,null,null,null,null,null,null,null,null,null,null,null,null,null,{"$f":"S31+S32+S33","v":50000},null,null,null,null,null,null,null,{"$f":"AA31+AA32+AA33","v":10000}]
[]
["S",null,"Privateinlagen (Unterkonto: EK)",null,null,null,null,null,null,null,null,null,null,null,null,null,null,null,null,null,"H",null,null,"Aufw.",null,"GuV",null,null,null,null,null,null,null,null,null,null,null,null,null,null,null,null,null,"Ertr."]
["Saldo => EK",null,null,null,null,null,null,{"$f":"-S32","v":10000},null,null,null,null,null,null,null,null,null,null,null,null,null,null,null,"Material",null,null,null,null,null,null,200000,null,null,null,"Umsatzerlöse",null,null,null,null,null,260000]
[]
[null,null,null,null,null,null,null,null,null,null,null,"Bareinlage",null,null,null,null,null,{"$f":"-S32","v":10000},null,null,null,null,null,"AfA",null,null,null,null,null,null,10000]
[]
[null,null,null,null,null,null,null,null,null,null,null,null,null,null,null,null,null,null,null,null,null,null,null,"Saldo => GuV",null,null,null,null,null,null,50000]
[]
[null,null,null,null,null,null,null,{"$f":"SUM(H37:K42)","v":10000},null,null,null,null,null,null,null,null,null,{"$f":"SUM(R37:U42)","v":10000},null,null,null,null,null,null,null,null,null,null,null,null,{"$f":"SUM(AE37:AH42)","v":260000},null,null,null,null,null,null,null,null,null,{"$f":"SUM(AO37:AR42)","v":260000}]
[]
["S",null,"Privatentnahmen (EK)",null,null,null,null,null,null,null,null,null,null,null,null,null,null,null,null,null,"H",null,null,"S",null,"Eigenkapital",null,null,null,null,null,null,null,null,null,null,null,null,null,null,null,null,null,"H"]
[null,null,null,null,null,null,null,null,null,null,null,null,null,null,null,null,null,null,null,null,null,null,null,"Abgänge",null,null,null,null,null,null,null,null,null,null,"AB",null,null,null,null,null,{"$f":"S30","v":50000}]
["PKW",null,null,null,null,null,null,{"$f":"S33","v":40000},null,null,null,null,null,null,null,null,null,null,null,null,null,null,null,"Privatentnahmen",null,null,null,null,null,null,{"$f":"S33","v":40000}]
[null,null,null,null,null,null,null,null,null,null,null,null,null,null,null,null,null,null,null,null,null,null,null,"Verlust",null,null,null,null,null,null,"-",null,null,null,"Zugänge"]
[null,null,null,null,null,null,null,null,null,null,null,"Saldo => EK",null,null,null,null,null,{"$f":"H47","v":40000},null,null,null,null,null,"EB => SB",null,null,null,null,null,null,{"$f":"S29","v":70000},null,null,null,"Privateinlagen",null,null,null,null,null,{"$f":"-S32","v":10000}]
[null,null,null,null,null,null,null,null,null,null,null,null,null,null,null,null,null,null,null,null,null,null,null,null,null,null,null,null,null,null,null,null,null,null,"Gewinn",null,null,null,null,null,{"$f":"AE51-AO49-AO46","v":50000}]
[null,null,null,null,null,null,null,{"$f":"SUM(H46:K50)","v":40000},null,null,null,null,null,null,null,null,null,{"$f":"SUM(R46:U50)","v":40000},null,null,null,null,null,null,null,null,null,null,null,null,{"$f":"SUM(AE46:AH50)","v":110000},null,null,null,null,null,null,null,null,null,{"$f":"SUM(AO46:AR50)","v":110000}]
[]
["S",null,"Kasse",null,null,null,null,null,null,null,null,null,null,null,null,null,null,null,null,null,"H",null,"S",null,"PKW",null,null,null,null,null,null,null,null,null,null,null,null,null,null,null,null,null,"H"]
["Anfangsbestand",null,null,null,null,null,null,{"$f":"Q37","v":0},null,null,null,"Abgänge",null,null,null,null,null,0,null,null,null,null,"Anfangsbestand",null,null,null,null,null,null,50000,null,null,null,"Abgänge"]
[null,null,null,null,null,null,null,null,null,null,null,null,null,null,null,null,null,null,null,null,null,null,null,null,null,null,null,null,null,null,null,null,null," AfA",null,null,null,null,null,10000]
["Zugänge: Privateinlage",null,null,null,null,null,null,{"$f":"R39","v":10000},null,null,null,null,null,null,null,null,null,null,null,null,null,null,"Zugänge: ",null,null,null,null,null,null,{"$f":"AN39","v":0},null,null,null," Privatentnahme",null,null,null,null,null,40000]
[]
[null,null,null,null,null,null,null,null,null,null,null,"EB",null,null,null,null,null,{"$f":"H54+H55+H56+H57+H58+H59-R54-R55-R56-R57","v":10000},null,null,null,null,null,null,null,null,null,null,null,null,null,null,null,"EB",null,null,null,null,null,0]
[]
[null,null,null,null,null,null,null,{"$f":"SUM(H54:K59)","v":10000},null,null,null,null,null,null,null,null,null,{"$f":"SUM(R54:U59)","v":10000},null,null,null,null,null,null,null,null,null,null,null,{"$f":"SUM(AD54:AG59)","v":50000},null,null,null,null,null,null,null,null,null,{"$f":"SUM(AN54:AQ59)","v":50000}]
[]
[]
[{"$f":"A16+1","v":49}]
[]
[null,null,null,null,null,null,null,null,null,null,null,null,null,null,null,null,null,null,null,null,null,null,null,null,null,null,null,null,null,null,null,null,null,null,null,null,null,null,null,null,null,null,null,null,null,null,null,null,null,null,null,null,null,null,null,null,null,null,null,null,null,null,null,null,null,null,null,null,null,null,null,null,null,null,null,null,null,null,null,null,null,null,null,null,null,null,null,null,null,null,null,null,null,null,null,null,{"$f":"CS60-CF60","v":0}]
[]
[null,null,null,null,null,null,null,null,null,"Aktiva",null,null,"Schlussbilanz 31.12.",null,null,null,null,null,null,null,null,null,null,null,null,null,null,null,null,null,null,null,"Passiva"]
[null,null,null,null,null,null,null,null,null,"Anlagevermögen",null,null,null,null,null,null,null,null,null,null,null,null,{"$f":"Z45","v":"Eigenkapital"},null,null,null,null,null,null,null,null,{"$f":"AE49","v":70000}]
[null,null,null,null,null,null,null,null,null,{"$f":"Y53","v":"PKW"},null,null,null,null,null,null,null,null,{"$f":"AN58","v":0}]
[null,null,null,null,null,null,null,null,null,"Maschinen",null,null,null,null,null,null,null,null,60000]
[]
[]
[]
[null,null,null,null,null,null,null,null,null,"Umlaufvermögen",null,null,null,null,null,null,null,null,null,null,null,null,"Fremdkapital"]
[null,null,null,null,null,null,null,null,null,{"$f":"C53","v":"Kasse"},null,null,null,null,null,null,null,null,{"$f":"R58","v":10000},null,null,null,"Darlehen",null,null,null,null,null,null,null,null,{"$f":"AG36","v":0}]
[]
[null,null,null,null,null,null,null,null,null,null,null,null,null,null,null,null,null,null,{"$f":"SUM(S68:V76)","v":70000},null,null,null,null,null,null,null,null,null,null,null,null,{"$f":"SUM(AF68:AI76)","v":70000}]
[]
[]
[null,"Buchungssatz:",null,null,null,null,null,"Soll",null,null,null,null,null,null,null,null,null,{"$f":"SUM(R81:U82)","v":10000},null,null,null,null,null,"Haben",null,null,null,null,null,null,null,null,null,null,null,null,null,{"$f":"SUM(AL81:AO82)","v":10000}]
[null,"1. Privateinlage",null,null,null,null,null,{"$f":"C53","v":"Kasse"},null,null,null,null,null,null,null,null,null,{"$f":"H56","v":10000},null,null,null,"an",null,{"$f":"C36","v":"Privateinlagen (Unterkonto: EK)"},null,null,null,null,null,null,null,null,null,null,null,null,null,{"$f":"R39","v":10000}]
[]
[null,"Buchungssatz:",null,null,null,null,null,"Soll",null,null,null,null,null,null,null,null,null,{"$f":"SUM(R84:U85)","v":10000},null,null,null,null,null,"Haben",null,null,null,null,null,null,null,null,null,null,null,null,null,{"$f":"SUM(AL84:AO85)","v":10000}]
[null,"2. AfA",null,null,null,null,null,"Abschreibungen",null,null,null,null,null,null,null,null,null,{"$f":"AE39","v":10000},null,null,null,"an",null,{"$f":"Y53","v":"PKW"},null,null,null,null,null,null,null,null,null,null,null,null,null,{"$f":"AN55","v":10000}]
[]
[null,"Buchungssatz:",null,null,null,null,null,"Soll",null,null,null,null,null,null,null,null,null,{"$f":"SUM(R87:R87)","v":40000},null,null,null,null,null,"Haben",null,null,null,null,null,null,null,null,null,null,null,null,null,{"$f":"SUM(AL87:AL87)","v":40000}]
[null,"3. Privat-",null,null,null,null,null,{"$f":"C45","v":"Privatentnahmen (EK)"},null,null,null,null,null,null,null,null,null,{"$f":"H47","v":40000},null,null,null,"an",null,{"$f":"Y53","v":"PKW"},null,null,null,null,null,null,null,null,null,null,null,null,null,{"$f":"AN56","v":40000}]
[null,"    Entnahme"]
[]
[null,"Buchungssatz:",null,null,null,null,null,"Soll",null,null,null,null,null,null,null,null,null,{"$f":"SUM(R91:U92)","v":50000},null,null,null,null,null,"Haben",null,null,null,null,null,null,null,null,null,null,null,null,null,{"$f":"SUM(AL91:AO92)","v":50000}]
[null,"4. Abschluss ",null,null,null,null,null,{"$f":"C36","v":"Privateinlagen (Unterkonto: EK)"},null,null,null,null,null,null,null,null,null,{"$f":"H37","v":10000},null,null,null,"an",null,{"$f":"Z45","v":"Eigenkapital"},null,null,null,null,null,null,null,null,null,null,null,null,null,{"$f":"AO49","v":10000}]
[null,"    Privatkonten",null,null,null,null,null,{"$f":"Z45","v":"Eigenkapital"},null,null,null,null,null,null,null,null,null,{"$f":"AE47","v":40000},null,null,null,"an",null,{"$f":"C45","v":"Privatentnahmen (EK)"},null,null,null,null,null,null,null,null,null,null,null,null,null,{"$f":"AE47","v":40000}]
[]
[]
[null,"Buchungssatz:",null,null,null,null,null,"Soll",null,null,null,null,null,null,null,null,null,{"$f":"SUM(R96:U97)","v":50000},null,null,null,null,null,"Haben",null,null,null,null,null,null,null,null,null,null,null,null,null,{"$f":"SUM(AL96:AO97)","v":50000}]
[null,"5. Abschluss ",null,null,null,null,null,{"$f":"Z36","v":"GuV"},null,null,null,null,null,null,null,null,null,{"$f":"AE41","v":50000},null,null,null,"an",null,{"$f":"Z45","v":"Eigenkapital"},null,null,null,null,null,null,null,null,null,null,null,null,null,{"$f":"AO50","v":50000}]
[null,"    GuV-Konto"]
[]
[null,"Buchungssatz:",null,null,null,null,null,"Soll",null,null,null,null,null,null,null,null,null,{"$f":"SUM(R100:U102)","v":140000},null,null,null,null,null,"Haben",null,null,null,null,null,null,null,null,null,null,null,null,null,{"$f":"SUM(AL100:AO102)","v":140000}]
[null,"6. Abschluss ",null,null,null,null,null,{"$f":"Z45","v":"Eigenkapital"},null,null,null,null,null,null,null,null,null,{"$f":"AE49","v":70000},null,null,null,"an",null,{"$f":"M67","v":"Schlussbilanz 31.12."},null,null,null,null,null,null,null,null,null,null,null,null,null,{"$f":"AF68","v":70000}]
[null,"    Schlussbilanz",null,null,null,null,null,{"$f":"M67","v":"Schlussbilanz 31.12."},null,null,null,null,null,null,null,null,null,{"$f":"S70","v":60000},null,null,null,"an",null,"Maschinen",null,null,null,null,null,null,null,null,null,null,null,null,null,{"$f":"R101","v":60000}]
[null,null,null,null,null,null,null,{"$f":"M67","v":"Schlussbilanz 31.12."},null,null,null,null,null,null,null,null,null,{"$f":"S75","v":10000},null,null,null,"an",null,{"$f":"C53","v":"Kasse"},null,null,null,null,null,null,null,null,null,null,null,null,null,{"$f":"R58","v":10000}]
[]
[null,"weiteres Beispiel:"]
[null,{"$f":"B29","v":"Eigenkapital zum 31.12.2017"},null,null,null,null,null,null,null,null,null,null,null,null,null,null,null,null,161000]
["./.",{"$f":"B30","v":"Eigenkapital zum 01.01.2017"},null,null,null,null,null,null,null,null,null,null,null,null,null,null,null,null,100000]
["=","Eigenkapitalveränderung",null,null,null,null,null,null,null,null,null,null,null,null,null,null,null,null,{"$f":"S105-S106","v":61000}]
["./.","Privateinlagen (z. B. Erbschaft)",null,null,null,null,null,null,null,null,null,null,null,null,null,null,null,null,-50000]
["+","Privatentnahmen (z. B. bar)",null,null,null,null,null,null,null,null,null,null,null,null,null,null,null,null,24000]
["=","Gewinn (oder Verlust)",null,null,null,null,null,null,null,null,null,null,null,null,null,null,null,null,35000]
[]
[]
["S",null,"Privateinlagen",null,null,null,null,null,null,null,null,null,null,null,null,null,null,null,null,null,"H",null,null,"Aufw.",null,"GuV",null,null,null,null,null,null,null,null,null,null,null,null,null,null,null,null,null,"Ertr."]
["Saldo => EK",null,null,null,null,null,null,{"$f":"-S108","v":50000},null,null,null,null,null,null,null,null,null,null,null,null,null,null,null,"Material",null,null,null,null,null,null,200000,null,null,null,"Umsaterlöse",null,null,null,null,null,245000]
[]
[null,null,null,null,null,null,null,null,null,null,null,"Bareinlage",null,null,null,null,null,null,null,null,null,null,null,"AfA",null,null,null,null,null,null,10000]
[]
[null,null,null,null,null,null,null,null,null,null,null,"PKW",null,null,null,null,null,40000,null,null,null,null,null,"Saldo => GuV",null,null,null,null,null,null,{"$f":"AO114-AE114-AE116","v":35000}]
[null,null,null,null,null,null,null,null,null,null,null,"bar",null,null,null,null,null,10000]
[null,null,null,null,null,null,null,{"$f":"SUM(H114:K119)","v":50000},null,null,null,null,null,null,null,null,null,{"$f":"SUM(R114:U119)","v":50000},null,null,null,null,null,null,null,null,null,null,null,null,{"$f":"SUM(AE114:AH119)","v":245000},null,null,null,null,null,null,null,null,null,{"$f":"SUM(AO114:AR119)","v":245000}]
[]
[{"$f":"A63+1","v":50}]
[]
[]
["S",null,"Privatentnahmen",null,null,null,null,null,null,null,null,null,null,null,null,null,null,null,null,null,"H",null,null,"S",null,"Eigenkapital",null,null,null,null,null,null,null,null,null,null,null,null,null,null,null,null,null,"H"]
[null,null,null,null,null,null,null,null,null,null,null,null,null,null,null,null,null,null,null,null,null,null,null,"Abgänge",null,null,null,null,null,null,null,null,null,null,"AB",null,null,null,null,null,{"$f":"S106","v":100000}]
["bar",null,null,null,null,null,null,{"$f":"S109","v":24000},null,null,null,null,null,null,null,null,null,null,null,null,null,null,null,"Privatentnahmen",null,null,null,null,null,null,{"$f":"S109","v":24000}]
[null,null,null,null,null,null,null,null,null,null,null,null,null,null,null,null,null,null,null,null,null,null,null,"Verlust",null,null,null,null,null,null,"-",null,null,null,"Zugänge"]
[]
[null,null,null,null,null,null,null,null,null,null,null,"Saldo => EK",null,null,null,null,null,{"$f":"H127","v":24000},null,null,null,null,null,"EB",null,null,null,null,null,null,{"$f":"S105","v":161000},null,null,null,"Privateinlagen",null,null,null,null,null,{"$f":"-S108","v":50000}]
[null,null,null,null,null,null,null,null,null,null,null,null,null,null,null,null,null,null,null,null,null,null,null,null,null,null,null,null,null,null,null,null,null,null,"Gewinn",null,null,null,null,null,{"$f":"AE118","v":35000}]
[null,null,null,null,null,null,null,{"$f":"SUM(H126:K131)","v":24000},null,null,null,null,null,null,null,null,null,{"$f":"SUM(R126:U131)","v":24000},null,null,null,null,null,null,null,null,null,null,null,null,{"$f":"SUM(AE126:AH131)","v":185000},null,null,null,null,null,null,null,null,null,{"$f":"SUM(AO126:AR131)","v":185000}]
[]
["S",null,"Kasse",null,null,null,null,null,null,null,null,null,null,null,null,null,null,null,null,null,"H",null,"S",null,"PKW",null,null,null,null,null,null,null,null,null,null,null,null,null,null,null,null,null,"H"]
["Anfangsbestand",null,null,null,null,null,null,20000,null,null,null,"Privatentnahme",null,null,null,null,null,{"$f":"H127","v":24000},null,null,null,null,"Anfangsbestand",null,null,null,null,null,null,0,null,null,null,"Abgänge"]
[null,null,null,null,null,null,null,null,null,null,null,null,null,null,null,null,null,null,null,null,null,null,null,null,null,null,null,null,null,null,null,null,null," AfA",null,null,null,null,null,10000]
["Zugänge: Privateinlage",null,null,null,null,null,null,{"$f":"R119","v":10000},null,null,null,null,null,null,null,null,null,null,null,null,null,null,"Zugänge: ",null,null,null,null,null,null,{"$f":"R118","v":40000}]
[]
[null,null,null,null,null,null,null,null,null,null,null,"EB",null,null,null,null,null,{"$f":"H135+H136+H137+H138+H139+H140-R135-R136-R137-R138","v":6000},null,null,null,null,null,null,null,null,null,null,null,null,null,null,null,"EB",null,null,null,null,null,{"$f":"AD137-AN136","v":30000}]
[]
[null,null,null,null,null,null,null,{"$f":"SUM(H135:K140)","v":30000},null,null,null,null,null,null,null,null,null,{"$f":"SUM(R135:U140)","v":30000},null,null,null,null,null,null,null,null,null,null,null,{"$f":"SUM(AD135:AG140)","v":40000},null,null,null,null,null,null,null,null,null,{"$f":"SUM(AN135:AQ140)","v":40000}]
[]
[null,null,null,null,null,null,null,null,null,null,null,null,null,null,null,null,null,null,null,null,null,null,null,null,null,null,null,null,null,null,null,null,null,null,null,null,null,null,null,null,null,null,null,null,null,null,null,null,null,null,null,null,null,null,null,null,null,null,null,null,null,null,null,null,null,null,null,null,null,null,null,null,null,null,null,null,null,null,null,null,null,null,null,null,null,null,null,null,null,null,null,null,null,null,null,null,{"$f":"CS141-CF141","v":0}]
[null,null,null,null,null,null,null,null,null,null,"Aktiva",null,"Schlussbilanz 31.12.",null,null,null,null,null,null,null,null,null,null,null,null,null,null,null,null,null,null,null,"Passiva"]
[null,null,null,null,null,null,null,null,null,"Anlagevermögen",null,null,null,null,null,null,null,null,null,null,null,null,{"$f":"Z125","v":"Eigenkapital"},null,null,null,null,null,null,null,null,{"$f":"AE130","v":161000}]
[null,null,null,null,null,null,null,null,null,{"$f":"Y134","v":"PKW"},null,null,null,null,null,null,null,null,{"$f":"AN139","v":30000}]
[null,null,null,null,null,null,null,null,null,"BGA",null,null,null,null,null,null,null,null,{"$f":"161000-36000","v":125000}]
[]
[]
[]
[null,null,null,null,null,null,null,null,null,"Umlaufvermögen",null,null,null,null,null,null,null,null,null,null,null,null,"Fremdkapital"]
[null,null,null,null,null,null,null,null,null,{"$f":"C134","v":"Kasse"},null,null,null,null,null,null,null,null,{"$f":"R139","v":6000},null,null,null,"Darlehen",null,null,null,null,null,null,null,null,{"$f":"AG113","v":0}]
[]
[null,null,null,null,null,null,null,null,null,null,null,null,null,null,null,null,null,null,{"$f":"SUM(S145:V153)","v":161000},null,null,null,null,null,null,null,null,null,null,null,null,{"$f":"SUM(AF145:AI153)","v":161000}]
[]
[]
[]
[]
[null,"Buchungssatz:",null,null,null,null,null,"Soll",null,null,null,null,null,null,null,null,null,{"$f":"SUM(R160:U161)","v":50000},null,null,null,null,null,"Haben",null,null,null,null,null,null,null,null,null,null,null,null,null,{"$f":"SUM(AL160:AO161)","v":50000}]
[null,"1. Privateinlage",null,null,null,null,null,{"$f":"C134","v":"Kasse"},null,null,null,null,null,null,null,null,null,{"$f":"H137","v":10000},null,null,null,"an",null,{"$f":"C113","v":"Privateinlagen"},null,null,null,null,null,null,null,null,null,null,null,null,null,{"$f":"R118+R119","v":50000}]
[null,null,null,null,null,null,null,{"$f":"Y134","v":"PKW"},null,null,null,null,null,null,null,null,null,{"$f":"AD137","v":40000}]
[null,"Buchungssatz:",null,null,null,null,null,"Soll",null,null,null,null,null,null,null,null,null,{"$f":"SUM(R163:U164)","v":10000},null,null,null,null,null,"Haben",null,null,null,null,null,null,null,null,null,null,null,null,null,{"$f":"SUM(AL163:AO164)","v":10000}]
[null,"2. AfA",null,null,null,null,null,"Abschreibungen",null,null,null,null,null,null,null,null,null,{"$f":"AE116","v":10000},null,null,null,"an",null,{"$f":"Y134","v":"PKW"},null,null,null,null,null,null,null,null,null,null,null,null,null,{"$f":"AN136","v":10000}]
[]
[null,"Buchungssatz:",null,null,null,null,null,"Soll",null,null,null,null,null,null,null,null,null,{"$f":"SUM(R166:U167)","v":24000},null,null,null,null,null,"Haben",null,null,null,null,null,null,null,null,null,null,null,null,null,{"$f":"SUM(AL166:AO167)","v":24000}]
[null,"3. Privat-",null,null,null,null,null,{"$f":"C125","v":"Privatentnahmen"},null,null,null,null,null,null,null,null,null,{"$f":"H127","v":24000},null,null,null,"an",null,{"$f":"C134","v":"Kasse"},null,null,null,null,null,null,null,null,null,null,null,null,null,{"$f":"R135","v":24000}]
[null,"    Entnahme"]
[]
[null,"Buchungssatz:",null,null,null,null,null,"Soll",null,null,null,null,null,null,null,null,null,{"$f":"SUM(R170:U171)","v":74000},null,null,null,null,null,"Haben",null,null,null,null,null,null,null,null,null,null,null,null,null,{"$f":"SUM(AL170:AO171)","v":74000}]
[null,"4. Abschluss ",null,null,null,null,null,{"$f":"C113","v":"Privateinlagen"},null,null,null,null,null,null,null,null,null,{"$f":"H114","v":50000},null,null,null,"an",null,{"$f":"Z125","v":"Eigenkapital"},null,null,null,null,null,null,null,null,null,null,null,null,null,{"$f":"AO130","v":50000}]
[null,"    Privatkonten",null,null,null,null,null,{"$f":"Z125","v":"Eigenkapital"},null,null,null,null,null,null,null,null,null,{"$f":"AE127","v":24000},null,null,null,"an",null,{"$f":"C125","v":"Privatentnahmen"},null,null,null,null,null,null,null,null,null,null,null,null,null,{"$f":"AE127","v":24000}]
[]
[]
[null,"Buchungssatz:",null,null,null,null,null,"Soll",null,null,null,null,null,null,null,null,null,{"$f":"SUM(R175:U176)","v":35000},null,null,null,null,null,"Haben",null,null,null,null,null,null,null,null,null,null,null,null,null,{"$f":"SUM(AL175:AO176)","v":35000}]
[null,"5. Abschluss ",null,null,null,null,null,{"$f":"Z113","v":"GuV"},null,null,null,null,null,null,null,null,null,{"$f":"AE118","v":35000},null,null,null,"an",null,{"$f":"Z125","v":"Eigenkapital"},null,null,null,null,null,null,null,null,null,null,null,null,null,{"$f":"AO131","v":35000}]
[null,"    GuV-Konto"]
[]
[null,"Buchungssatz:",null,null,null,null,null,"Soll",null,null,null,null,null,null,null,null,null,{"$f":"SUM(R179:U181)","v":292000},null,null,null,null,null,"Haben",null,null,null,null,null,null,null,null,null,null,null,null,null,{"$f":"SUM(AL179:AO181)","v":292000}]
[null,"6. Abschluss ",null,null,null,null,null,{"$f":"Z125","v":"Eigenkapital"},null,null,null,null,null,null,null,null,null,{"$f":"AE130","v":161000},null,null,null,"an",null,{"$f":"M144","v":"Schlussbilanz 31.12."},null,null,null,null,null,null,null,null,null,null,null,null,null,{"$f":"AF145","v":161000}]
[null,"    Schlussbilanz",null,null,null,null,null,{"$f":"M144","v":"Schlussbilanz 31.12."},null,null,null,null,null,null,null,null,null,{"$f":"S147","v":125000},null,null,null,"an",null,"BGA",null,null,null,null,null,null,null,null,null,null,null,null,null,{"$f":"R180","v":125000}]
[null,null,null,null,null,null,null,{"$f":"M144","v":"Schlussbilanz 31.12."},null,null,null,null,null,null,null,null,null,{"$f":"S152","v":6000},null,null,null,"an",null,{"$f":"C134","v":"Kasse"},null,null,null,null,null,null,null,null,null,null,null,null,null,{"$f":"R139","v":6000}]
[]
[]
[{"$f":"A122+1","v":51}]
[]
[]
[null,"11.2","Übungsfälle"]
[]
[null,"Übungsfall 1:"]
[null,"a) Bäckermeister August Backe entnimmt p.a. für seine Familie Backwaren und sonstige Lebensmittel im Wert 4.800 € netto (Annahme Steuersatz generell 7 %).\n"]
[]
[]
[null,"Unternehmer",null,null,null,null,null,null,null,null,null,"Entnahme Backwaren",null,null,null,null,null,null,null,null,null,null,null,"Privat"]
[]
[null,null,null,null,null,null,null,null,null,null,null,null,"BMG",null,4800]
[null,null,null,null,null,null,null,null,null,null,null,null,"+Umsatzsteuer 7%",null,{"$f":"O195*7%","v":336.00000000000006}]
[null,null,null,null,null,null,null,null,null,null,null,null,"= Entnahmewert",null,{"$f":"O195*1.07","v":5136}]
[]
["S",null,"Umsatzsteuer",null,null,null,null,null,null,null,null,null,null,null,null,null,null,null,null,null,"H",null,null,"Aufw.",null,"GuV",null,null,null,null,null,null,null,null,null,null,null,null,null,null,null,null,null,"Ertr."]
[null,null,null,null,null,null,null,null,null,null,null,null,null,null,null,null,null,null,null,null,null,null,null,null,null,null,null,null,null,null,null,null,null,null,"Backwaren",null,null,null,null,null,{"$f":"O195","v":4800}]
[]
[null,null,null,null,null,null,null,null,null,null,null,"Backwaren",null,null,null,null,null,{"$f":"O196","v":336.00000000000006},null,null,null,null,null,null,null,null,null,null,null,null,null,null,null,null,"Wertabgabe (Ertrag!)"]
[]
[null,null,null,null,null,null,null,null,null,null,null,null,null,null,null,null,null,null,null,null,null,null,null,"Saldo => GuV",null,null,null,null,null,null,{"$f":"AO200-AE200-AE202","v":4800},null,null,null," = Ertrag"]
[]
[null,null,null,null,null,null,null,{"$f":"SUM(H200:K205)","v":0},null,null,null,null,null,null,null,null,null,{"$f":"SUM(R200:U205)","v":336.00000000000006},null,null,null,null,null,null,null,null,null,null,null,null,{"$f":"SUM(AE200:AH205)","v":4800},null,null,null,null,null,null,null,null,null,{"$f":"SUM(AO200:AR205)","v":4800}]
[]
["S",null,"Privatentnahmen (Unterkonto EK)",null,null,null,null,null,null,null,null,null,null,null,null,null,null,null,null,null,"H",null,null,"S",null,"Eigenkapital",null,null,null,null,null,null,null,null,null,null,null,null,null,null,null,null,null,"H"]
[null,null,null,null,null,null,null,null,null,null,null,null,null,null,null,null,null,null,null,null,null,null,null,"Abgänge",null,null,null,null,null,null,null,null,null,null,"AB"]
["Backwaren",null,null,null,null,null,null,{"$f":"O197","v":5136},null,null,null,null,null,null,null,null,null,null,null,null,null,null,null,"Privatentnahmen",null,null,null,null,null,null,{"$f":"R213","v":5136}]
[null,null,null,null,null,null,null,null,null,null,null,null,null,null,null,null,null,null,null,null,null,null,null,"Verlust",null,null,null,null,null,null,null,null,null,null,"Zugänge"]
[]
[null,null,null,null,null,null,null,null,null,null,null,"Saldo => EK",null,null,null,null,null,{"$f":"H210","v":5136},null,null,null,null,null,"EB",null,null,null,null,null,null,null,null,null,null,"Privateinlagen"]
[null,null,null,null,null,null,null,null,null,null,null,null,null,null,null,null,null,null,null,null,null,null,null,null,null,null,null,null,null,null,null,null,null,null,"Gewinn",null,null,null,null,null,{"$f":"AE204","v":4800}]
[null,null,null,null,null,null,null,{"$f":"SUM(H209:K214)","v":5136},null,null,null,null,null,null,null,null,null,{"$f":"SUM(R209:U214)","v":5136},null,null,null,null,null,null,null,null,null,null,null,null,{"$f":"SUM(AE209:AH214)","v":5136},null,null,null,null,null,null,null,null,null,{"$f":"SUM(AO209:AR214)","v":4800}]
[]
[]
[]
[]
[null,"Buchungssatz:",null,null,null,null,null,"Soll",null,null,null,null,null,null,null,null,null,{"$f":"SUM(R221:U222)","v":5136},null,null,null,null,null,"Haben",null,null,null,null,null,null,null,null,null,null,null,null,null,{"$f":"SUM(AL221:AO222)","v":5136}]
[null,"1. Privatentnahme",null,null,null,null,null,{"$f":"C208","v":"Privatentnahmen (Unterkonto EK)"},null,null,null,null,null,null,null,null,null,{"$f":"H210","v":5136},null,null,null,"an",null,{"$f":"AI202","v":"Wertabgabe (Ertrag!)"},null,null,null,null,null,null,null,null,null,null,null,null,null,{"$f":"AO200","v":4800}]
[null,null,null,null,null,null,null,null,null,null,null,null,null,null,null,null,null,null,null,null,null,null,null,{"$f":"C199","v":"Umsatzsteuer"},null,null,null,null,null,null,null,null,null,null,null,null,null,{"$f":"R202","v":336.00000000000006}]
[]
[null,"Buchungssatz:",null,null,null,null,null,"Soll",null,null,null,null,null,null,null,null,null,{"$f":"SUM(R225:U226)","v":5136},null,null,null,null,null,"Haben",null,null,null,null,null,null,null,null,null,null,null,null,null,{"$f":"SUM(AL225:AO226)","v":5136}]
[null,"2. Abschluss Privat",null,null,null,null,null,{"$f":"Z208","v":"Eigenkapital"},null,null,null,null,null,null,null,null,null,{"$f":"AE210","v":5136},null,null,null,"an",null,{"$f":"C208","v":"Privatentnahmen (Unterkonto EK)"},null,null,null,null,null,null,null,null,null,null,null,null,null,{"$f":"R213","v":5136}]
[]
[null,"Buchungssatz:",null,null,null,null,null,"Soll",null,null,null,null,null,null,null,null,null,{"$f":"SUM(R228:U238)","v":4800},null,null,null,null,null,"Haben",null,null,null,null,null,null,null,null,null,null,null,null,null,{"$f":"SUM(AL228:AO238)","v":4800}]
[null,"3. Abschluss",null,null,null,null,null,{"$f":"Z199","v":"GuV"},null,null,null,null,null,null,null,null,null,{"$f":"AE204","v":4800},null,null,null,"an",null,{"$f":"Z208","v":"Eigenkapital"},null,null,null,null,null,null,null,null,null,null,null,null,null,{"$f":"AO214","v":4800}]
[null,"    GuV"]
[]
[]
[{"$f":"A184+1","v":52}]
[]
[]
[]
[null,"Übungsfall 2:"]
[null,"Ein Pforzheimer Möbelfabrikant montiert in seinem Privathaus eine Einbauküche mit Herstellungskosten (Material, Löhne usw.) von insgesamt 12.000 € netto.\n"]
[]
[]
[]
[]
[null,"Unternehmer",null,null,null,null,null,null,null,null,null,"Leistungsentnahmen",null,null,null,null,null,null,null,null,null,null,null,"Privat"]
[]
[null,null,null,null,null,null,null,null,null,null,null,null,"BMG",null,12000]
[null,null,null,null,null,null,null,null,null,null,null,null,"+Umsatzsteuer 19%",null,{"$f":"O244*19%","v":2280}]
[null,null,null,null,null,null,null,null,null,null,null,null,"= Wertabgabe (brutto)",null,{"$f":"O244*1.19","v":14280}]
[]
[]
[]
["S",null,"Umsatzsteuer",null,null,null,null,null,null,null,null,null,null,null,null,null,null,null,null,null,"H",null,null,"Aufw.",null,"GuV",null,null,null,null,null,null,null,null,null,null,null,null,null,null,null,null,null,"Ertr."]
[null,null,null,null,null,null,null,null,null,null,null,null,null,null,null,null,null,null,null,null,null,null,null,null,null,null,null,null,null,null,null,null,null,null,"Leistungen (Ertrag)",null,null,null,null,null,12000]
[]
[null,null,null,null,null,null,null,null,null,null,null,"Leistungen",null,null,null,null,null,{"$f":"O245","v":2280}]
[]
[null,null,null,null,null,null,null,null,null,null,null,null,null,null,null,null,null,null,null,null,null,null,null,"Saldo => EK",null,null,null,null,null,null,{"$f":"AO251-AE251-AE253","v":12000}]
[]
[null,null,null,null,null,null,null,{"$f":"SUM(H251:K256)","v":0},null,null,null,null,null,null,null,null,null,{"$f":"SUM(R251:U256)","v":2280},null,null,null,null,null,null,null,null,null,null,null,null,{"$f":"SUM(AE251:AH256)","v":12000},null,null,null,null,null,null,null,null,null,{"$f":"SUM(AO251:AR256)","v":12000}]
[]
["S",null,"Privatentnahmen",null,null,null,null,null,null,null,null,null,null,null,null,null,null,null,null,null,"H",null,null,"S",null,"Eigenkapital (EK)",null,null,null,null,null,null,null,null,null,null,null,null,null,null,null,null,null,"H"]
[null,null,null,null,null,null,null,null,null,null,null,null,null,null,null,null,null,null,null,null,null,null,null,"Abgänge",null,null,null,null,null,null,null,null,null,null,"AB"]
["Leistungen",null,null,null,null,null,null,{"$f":"O246","v":14280},null,null,null,null,null,null,null,null,null,null,null,null,null,null,null,"Privatentnahmen",null,null,null,null,null,null,{"$f":"R264","v":14280}]
[null,null,null,null,null,null,null,null,null,null,null,null,null,null,null,null,null,null,null,null,null,null,null,"Verlust",null,null,null,null,null,null,null,null,null,null,"Zugänge"]
[]
[null,null,null,null,null,null,null,null,null,null,null,"Saldo => EK",null,null,null,null,null,{"$f":"H261","v":14280},null,null,null,null,null,"EB",null,null,null,null,null,null,null,null,null,null,"Privateinlagen"]
[null,null,null,null,null,null,null,null,null,null,null,null,null,null,null,null,null,null,null,null,null,null,null,null,null,null,null,null,null,null,null,null,null,null,"Gewinn",null,null,null,null,null,{"$f":"AE255","v":12000}]
[null,null,null,null,null,null,null,{"$f":"SUM(H260:K265)","v":14280},null,null,null,null,null,null,null,null,null,{"$f":"SUM(R260:U265)","v":14280},null,null,null,null,null,null,null,null,null,null,null,null,{"$f":"SUM(AE260:AH265)","v":14280},null,null,null,null,null,null,null,null,null,{"$f":"SUM(AO260:AR265)","v":12000}]
[]
[null,"Buchungssatz:",null,null,null,null,null,"Soll",null,null,null,null,null,null,null,null,null,{"$f":"SUM(R269:U270)","v":14280},null,null,null,null,null,"Haben",null,null,null,null,null,null,null,null,null,null,null,null,null,{"$f":"SUM(AL269:AO270)","v":14280}]
[null,"1. Privatentnahme",null,null,null,null,null,{"$f":"C259","v":"Privatentnahmen"},null,null,null,null,null,null,null,null,null,{"$f":"H261","v":14280},null,null,null,"an",null,{"$f":"AI251","v":"Leistungen (Ertrag)"},null,null,null,null,null,null,null,null,null,null,null,null,null,{"$f":"AO251","v":12000}]
[null,null,null,null,null,null,null,null,null,null,null,null,null,null,null,null,null,null,null,null,null,null,null,{"$f":"C250","v":"Umsatzsteuer"},null,null,null,null,null,null,null,null,null,null,null,null,null,{"$f":"R253","v":2280}]
[]
[null,"Buchungssatz:",null,null,null,null,null,"Soll",null,null,null,null,null,null,null,null,null,{"$f":"SUM(R273:U274)","v":14280},null,null,null,null,null,"Haben",null,null,null,null,null,null,null,null,null,null,null,null,null,{"$f":"SUM(AL273:AO274)","v":14280}]
[null,"2. Abschluss Privat",null,null,null,null,null,{"$f":"Z259","v":"Eigenkapital (EK)"},null,null,null,null,null,null,null,null,null,{"$f":"AE261","v":14280},null,null,null,"an",null,{"$f":"C259","v":"Privatentnahmen"},null,null,null,null,null,null,null,null,null,null,null,null,null,{"$f":"R264","v":14280}]
[]
[null,"Buchungssatz:",null,null,null,null,null,"Soll",null,null,null,null,null,null,null,null,null,{"$f":"SUM(R276:U276)","v":12000},null,null,null,null,null,"Haben",null,null,null,null,null,null,null,null,null,null,null,null,null,{"$f":"SUM(AL276:AO276)","v":12000}]
[null,"3. Abschluss",null,null,null,null,null,{"$f":"Z250","v":"GuV"},null,null,null,null,null,null,null,null,null,{"$f":"AE255","v":12000},null,null,null,"an",null,{"$f":"Z259","v":"Eigenkapital (EK)"},null,null,null,null,null,null,null,null,null,null,null,null,null,{"$f":"AO265","v":12000}]
[null,"    GuV"]
[]
[]
[]
[]
[]
[{"$f":"A232+1","v":53}]
[]
[null,"Übungsfall 3:"]
[null,"Schmuckfabrikant Glänzle entnimmt aus dem Betriebsvermögen: In bar 5.000 €; Perlencollier 7.800 € (netto!).\n"]
[]
[]
[null,"Buchungssatz:",null,null,null,null,null,"Soll",null,null,null,null,null,null,null,null,null,{"$f":"SUM(R290:U291)","v":14282},null,null,null,null,null,"Haben",null,null,null,null,null,null,null,null,null,null,null,null,null,{"$f":"SUM(AL290:AO292)","v":14282}]
[null,"Privatentnahme",null,null,null,null,null,"Privatentnahme",null,null,null,null,null,null,null,null,null,14282,null,null,null,"an",null,"Kasse",null,null,null,null,null,null,null,null,null,null,null,null,null,5000]
[null,null,null,null,null,null,null,null,null,null,null,null,null,null,null,null,null,null,null,null,null,null,null,"Wertabgabe / Eigenverbrauch",null,null,null,null,null,null,null,null,null,null,null,null,null,7800,null,null,null,"(GuV: Ertragsbuchung)"]
[null,null,null,null,null,null,null,null,null,null,null,null,null,null,null,null,null,null,null,null,null,null,null,"Umsatzsteuer",null,null,null,null,null,null,null,null,null,null,null,null,null,{"$f":"AL291*19%","v":1482},null,null,null,"(= 7.800 x 19%)"]
[]
[null,null,"Auswirkungen:"]
[]
[null,null,"=> Gewinnauswirkung:",null,null,null,null,null,null,null,null,null,null,null,null,null,null,null,null,null,null,null,null,null,null,null,null,null,"+",{"$f":"AL291","v":7800},null,null,null,null,null,null,null,null,"(GuV: Wertabgabe)"]
[]
[null,null,"=> Bilanzauswirkung"]
[null,null,"Anlagevermögen:",null,null,null,null,null,null,null,null,null,null,null,null,null,null,null,null,null,null,null,null,null,null,null,null,null,null,0,null,null,null,null,null,null,null,null,"(keine)"]
[null,null,"Umlaufvermögen:",null,null,null,null,null,null,null,null,null,null,null,null,null,null,null,null,null,null,null,null,null,null,null,null,null,"-",5000,null,null,null,null,null,null,null,null,"(Kasse nimmt ab)"]
[null,null,"Eigenkapital:",null,null,null,null,null,null,null,null,null,null,null,null,null,null,null,null,null,null,null,null,null,null,null,null,null,"-",14282,null,null,null,null,null,null,null,null,"(Privatentnahme)"]
[null,null,null,null,null,null,null,null,null,null,null,null,null,null,null,null,null,null,null,null,null,null,null,null,null,null,null,null,"+",7800,null,null,null,null,null,null,null,null,"(GuV: Wertabgabe/Eigenverbrauch)"]
[null,null,null,null,null,null,null,null,null,null,null,null,null,null,null,null,null,null,null,null,null,null,null,null,null,null,null,null,"-",{"$f":"AD301-AD302","v":6482},null,null,null,null,null,null,null,null,"(Eigenkapital gesamt)"]
[null,null,"Fremdkapital:",null,null,null,null,null,null,null,null,null,null,null,null,null,null,null,null,null,null,null,null,null,null,null,null,null,"+",{"$f":"AL292","v":1482},null,null,null,null,null,null,null,null,"(Verbindlichkeit gegenüber Finanzamt: USt)"]
[]
[null,null,"=> Bilanzsumme:",null,null,null,null,null,null,null,null,null,null,null,null,null,null,null,null,null,null,null,null,null,null,null,null,null,"-",{"$f":"AD300","v":5000}]
[]
[]
[null,null,null,null,null,null,null,null,null,null,null,null,null,null,null,null,null,null,null,null,null,null,null,null,null,null,null,null,null,null,null,null,null,null,null,null,null,null,null,null,null,null,null,null,null,null,null,null,null,null,null,null,null,null,null,null,null,null,null,null,null,null,null,null,null,null,null,null,null,null,null,null,null,null,null,null,null,null,null,null,null,null,null,null,null,null,null,null,null,null,null,null,null,null,null,null,{"$f":"CS307-CF307","v":0}]
[]
[null,null,null,null,null,null,null,null,null,"Aktiva",null,null,"Schlussbilanz 31.12.",null,null,null,null,null,null,null,null,null,null,null,null,null,null,null,null,null,null,null,"Passiva"]
[null,null,null,null,null,null,null,null,null,"Anlagevermögen",null,null,null,null,null,null,null,null,null,null,null,null,"Eigenkapital",null,null,null,null,null,null,null,null,{"$f":"AG304","v":0}]
[null,null,null,null,null,null,null,null,null,null,null,null,null,null,null,null,null,null,null,null,null,null,"Privatentnahme",null,null,null,null,null,null,null,null,{"$f":"-AD301","v":-14282}]
[null,null,null,null,null,null,null,null,null,null,null,null,null,null,null,null,null,null,null,null,null,null,"Eigenverbrauch / GuV",null,null,null,null,null,null,null,null,{"$f":"AD302","v":7800}]
[]
[null,null,null,null,null,null,null,null,null,"Umlaufvermögen",null,null,null,null,null,null,null,null,null,null,null,null,"Fremdkapital"]
[null,null,null,null,null,null,null,null,null,"Kasse",null,null,null,null,null,null,null,null,{"$f":"-AD300","v":-5000},null,null,null,"Umsatzsteuer",null,null,null,null,null,null,null,null,{"$f":"AD304","v":1482}]
[]
[" ","Auswirkung auf die Bilanzsumme =>",null,null,null,null,null,null,null,null,null,null,null,null,null,null,null,null,{"$f":"SUM(S312:V318)","v":-5000},null,null,null,null,null,null,null,null,null,null,null,null,{"$f":"SUM(AF312:AI318)","v":-5000}]

{"sheet":"12","index":22,"n_rows":43,"n_cols":16,"rows_kept":43,"cut":false,"hidden":false,"merged":[[1,0,1,52],[7,1,7,51],[11,1,11,51],[40,1,40,51],[38,0,38,52],[13,21,13,51],[16,2,16,3],[16,4,16,5],[16,6,16,7],[16,8,16,9],[15,21,15,51],[13,1,13,20],[14,2,14,51],[16,15,16,51],[42,1,42,51],[30,1,30,42],[33,1,33,42],[36,1,36,42],[8,1,8,10]]}
[]
[{"$f":"'11'!A283:BA283+1","v":54}]
[]
[null,12,"Organisation der Buchführung"]
[]
[null,"12.1","Der Gemeinschaftskontenrahmen der Industrie (GKR)"]
[]
[null,"Bislang haben wir uns lediglich auf die bilanziellen Eigenschaften von Konten konzentiert und die Konten mit einer Bezeichnung benannt. In der Praxis kommt es aber oft darauf an, die Daten der Buchhaltung zwischenbetrieblich oder zwischen verschiedenen Unternehmen vergleichbar zu machen. Man benötigt daher ein unternehmensübergreifendes Ordnungsprinzip. Eine Kontengliederung, die sich nach einem solchen übergeordneten Ordnungsprinzip richtet, heißt auch Kontenrahmen; die konkrete Kontengliederung eines einzelnen Buchführungspflichtigen, die sich nach einem Kontenrahmen richtet, ist der Kontenplan.\n"]
[null,"siehe SKR 04 bzw. 03"]
[null,"12.2","Der Kontenplan"]
[]
[null,"Konkrete Kontenpläne zu betrachten würde den hier gegebenen Rahmen sprengen, ebenso die Diskussion der verschiedenen einzelnen Kontenrahmen. Wir werden allerdings die beiden\ngrundsätzlichen Ordnungsprinzipien darstellen, nach denen nahezu alle Konrentahmen (und damit auch alle Kontenpläne) strukturiert sind, d. h.,\n1) das Bilanzgliederungsschema und\n2) das Prozessgliederungsschema.\nGrundgedanke hierbei ist, dass der Kontenrahmen die Konten nach einem grundlegenden Ordnungskriterium in Kontenklassen einteilt. Diese wird i. d. R. durch die erste Stelle der Kontonummer repräsentiert:\n"]
[]
[null,"1. Stelle: Kontenklasse"]
[null,null,"2. und folgende Stellen: weitere Gliederungsebenen"]
[]
[null,1,0,null,0,null,0,null,0,null,null,null,null,null,null,"Die weiteren Stellen der Kontonummer stehen dem Buchführungspflichtigen dann zur weiteren Gestaltung und Strukturierung seiner Rechnungslegung zur Verfügung und können die Gliederungstiefe beliebig erhöhen."]
[]
[null,"Beispiel: Vergleichbarmachen der Buchhaltung verschiedener Industriebetriebe "]
[]
[null,"Kontenklassen (z. B. Kontenklasse 4: Kostenarten)"]
[]
[null,null,"Kontengruppen (z. B. Gruppe 43: Löhne / Gehälter)"]
[]
[null,null,null,null,null,"Kontenart (z. B. Art 439: Gehälter)"]
[]
[null,null,null,null,null,null,null,null,"Kontenunterart (z. B. Unterart 4399: Pilotengehälter, Stewardessen)"]
[]
[]
[null,"Kontenrahmen"]
[null,"Übersichtliches Dezimalsystem aller im Industriebetrieb möglichen Konten; nur Empfehlung, kein Zwang"]
[]
[null,"Kontenarten"]
[null,"betriebsspezifische Ausgestaltung"]
[]
[null,"Gliederungsprinzip"]
[null,"orientiert am Leistungs- / Produktionsprozess"]
[]
[{"$f":"A2+1","v":55}]
[]
[null,"Das Bilanzgliederungsschema\nDas Bilanzgliederungsschema ordnet die Kontenklassen nach bilanziellen Tatbeständen, d. h., es bestehen eigene Kontenklassen für die Aktiva, die Passiva, die Aufwendungen und die Erträge. Bekanntester Vertreter ist der Industriekontenrahmen, der als Vorbild für die Mehrzahl der praktisch angewandten Kontenpläne bezeichnet werden kann.\n"]
[]
[null,"Das Prozessgliederungsschema\nDieses Gliederungsschema gliedert die Kontenklassen nach dem betrieblichen Prozess, also ablauforientiert. Es gibt also nicht eine Kontenklasse für die Aktiva und eine andere für die Passiva, sondern eine Kontenklasse für die kurzfristigen bilanziellen Sachverhalte, langfristige Kapitalkonten ebenso wie das Anlagevermögen, und eine andere für kurzfristige Sachverhalte, d.h., Umlaufvermögen ebenso wie kurzfristige Verbindlichkeiten. Die Gliederung hinsichtlich der Bilanz ist also gleichsam „horizontal“, während das Bilanzgliederungsschema sozusagen „vertikal“ gliedert. Diese Grundstruktur erleichtert insbesondere die Ermittlung der horizontalen Bilanzkennziffern. Hinsichtlich der Aufwendungen und Erträge trennt das Prozessgliederungsschema nach Aufwendungen und Kosten bzw. Erträgen und Leistungen, also ebenfalls wiederum nach Prozesskriterien eher als nach bilanziellen Grundtatbeständen. Prozessgegliederte Kontenpläne legen daher die betriebswirtschaftliche Unterscheidung zwischen Aufwendungen und Kosten bzw. Erträgen und Leistungen zugrunde. Dies ermöglicht insbesondere die Buchung der kalkulatorischen Kosten, was ein Alleinstellungsmerkmal dieser Art von Kontenplänen ist. \n"]

{"sheet":"Anlage 12","index":23,"n_rows":54,"n_cols":35,"rows_kept":54,"cut":false,"hidden":false,"merged":[[44,1,44,10],[44,12,44,21],[44,23,44,32],[44,34,44,43],[52,1,52,43],[46,1,46,10],[46,12,46,21],[46,23,46,32],[46,34,46,43],[47,23,47,32],[47,34,47,43],[47,1,47,21],[50,0,50,43],[45,1,45,10],[45,12,45,21],[45,23,45,32],[45,34,45,43],[42,1,42,10],[42,12,42,21],[42,23,42,32],[42,34,42,43],[43,1,43,10],[43,12,43,21],[43,23,43,32],[43,34,43,43],[40,1,40,10],[40,12,40,21],[40,23,40,32],[40,34,40,43],[41,1,41,10],[41,12,41,21],[41,23,41,32],[41,34,41,43],[38,1,38,10],[38,12,38,21],[38,23,38,32],[38,34,38,43],[39,1,39,10],[39,12,39,21],[39,23,39,32],[39,34,39,43],[37,12,37,21],[37,23,37,32],[37,34,37,43],[35,1,35,10],[35,12,35,21],[35,23,35,32],[35,34,35,43],[37,1,37,10],[32,23,32,32],[30,1,30,10],[30,12,30,21],[30,23,30,32],[30,34,30,43],[31,1,31,10],[31,12,31,21],[31,23,31,32],[31,34,31,43],[32,1,32,21],[28,12,28,21],[28,23,28,32],[28,34,28,43],[29,1,29,10],[29,12,29,21],[29,23,29,32],[29,34,29,43],[28,1,28,10],[26,1,26,10],[26,12,26,21],[26,23,26,32],[26,34,26,43],[27,1,27,10],[27,12,27,21],[27,23,27,32],[27,34,27,43],[24,1,24,10],[24,12,24,21],[24,23,24,32],[24,34,24,43],[25,1,25,10],[25,12,25,21],[25,23,25,32],[25,34,25,43],[22,1,22,10],[22,12,22,21],[22,23,22,32],[22,34,22,43],[23,1,23,10],[23,12,23,21],[23,23,23,32],[23,34,23,43],[20,1,20,10],[20,12,20,21],[20,23,20,32],[20,34,20,43],[16,1,16,10],[16,12,16,21],[16,23,16,32],[16,34,16,43],[17,1,17,32],[9,23,9,32],[9,34,9,43],[14,1,14,10],[14,12,14,21],[14,23,14,32],[14,34,14,43],[15,1,15,10],[15,12,15,21],[15,23,15,32],[15,34,15,43],[12,1,12,10],[12,12,12,21],[12,23,12,32],[12,34,12,43],[13,1,13,10],[13,12,13,21],[13,23,13,32],[13,34,13,43],[53,1,53,10],[1,0,1,43],[5,1,5,10],[5,12,5,21],[5,23,5,32],[5,34,5,43],[7,1,7,10],[7,12,7,21],[7,23,7,32],[7,34,7,43],[10,1,10,10],[10,12,10,21],[10,23,10,32],[10,34,10,43],[11,1,11,10],[11,12,11,21],[11,23,11,32],[11,34,11,43],[8,1,8,10],[8,12,8,21],[8,23,8,32],[8,34,8,43],[9,1,9,10],[9,12,9,21]]}
[]
["Anlage: Kontenrahmen (vereinfacht dargestellt)"]
[]
[null,"Beispiel: Gliederungsschema Industriekontenrahmen"]
[]
[null,"Kontenklasse 0",null,null,null,null,null,null,null,null,null,null,"Kontenklasse 1",null,null,null,null,null,null,null,null,null,null,"Kontenklasse 2"]
[]
[null,"Sachanlagen und ",null,null,null,null,null,null,null,null,null,null,"Finanzanlagen und ",null,null,null,null,null,null,null,null,null,null,"Vorräte, Forderungen"]
[null,"immaterielle Anlagen",null,null,null,null,null,null,null,null,null,null,"Geldkonten",null,null,null,null,null,null,null,null,null,null,"Aktive RAP"]
[]
[null,"Grundstücke",null,null,null,null,null,null,null,null,null,null,"Beteiligungen",null,null,null,null,null,null,null,null,null,null,"Roh-, Hilfs- und "]
[null,"Gebäude",null,null,null,null,null,null,null,null,null,null,"Ausleihungen",null,null,null,null,null,null,null,null,null,null,"Betriebsstoffe"]
[null,"Maschinen",null,null,null,null,null,null,null,null,null,null,"Wertpapiere",null,null,null,null,null,null,null,null,null,null,"Waren, unfertige"]
[null,"Anlagen",null,null,null,null,null,null,null,null,null,null,"Kassen",null,null,null,null,null,null,null,null,null,null,"und Fertigerzeugnisse"]
[null,"Konzessionen",null,null,null,null,null,null,null,null,null,null,"Banken",null,null,null,null,null,null,null,null,null,null,"Forderungen"]
[null,"gewerbliche Schutzrechte",null,null,null,null,null,null,null,null,null,null,null,null,null,null,null,null,null,null,null,null,null,"ARAP"]
[]
[null,"Bilanzkonten Aktiva"]
[]
[]
[null,"Kontenklasse 3",null,null,null,null,null,null,null,null,null,null,"Kontenklasse 4",null,null,null,null,null,null,null,null,null,null,"Kontenklasse 5"]
[]
[null,"Eigenkapital, Wertberich-",null,null,null,null,null,null,null,null,null,null,"Verbindlichkeiten",null,null,null,null,null,null,null,null,null,null,"Erträge (Leistungen"]
[null,"tigungen, Rückstellungen",null,null,null,null,null,null,null,null,null,null,"und passive RAP",null,null,null,null,null,null,null,null,null,null,"und neutrale Erträge)"]
[]
[null,"Eigenkapital, ",null,null,null,null,null,null,null,null,null,null,"Anleihen, Kredite,",null,null,null,null,null,null,null,null,null,null,"Umsatzerlöse, Bestands-"]
[null,"Sonderposten mit Rück-",null,null,null,null,null,null,null,null,null,null,"Verbindlichkeiten",null,null,null,null,null,null,null,null,null,null,"veränderungen, aktivierte"]
[null,"lagenanteil, EWB, PWB",null,null,null,null,null,null,null,null,null,null,"aus Lieferungen/Leist.",null,null,null,null,null,null,null,null,null,null,"Eigenleistungen, Zinsen"]
[null,"Rückstellungen",null,null,null,null,null,null,null,null,null,null,"sonstige Verbindlich-",null,null,null,null,null,null,null,null,null,null,"und neutrale Erträge"]
[null,null,null,null,null,null,null,null,null,null,null,null,"keiten, passive RAP",null,null,null,null,null,null,null,null,null,null,"aller Art"]
[]
[]
[null,"Bilanzkonten Passiva",null,null,null,null,null,null,null,null,null,null,null,null,null,null,null,null,null,null,null,null,null,"Erfolgskonten: Erträge"]
[]
[]
[null,"Kontenklasse 6",null,null,null,null,null,null,null,null,null,null,"Kontenklasse 7",null,null,null,null,null,null,null,null,null,null,"Kontenklasse 8",null,null,null,null,null,null,null,null,null,null,"Kontenklasse 9"]
[]
[null,"Material- und ",null,null,null,null,null,null,null,null,null,null,"Zinsen, Steuern, ",null,null,null,null,null,null,null,null,null,null,"Eröffnungs- und",null,null,null,null,null,null,null,null,null,null,"Kosten- und "]
[null,"Personalaufwenden, AfA",null,null,null,null,null,null,null,null,null,null,"sonstige Aufwendungen",null,null,null,null,null,null,null,null,null,null,"Abschlusskonten",null,null,null,null,null,null,null,null,null,null,"Leistungsrechnung"]
[]
[null,"Materialaufwendungen,",null,null,null,null,null,null,null,null,null,null,"Zinsaufwendungen, ",null,null,null,null,null,null,null,null,null,null,"Eröffnungsbilanzkonto",null,null,null,null,null,null,null,null,null,null,"verrechnete Leistungen"]
[null,"Löhne, Gehälter, SV",null,null,null,null,null,null,null,null,null,null,"Steuern vom Einkommen",null,null,null,null,null,null,null,null,null,null,"Gewinn- und Verlustkonto",null,null,null,null,null,null,null,null,null,null,"und Kosten, Kosten-"]
[null,"AfA nach verschiedenen",null,null,null,null,null,null,null,null,null,null,"und Ertrag, sonstige ",null,null,null,null,null,null,null,null,null,null,"Schlussbilanzkonto",null,null,null,null,null,null,null,null,null,null,"stellen, Kostenträger,"]
[null,"Anlässen und Arten",null,null,null,null,null,null,null,null,null,null,"Steuern, Einstellungen",null,null,null,null,null,null,null,null,null,null,null,null,null,null,null,null,null,null,null,null,null,"interne Leistungen etc."]
[null,null,null,null,null,null,null,null,null,null,null,null,"in Sonderposten"]
[]
[]
[null,"Erfolgskonten: Aufwendungen/Kosten",null,null,null,null,null,null,null,null,null,null,null,null,null,null,null,null,null,null,null,null,null,"Eröffnung/Abschluss",null,null,null,null,null,null,null,null,null,null,"Kostenrechnung"]
[]
[]
["Anlage: Kontenrahmen (vereinfacht dargestellt)"]
[]
[null,"Ein abschlussgegliederter Kontenrahmen (Abschlussgliederungsprinzip) im Gegensatz zum prozessgegliederten Gemeinschaftskontenrahmen der Industrie (GKR) (Prozessgliederungsprinzip). Der IKR ist eine neuere Entwicklung und derzeit weiter verbreitet als der GKR. Die Kontenklassen 0 bis 8 bilden den Rechnungskreis 1 ab und umschließen die Finanzbuchführung (Dokumentation und Rechnungslegung). Diese ist streng an die Doppik gebunden. Die Kontenklasse 9 bildet die Kosten- und Leistungsrechnung einschließlich der Abgrenzungsrechnung ab (Rechnungskreis 2). Dieser kann buchhaltersich oder statistisch durchgeführt werden.\nDie Kontenaufteilung im Rechnungskreis 1 des IKR führt durch ihre Abschlussorientierung\nautomatisch zum klaren Ablauf der Abschlussarbeiten. Das gilt auch für Zwischenabschlüsse und für den Aufbau von Sonderbilanzen. Kostenrechnerische Gesichtspunkte entfallen im Rechnungskreis Abs. 1 vollständig. Das ergibt sich schon aus der Übernahme der GuV-Gliederung nach dem Gesamtkostenverfahren (§ 275 Abs. 2 HGB). \n"]
[null,"siehe SKR 04 bzw. 03"]

{"sheet":"13","index":24,"n_rows":329,"n_cols":97,"rows_kept":329,"cut":false,"hidden":false,"merged":[[328,18,328,21],[328,22,328,30],[328,31,328,34],[326,9,326,17],[326,18,326,21],[326,22,326,30],[326,31,326,34],[328,1,328,17],[25,0,25,52],[327,9,327,17],[327,18,327,21],[327,22,327,30],[327,31,327,34],[324,9,324,17],[324,18,324,21],[324,22,324,30],[324,31,324,34],[325,9,325,17],[325,18,325,21],[325,22,325,30],[325,31,325,34],[322,9,322,17],[322,18,322,21],[322,22,322,30],[322,31,322,34],[323,9,323,17],[323,18,323,21],[323,22,323,30],[323,31,323,34],[300,17,300,20],[300,37,300,40],[318,96,318,99],[320,12,320,31],[321,9,321,17],[321,18,321,21],[321,22,321,30],[321,31,321,34],[305,2,305,19],[305,29,305,37],[303,2,303,19],[303,29,303,37],[309,2,309,19],[309,29,309,37],[310,2,310,19],[310,29,310,37],[307,2,307,19],[307,29,307,37],[308,2,308,19],[295,1,295,42],[298,17,298,20],[298,37,298,40],[299,17,299,20],[299,37,299,40],[292,0,292,52],[296,1,296,51],[288,17,288,20],[288,37,288,40],[278,47,278,50],[279,47,279,50],[280,47,280,50],[281,47,281,50],[282,47,282,50],[286,17,286,20],[287,17,287,20],[287,37,287,40],[282,37,282,40],[283,17,283,20],[283,37,283,40],[284,17,284,20],[284,37,284,40],[278,17,278,20],[278,37,278,40],[279,37,279,40],[280,17,280,20],[280,37,280,40],[281,37,281,40],[286,37,286,40],[274,17,274,20],[274,37,274,40],[275,37,275,40],[276,17,276,20],[276,37,276,40],[277,17,277,20],[277,37,277,40],[260,35,260,42],[265,35,265,42],[266,35,266,42],[268,35,268,42],[271,1,271,50],[273,17,273,20],[273,37,273,40],[277,47,277,50],[255,14,255,17],[255,19,255,22],[255,27,255,34],[255,35,255,42],[256,35,256,42],[257,35,257,42],[249,35,249,42],[253,14,253,17],[253,19,253,22],[253,27,253,34],[254,14,254,17],[254,19,254,22],[254,27,254,34],[247,14,247,17],[247,19,247,22],[247,27,247,34],[249,14,249,17],[249,19,249,22],[249,27,249,34],[241,35,241,42],[244,19,244,22],[245,14,245,17],[245,19,245,22],[245,27,245,34],[246,14,246,17],[246,19,246,22],[246,27,246,34],[232,17,232,20],[232,37,232,40],[233,37,233,40],[233,17,233,20],[239,1,239,42],[240,1,240,51],[231,17,231,20],[231,37,231,40],[227,22,227,28],[227,29,227,32],[227,33,227,38],[227,39,227,42],[225,22,225,28],[225,29,225,32],[225,33,225,38],[225,39,225,42],[226,22,226,28],[226,29,226,32],[226,33,226,38],[226,39,226,42],[223,22,223,28],[223,29,223,32],[223,33,223,38],[223,39,223,42],[224,22,224,28],[224,29,224,32],[224,33,224,38],[224,39,224,42],[220,24,220,40],[221,22,221,28],[221,29,221,32],[221,33,221,38],[221,39,221,42],[222,22,222,28],[222,29,222,32],[222,33,222,38],[222,39,222,42],[218,0,218,6],[218,7,218,10],[218,11,218,16],[218,17,218,20],[218,23,218,29],[218,30,218,33],[218,34,218,39],[218,40,218,43],[217,0,217,6],[217,7,217,10],[217,11,217,16],[217,17,217,20],[217,23,217,29],[217,30,217,33],[216,0,216,6],[216,7,216,10],[216,11,216,16],[216,17,216,20],[216,23,216,29],[216,30,216,33],[216,34,216,39],[216,40,216,43],[217,34,217,39],[217,40,217,43],[212,34,212,39],[212,40,212,43],[214,2,214,18],[214,25,214,41],[215,0,215,6],[215,7,215,10],[215,11,215,16],[215,17,215,20],[215,23,215,29],[215,30,215,33],[212,0,212,6],[212,7,212,10],[212,11,212,16],[212,17,212,20],[212,23,212,29],[212,30,212,33],[215,34,215,39],[215,40,215,43],[210,34,210,39],[210,40,210,43],[211,0,211,6],[211,7,211,10],[211,11,211,16],[211,17,211,20],[211,23,211,29],[211,30,211,33],[211,34,211,39],[211,40,211,43],[210,0,210,6],[210,7,210,10],[210,11,210,16],[210,17,210,20],[210,23,210,29],[210,30,210,33],[208,2,208,18],[208,25,208,41],[209,0,209,6],[209,7,209,10],[209,11,209,16],[209,17,209,20],[209,23,209,29],[209,30,209,33],[209,34,209,39],[209,40,209,43],[202,1,203,6],[202,11,202,21],[202,23,203,28],[204,14,204,17],[205,14,205,17],[206,14,206,17],[197,1,197,42],[200,1,200,42],[179,17,179,20],[179,37,179,40],[191,17,191,20],[191,37,191,40],[187,17,187,20],[187,37,187,40],[189,17,189,20],[189,37,189,40],[190,17,190,20],[190,37,190,40],[176,17,176,20],[177,17,177,20],[177,37,177,40],[182,37,182,40],[183,17,183,20],[183,37,183,40],[126,35,126,42],[131,35,131,42],[136,35,136,42],[137,35,137,42],[139,35,139,42],[127,35,127,42],[128,35,128,42],[161,34,161,39],[161,40,161,43],[159,34,159,39],[159,40,159,43],[157,34,157,39],[157,40,157,43],[152,34,152,39],[152,40,152,43],[150,2,150,18],[150,25,150,41],[151,0,151,6],[125,14,125,17],[125,19,125,22],[125,27,125,34],[126,14,126,17],[126,19,126,22],[126,27,126,34],[120,14,120,17],[120,19,120,22],[120,27,120,34],[120,35,120,42],[124,14,124,17],[124,19,124,22],[124,27,124,34],[118,14,118,17],[118,19,118,22],[118,27,118,34],[119,14,119,17],[119,19,119,22],[119,27,119,34],[112,35,112,42],[115,19,115,22],[116,14,116,17],[116,19,116,22],[116,27,116,34],[117,14,117,17],[117,19,117,22],[117,27,117,34],[186,17,186,20],[186,37,186,40],[185,37,185,40],[184,37,184,40],[172,33,172,38],[172,39,172,42],[180,17,180,20],[180,37,180,40],[181,17,181,20],[181,37,181,40],[178,37,178,40],[176,37,176,40],[168,33,168,38],[168,39,168,42],[166,33,166,38],[166,39,166,42],[172,0,172,6],[172,7,172,10],[172,11,172,16],[172,17,172,20],[172,22,172,28],[172,29,172,32],[170,33,170,38],[170,39,170,42],[171,0,171,6],[171,7,171,10],[171,11,171,16],[171,17,171,20],[171,22,171,28],[171,29,171,32],[171,33,171,38],[171,39,171,42],[170,0,170,6],[170,7,170,10],[170,11,170,16],[170,17,170,20],[170,22,170,28],[170,29,170,32],[169,0,169,6],[169,7,169,10],[169,11,169,16],[169,17,169,20],[169,22,169,28],[169,29,169,32],[169,33,169,38],[169,39,169,42],[168,0,168,6],[168,7,168,10],[168,11,168,16],[168,17,168,20],[168,22,168,28],[168,29,168,32],[167,0,167,6],[167,7,167,10],[167,11,167,16],[167,17,167,20],[167,22,167,28],[167,29,167,32],[167,33,167,38],[167,39,167,42],[163,34,163,39],[163,40,163,43],[165,2,165,18],[165,24,165,40],[166,0,166,6],[166,7,166,10],[166,11,166,16],[166,17,166,20],[166,22,166,28],[166,29,166,32],[163,0,163,6],[163,7,163,10],[163,11,163,16],[163,17,163,20],[163,23,163,29],[163,30,163,33],[162,0,162,6],[162,7,162,10],[162,11,162,16],[162,17,162,20],[162,23,162,29],[162,30,162,33],[162,34,162,39],[162,40,162,43],[161,0,161,6],[161,7,161,10],[161,11,161,16],[161,17,161,20],[161,23,161,29],[161,30,161,33],[160,0,160,6],[160,7,160,10],[160,11,160,16],[160,17,160,20],[160,23,160,29],[160,30,160,33],[160,34,160,39],[160,40,160,43],[159,0,159,6],[159,7,159,10],[159,11,159,16],[159,17,159,20],[159,23,159,29],[159,30,159,33],[158,0,158,6],[158,7,158,10],[158,11,158,16],[158,17,158,20],[158,23,158,29],[158,30,158,33],[158,34,158,39],[158,40,158,43],[154,34,154,39],[154,40,154,43],[156,2,156,18],[156,25,156,41],[157,0,157,6],[157,7,157,10],[157,11,157,16],[157,17,157,20],[157,23,157,29],[157,30,157,33],[154,0,154,6],[154,7,154,10],[154,11,154,16],[154,17,154,20],[154,23,154,29],[154,30,154,33],[153,0,153,6],[153,7,153,10],[153,11,153,16],[153,17,153,20],[153,23,153,29],[153,30,153,33],[153,34,153,39],[153,40,153,43],[152,0,152,6],[152,7,152,10],[152,11,152,16],[152,17,152,20],[152,23,152,29],[152,30,152,33],[151,7,151,10],[151,11,151,16],[151,17,151,20],[151,23,151,29],[151,30,151,33],[151,34,151,39],[151,40,151,43],[147,34,147,39],[147,40,147,43],[146,0,146,6],[146,7,146,10],[146,11,146,16],[146,17,146,20],[146,23,146,29],[146,30,146,33],[146,34,146,39],[146,40,146,43],[148,0,148,6],[148,7,148,10],[148,11,148,16],[148,17,148,20],[148,23,148,29],[148,30,148,33],[148,34,148,39],[148,40,148,43],[147,0,147,6],[147,7,147,10],[147,11,147,16],[147,17,147,20],[147,23,147,29],[147,30,147,33],[30,1,30,42],[105,17,105,20],[105,37,105,40],[106,17,106,20],[106,37,106,40],[102,17,102,20],[71,34,71,39],[71,40,71,43],[97,17,97,20],[97,37,97,40],[98,17,98,20],[98,37,98,40],[88,33,88,38],[88,39,88,42],[89,33,89,38],[89,39,89,42],[71,0,71,6],[71,7,71,10],[71,11,71,16],[71,17,71,20],[102,37,102,40],[71,23,71,29],[71,30,71,33],[69,34,69,39],[69,40,69,43],[70,0,70,6],[70,7,70,10],[70,11,70,16],[70,17,70,20],[70,23,70,29],[70,30,70,33],[70,34,70,39],[70,40,70,43],[69,0,69,6],[69,7,69,10],[69,11,69,16],[69,17,69,20],[69,23,69,29],[69,30,69,33],[67,2,67,18],[67,25,67,41],[68,0,68,6],[68,7,68,10],[68,11,68,16],[68,17,68,20],[68,23,68,29],[68,30,68,33],[68,34,68,39],[68,40,68,43],[89,0,89,6],[89,7,89,10],[89,11,89,16],[89,17,89,20],[89,22,89,28],[89,29,89,32],[88,0,88,6],[88,7,88,10],[88,11,88,16],[88,17,88,20],[88,22,88,28],[88,29,88,32],[86,33,86,38],[86,39,86,42],[87,0,87,6],[87,7,87,10],[87,11,87,16],[87,17,87,20],[87,22,87,28],[87,29,87,32],[87,33,87,38],[87,39,87,42],[86,0,86,6],[86,7,86,10],[86,11,86,16],[86,17,86,20],[86,22,86,28],[86,29,86,32],[84,33,84,38],[84,39,84,42],[85,0,85,6],[85,7,85,10],[85,11,85,16],[85,17,85,20],[85,22,85,28],[85,29,85,32],[85,33,85,38],[85,39,85,42],[84,0,84,6],[84,7,84,10],[84,11,84,16],[84,17,84,20],[84,22,84,28],[84,29,84,32],[82,2,82,18],[82,24,82,40],[83,0,83,6],[83,7,83,10],[83,11,83,16],[83,17,83,20],[83,22,83,28],[83,29,83,32],[83,33,83,38],[83,39,83,42],[79,34,79,39],[79,40,79,43],[80,0,80,6],[80,7,80,10],[80,11,80,16],[80,17,80,20],[80,23,80,29],[80,30,80,33],[80,34,80,39],[80,40,80,43],[79,0,79,6],[79,7,79,10],[79,11,79,16],[79,17,79,20],[79,23,79,29],[79,30,79,33],[77,34,77,39],[77,40,77,43],[78,0,78,6],[78,7,78,10],[78,11,78,16],[78,17,78,20],[78,23,78,29],[78,30,78,33],[78,34,78,39],[78,40,78,43],[77,0,77,6],[77,7,77,10],[77,11,77,16],[77,17,77,20],[77,23,77,29],[77,30,77,33],[75,34,75,39],[75,40,75,43],[76,0,76,6],[76,7,76,10],[76,11,76,16],[76,17,76,20],[76,23,76,29],[76,30,76,33],[76,34,76,39],[76,40,76,43],[75,0,75,6],[75,7,75,10],[75,11,75,16],[75,17,75,20],[75,23,75,29],[75,30,75,33],[73,2,73,18],[73,25,73,41],[74,0,74,6],[74,7,74,10],[74,11,74,16],[74,17,74,20],[74,23,74,29],[74,30,74,33],[74,34,74,39],[74,40,74,43],[64,34,64,39],[64,40,64,43],[65,0,65,6],[65,7,65,10],[65,11,65,16],[65,17,65,20],[65,23,65,29],[65,30,65,33],[65,34,65,39],[65,40,65,43],[64,0,64,6],[64,7,64,10],[64,11,64,16],[64,17,64,20],[64,23,64,29],[64,30,64,33],[62,34,62,39],[62,40,62,43],[63,0,63,6],[63,7,63,10],[63,11,63,16],[63,17,63,20],[63,23,63,29],[63,30,63,33],[63,34,63,39],[63,40,63,43],[62,0,62,6],[62,7,62,10],[62,11,62,16],[62,17,62,20],[62,23,62,29],[62,30,62,33],[51,35,51,42],[55,35,55,42],[56,35,56,42],[61,2,61,18],[61,25,61,41],[58,35,58,42],[48,19,48,22],[48,27,48,34],[42,14,42,17],[42,19,42,22],[42,27,42,34],[48,35,48,42],[48,14,48,17],[31,1,31,40],[32,1,32,40],[47,14,47,17],[47,19,47,22],[47,27,47,34],[42,35,42,42],[46,14,46,17],[39,19,39,22],[39,27,39,34],[40,14,40,17],[40,19,40,22],[40,27,40,34],[41,19,41,22],[41,27,41,34],[46,19,46,22],[46,27,46,34],[41,14,41,17],[38,14,38,17],[34,35,34,42],[38,19,38,22],[38,27,38,34],[37,19,37,22],[39,14,39,17],[308,29,308,37],[313,2,313,19],[313,29,313,37],[315,2,315,19],[315,29,315,37],[311,2,311,19],[311,29,311,37],[312,2,312,19],[312,29,312,37],[20,1,20,51],[18,0,18,52],[22,1,22,51],[1,0,1,52],[7,1,7,51],[9,1,9,51],[11,1,11,51],[13,1,13,51],[15,1,15,51],[94,0,94,52],[110,1,110,51],[142,0,142,52],[194,0,194,52],[198,1,198,51],[235,0,235,52],[104,17,104,20],[104,37,104,40],[100,17,100,20],[100,37,100,40],[101,17,101,20],[101,37,101,40],[99,37,99,40],[109,1,109,42],[144,2,144,18],[144,25,144,41],[145,0,145,6],[145,7,145,10],[145,11,145,16],[145,17,145,20],[145,23,145,29],[145,30,145,33],[145,34,145,39],[145,40,145,43]]}
[]
[{"$f":"'12'!A39:BA39+1","v":56}]
[]
[null,13,"Buchungen im Personalbereich"]
[]
[null,"13.1","Ausweis- und Rechnungslegungspflichten"]
[]
[null,"Die dem Personalbereich relevanten Vorschriften und zugrundeliegenden Rechtsquellen sind außerordentlich komplex. Während sich im Handelsrecht und im BGB kaum Vorschriften finden, sind detaillierte Regelungen im Steuerrecht enthalten, insbesondere im Einkommensteuergesetz (EStG) und in der Lohnsteuer-Durchführungsverordnung (LStDV). Die besonderen Ausweispflichten finden sich weiterhin im Sozialgesetzbuch IV (SGB IV).\n"]
[]
[null,"Für jeden Arbeitnehmer ist ein sogenannten „Lohnkonto“ zu führen, ein gesondert geführtes Konto, auf dem sich die Berechnungsweise des Nettolohnes (Nettoverdienst) und der Abzüge aus dem Bruttolohn nachvollziehen lassen. Das Lohnkonto ist also ein Grundelement der ordnungsgemäßen Buchführung (§ 238 HGB). Aus der Summierung der Lohnkonten der einzelnen Arbeitnehmer läßt sich der Gesamtpersonalaufwand bestimmen. Die Lohnnebenkosten sind dagegen gesondert in Pos. 6b der GuV-Gliederung nach dem Gesamtkostenverfahren unterzubringen.\n"]
[]
[null,"Die Buchungen im Zusammenhang mit den Arbeitsverhältnissen gehören zu den aufwendigeren Buchungstechniken. Durch arbeits- und sozialrechtliche Aufzeichnungs- und Rechenschaftslegungspflichten besteht eine umfangreiche Nebenbuchhaltung. Es ist zu unterscheiden zwischen den Kosten- und Zahlungsbuchungen:\nMerke: Gesamter Personalaufwand = Arbeitskosten = Summe aller Ausgaben, Aufwendungen und Kosten, die durch den Produktionsfaktor Arbeit entstanden sind:\n"]
[]
[null,"Aufwendungen und Kosten:\n- Berufsgenossenschaftsbeitrag (ca. 4,5 bis ca. 50% der Bruttolohnsumme je nach Gefahrenklasse)\n- Arbeitgeber-Sozialversicherungsbeitrag, 50%, derzeit:\n  Arbeitgeber-RV (50% von 18,7%) bis maximal zur Beitragsbemessungsgrenze\n  Arbeitgeber-KV (50% von 14,6%) bis maximal zur Beitragsbemessungsgrenze\n  Arbeitgeber-PV (ca. 2,55%/2,8% kinderlos) bis maximal zur Beitragsbemessungsgrenze\n  Arbeitgeber-ALV (50% von 3,0%) bis maximal zur Beitragsbemessungsgrenze\n  Eventuell weitere (freiwillige) Leistungen des Arbeitgebers, z. B. VWL\n- Gesamt-Bruttoarbeitsentgelt gemäß Arbeitsvertrag/Tarifvertrag etc.\n"]
[]
[null,"Ausgaben = Zahlungen:\n- Beitragszahlungen (z. B. die zuständigen Krankenkassen kassieren die Gesamtbeiträge, und leiten sie an die entsprechenden Organisationen weiter)\n- Steuerabführung (Lohnsteuer des Arbeitnehmes bis zum 10. des Folgemonats)\n- Nettoauszahlung (ggfs. vorbehaltlich etwaiger Lohnpfändungen z. B. durch Unterhaltsgläubiger)\n"]
[]
[]
[{"$f":"A2+1","v":57}]
[]
[null,"Die Geschäftsbuchführung trennt nur nach Kostenkonten, Verbindlichkeiten und Zahlungskonten, d.h., bucht zum Monatsende die Bruttolohnsummen und Arbeitgebersozialversicherungsanteile als Kostenbestandteil, die Nettoauszahlung als Überweisung und den Rest als Verbindlichkeit; zum 10. des Folgemonats werden diese Verbindlichkeiten dann bilanzverkürzend ausgebucht. Die Kosten- und Leistungsrechnung unterscheidet die drei wesentlichen Kostenarten: Einzelkosten, Sozial- und Unproduktivlöhne und Sozialkosten. Sie muss diese Unterscheidung treffen, um im Rahmen der Betriebsabrechnung zu einer korrekten und vollständigen Zuordnung der Gemeinkosten auf die Einzelkosten zu kommen, was für eine richtige und aussagekräftige Zuschlagskalkulation unerläßlich ist. \n"]
[]
[null,"Wesentlicher Buchungsbeleg der Lohnbuchhaltung ist das Lohnjournal, in dem die Software die einzelnen Bruttolöhne und Abzüge berechnet hat. Anders als in den Abrechnungen der einzelnen Mitarbeiter weist das Lohnjournal nur noch die Gesamtsummen aus.\n\nStandardbuchungssatz Beispiel:\n\nLohn/Gehalt (Aufwand)  ...................................... 10.000\nAG Anteil Gesetzliche SV (Aufwand)...................... 2.250\n                   AN Verbindlichkeiten / Bank Mitarbeiter....................................... 5.590\n                         Verbindlichkeiten Finanzamt................................................... 2.110\n                         Verbindlichkeiten SV (Sozialversicherungsträger) ................ 4.550\n"]
[]
[]
[{"$f":"A19+1","v":58}]
[]
[]
[null,"13.2","Übungsfälle zur Lohn-/Gehaltsverbuchung"]
[]
[null,"Fall 1:"]
[null,"Gehaltsabrechnung November 2017"]
[null,"für Frau Zänkle (ledig, ohne Kinder, Steuerklasse I)"]
[]
[null,"Bruttogehalt",null,null,null,null,null,null,null,null,null,null,null,null,null,null,null,null,null,null,null,null,null,null,null,null,null,null,null,null,null,null,null,null,null,3000]
[]
[null,"Sozialversicherung"]
[null,"(Arbeitnehmer-Anteil)",null,null,null,null,null,null,null,null,null,null,null,null,null,null,null,null,null,"1/2"]
[null,"Rentenversicherung",null,null,null,null,null,null,null,null,null,null,null,null,0.187,null,null,null,null,{"$f":"O39*0.5","v":9.35E-2},null,null,null,null,null,null,null,{"$f":"-AJ35*T39","v":-280.5}]
[null,"Arbeitslosenversicherung",null,null,null,null,null,null,null,null,null,null,null,null,0.03,null,null,null,null,{"$f":"O40*0.5","v":1.4999999999999999E-2},null,null,null,null,null,null,null,{"$f":"-AJ35*T40","v":-45}]
[null,"Krankenversicherung",null,null,null,null,null,null,null,null,null,null,null,null,0.14599999999999999,null,null,null,null,{"$f":"-AB41/AJ35","v":8.2000000000000003E-2},null,null,null,null,null,null,null,-246]
[null,"zzgl. nur AN (kinderlos)"]
[null,"Pflegeversicherung",null,null,null,null,null,null,null,null,null,null,null,null,null,null,null,null,null,null,null,null,null,null,null,null,null,-36.75,null,null,null,null,null,null,null,{"$f":"SUM(AB39:AI43)","v":-608.25}]
[]
["-","persönliche Steuern"]
[null,"(nur Arbeitnehmer)"]
[null,"Lohnsteuer",null,null,null,null,null,null,null,null,null,null,null,null,{"$f":"-AB47/AJ35","v":0.14372000000000001},null,null,null,null,null,null,null,null,null,null,null,null,-431.16]
[null,"Kirchensteuer",null,null,null,null,null,null,null,null,null,null,null,null,0.08,null,null,null,"x ",{"$f":"AB47","v":-431.16},null,null,null,null,null,null,null,{"$f":"O48*AB47","v":-34.492800000000003}]
[null,"Solidaritätszuschlag",null,null,null,null,null,null,null,null,null,null,null,null,5.5E-2,null,null,null,"x ",{"$f":"AB47","v":-431.16},null,null,null,null,null,null,null,{"$f":"AB47*O49","v":-23.713800000000003},null,null,null,null,null,null,null,{"$f":"SUM(AB47:AI49)","v":-489.36660000000001}]
[]
[]
["=","Nettogehalt (Bankauszahlung)",null,null,null,null,null,null,null,null,null,null,null,null,null,null,null,null,null,null,null,null,null,null,null,null,null,null,null,null,null,null,null,null,null,{"$f":"SUM(AJ35:AQ49)","v":1902.3833999999999}]
[]
[]
[null,"Arbeitgeberanteil zur Sozialversicherung"]
[null,"= Arbeitnehmeranteil-Anteil ohne  nur AN (kinderlos)",null,null,null,null,null,null,null,null,null,null,null,null,null,null,null,null,null,null,null,null,null,null,null,null,null,null,null,null,null,null,null,null,null,{"$f":"219+29.25+294+45","v":587.25}]
[null," + Insolvenzgeldumlage U3 (wurde vernachlässigt!)",null,null,null,null,null,null,null,null,null,null,null,null,null,null,null,null,null,null,null,null,null,null,null,null,null,null,null,null,null,null,null,null,null,0]
[]
[null,null,null,null,null,null,null,null,null,null,null,null,null,null,null,null,null,null,null,null,null,null,null,null,null,null,null,null,null,null,null,null,null,null,null,{"$f":"AJ56+AJ57","v":587.25}]
[]
[]
["S",null,"Gehälter (Aufwand)",null,null,null,null,null,null,null,null,null,null,null,null,null,null,null,null,null,"H",null,null,"S",null,"Gesetzliche Sozialkosten (Aufw.)",null,null,null,null,null,null,null,null,null,null,null,null,null,null,null,null,null,"H"]
[null,null,null,null,null,null,null,{"$f":"AJ35","v":3000},null,null,null,null,null,null,null,null,null,null,null,null,null,null,null,null,null,null,null,null,null,null,{"$f":"AJ59","v":587.25}]
[null,null,null,null,null,null,null,null,null,null,null,"Saldo GuV",null,null,null,null,null,{"$f":"H63","v":3000},null,null,null,null,null,null,null,null,null,null,null,null,null,null,null,null,"Saldo GuV",null,null,null,null,null,{"$f":"AE63","v":587.25}]
[]
[null,null,null,null,null,null,null,{"$f":"SUM(H63:K65)","v":3000},null,null,null,null,null,null,null,null,null,{"$f":"SUM(R63:U65)","v":3000},null,null,null,null,null,null,null,null,null,null,null,null,{"$f":"SUM(AE63:AH65)","v":587.25},null,null,null,null,null,null,null,null,null,{"$f":"SUM(AO63:AR65)","v":587.25}]
[]
[null,null,null,null,null,null,null,null,null,null,null,null,null,null,null,null,null,null,null,null,null,null,null,"Aufw.",null,"GuV",null,null,null,null,null,null,null,null,null,null,null,null,null,null,null,null,null,"Ertr."]
[null,null,null,null,null,null,null,null,null,null,null,null,null,null,null,null,null,null,null,null,null,null,null,{"$f":"C62","v":"Gehälter (Aufwand)"},null,null,null,null,null,null,{"$f":"R64","v":3000}]
[]
[null,null,null,null,null,null,null,null,null,null,null,null,null,null,null,null,null,null,null,null,null,null,null,{"$f":"Z62","v":"Gesetzliche Sozialkosten (Aufw.)"},null,null,null,null,null,null,{"$f":"AO64","v":587.25}]
[]
[]
["S",null,"Verbindlichkeit LSt/KiSt",null,null,null,null,null,null,null,null,null,null,null,null,null,null,null,null,null,"H",null,null,"S",null,"Eigenkapital",null,null,null,null,null,null,null,null,null,null,null,null,null,null,null,null,null,"H"]
[null,null,null,null,null,null,null,null,null,null,null,null,null,null,null,null,null,null,null,null,null,null,null,"Abgänge",null,null,null,null,null,null,null,null,null,null,"AB"]
["Bezahlung",null,null,null,null,null,null,{"$f":"R76","v":489.36660000000001},null,null,null,"LSt/KiSt",null,null,null,null,null,{"$f":"-AJ49","v":489.36660000000001},null,null,null,null,null,"Privatentnahmen"]
[null,null,null,null,null,null,null,null,null,null,null,null,null,null,null,null,null,null,null,null,null,null,null,"Verlust",null,null,null,null,null,null,null,null,null,null,"Zugänge"]
[]
[null,null,null,null,null,null,null,null,null,null,null,null,null,null,null,null,null,null,null,null,null,null,null,"EB",null,null,null,null,null,null,null,null,null,null,"Privateinlagen"]
[null,null,null,null,null,null,null,null,null,null,null,null,null,null,null,null,null,null,null,null,null,null,null,null,null,null,null,null,null,null,null,null,null,null,"Gewinn"]
[null,null,null,null,null,null,null,{"$f":"SUM(H75:K80)","v":489.36660000000001},null,null,null,null,null,null,null,null,null,{"$f":"SUM(R75:U80)","v":489.36660000000001}]
[]
["S",null,"Verbindlichkeit SV",null,null,null,null,null,null,null,null,null,null,null,null,null,null,null,null,null,"H",null,"S",null,"Bank",null,null,null,null,null,null,null,null,null,null,null,null,null,null,null,null,null,"H"]
[null,null,null,null,null,null,null,null,null,null,null,null,null,null,null,null,null,null,null,null,null,null,"Anfangsbestand",null,null,null,null,null,null,null,null,null,null,"Abgänge"]
["Bezahlung",null,null,null,null,null,null,{"$f":"R85+R86","v":1195.5},null,null,null,"AN-Anteil",null,null,null,null,null,{"$f":"-AJ43","v":608.25},null,null,null,null,null,null,null,null,null,null,null,null,null,null,null,"Nettogehalt",null,null,null,null,null,{"$f":"AJ52","v":1902.3833999999999}]
[null,null,null,null,null,null,null,null,null,null,null,"AG-Anteil",null,null,null,null,null,{"$f":"AE63","v":587.25},null,null,null,null,"Zugänge: ",null,null,null,null,null,null,null,null,null,null,"SV/LSt/KiSt",null,null,null,null,null,{"$f":"H85+H76","v":1684.8666000000001}]
[]
[null,null,null,null,null,null,null,null,null,null,null,null,null,null,null,null,null,null,null,null,null,null,null,null,null,null,null,null,null,null,null,null,null,"EB"]
[]
[null,null,null,null,null,null,null,{"$f":"SUM(H84:K89)","v":1195.5},null,null,null,null,null,null,null,null,null,{"$f":"SUM(R84:U89)","v":1195.5}]
[]
[]
[]
[]
[{"$f":"A26+1","v":59}]
[]
[]
[null,"Buchungssatz:",null,null,null,null,null,"Soll",null,null,null,null,null,null,null,null,null,{"$f":"SUM(R99:U101)","v":3000},null,null,null,null,null,"Haben",null,null,null,null,null,null,null,null,null,null,null,null,null,{"$f":"SUM(AL99:AO101)","v":2999.9999999999995}]
[null,"1. Gehalts-",null,null,null,null,null,{"$f":"C62","v":"Gehälter (Aufwand)"},null,null,null,null,null,null,null,null,null,{"$f":"R64","v":3000},null,null,null,"an",null,{"$f":"Y83","v":"Bank"},null,null,null,null,null,null,null,null,null,null,null,null,null,{"$f":"AN85","v":1902.3833999999999}]
[null,"    abrechnung",null,null,null,null,null,null,null,null,null,null,null,null,null,null,null,null,null,null,null,null,null,{"$f":"C83","v":"Verbindlichkeit SV"},null,null,null,null,null,null,null,null,null,null,null,null,null,{"$f":"R85","v":608.25}]
[null,null,null,null,null,null,null,null,null,null,null,null,null,null,null,null,null,null,null,null,null,null,null,{"$f":"C74","v":"Verbindlichkeit LSt/KiSt"},null,null,null,null,null,null,null,null,null,null,null,null,null,{"$f":"R76","v":489.36660000000001}]
[null,"Buchungssatz:",null,null,null,null,null,"Soll",null,null,null,null,null,null,null,null,null,{"$f":"SUM(R103:U104)","v":587.25},null,null,null,null,null,"Haben",null,null,null,null,null,null,null,null,null,null,null,null,null,{"$f":"SUM(AL103:AO104)","v":587.25}]
[null,"2. AG-Anteil SV",null,null,null,null,null,{"$f":"Z62","v":"Gesetzliche Sozialkosten (Aufw.)"},null,null,null,null,null,null,null,null,null,{"$f":"AE63","v":587.25},null,null,null,"an",null,{"$f":"C83","v":"Verbindlichkeit SV"},null,null,null,null,null,null,null,null,null,null,null,null,null,{"$f":"R86","v":587.25}]
[null,"    (Aufwand)",null,null,null,null,null,"(Aufwand)"]
[null,"Buchungssatz:",null,null,null,null,null,"Soll",null,null,null,null,null,null,null,null,null,{"$f":"SUM(R106:U107)","v":1684.8666000000001},null,null,null,null,null,"Haben",null,null,null,null,null,null,null,null,null,null,null,null,null,{"$f":"SUM(AL106:AO107)","v":1684.8666000000001}]
[null,"3. Bezahlung",null,null,null,null,null,{"$f":"C74","v":"Verbindlichkeit LSt/KiSt"},null,null,null,null,null,null,null,null,null,{"$f":"H76","v":489.36660000000001},null,null,null,"an",null,{"$f":"Y83","v":"Bank"},null,null,null,null,null,null,null,null,null,null,null,null,null,{"$f":"AN86","v":1684.8666000000001}]
[null,"    SV/LSt/KiSt",null,null,null,null,null,{"$f":"C83","v":"Verbindlichkeit SV"},null,null,null,null,null,null,null,null,null,{"$f":"H85","v":1195.5}]
[]
[]
[null,"Fall 2:"]
[null,"Wie Fall 1, aber Frau Zänkle erhält am 15.06. einen Gehaltsvorschuss von 400 € in bar; außerdem wohnt sie in einer vom Betrieb zur Verfügung gestellten Wohnung (\"unentgeltlich\"). Verrechneter Mietwert hierfür:  300 € => Gehalt: 3.000 + 300\n"]
[]
[null,"Bruttogehalt",null,null,null,null,null,null,null,null,null,null,null,null,null,null,null,null,null,null,null,null,null,null,null,null,null,null,null,null,null,null,null,null,null,3300]
[]
["-","Sozialversicherung"]
[null,"(Arbeitnehmer-Anteil)",null,null,null,null,null,null,null,null,null,null,null,null,null,null,null,null,null,"1/2"]
[null,"Rentenversicherung",null,null,null,null,null,null,null,null,null,null,null,null,{"$f":"O39","v":0.187},null,null,null,null,{"$f":"O117*0.5","v":9.35E-2},null,null,null,null,null,null,null,{"$f":"-AJ113*T117","v":-308.55}]
[null,"Arbeitslosenversicherung",null,null,null,null,null,null,null,null,null,null,null,null,{"$f":"O40","v":0.03},null,null,null,null,{"$f":"O118*0.5","v":1.4999999999999999E-2},null,null,null,null,null,null,null,{"$f":"-AJ113*T118","v":-49.5}]
[null,"Krankenversicherung",null,null,null,null,null,null,null,null,null,null,null,null,{"$f":"O41","v":0.14599999999999999},null,null,null,null,{"$f":"-AB119/AJ113","v":8.2000000000000003E-2},null,null,null,null,null,null,null,-270.60000000000002]
[null,"zzgl. nur AN (kinderlos)"]
[null,"Pflegeversicherung",null,null,null,null,null,null,null,null,null,null,null,null,null,null,null,null,null,null,null,null,null,null,null,null,null,-40.43,null,null,null,null,null,null,null,{"$f":"SUM(AB117:AI121)","v":-669.08}]
[]
["-","persönliche Steuern"]
[null,"(nur Arbeitnehmer)"]
[null,"Lohnsteuer",null,null,null,null,null,null,null,null,null,null,null,null,{"$f":"-AB125/AJ113","v":0.16716969696969697},null,null,null,null,null,null,null,null,null,null,null,null,-551.66]
[null,"Kirchensteuer",null,null,null,null,null,null,null,null,null,null,null,null,0.08,null,null,null,"x ",{"$f":"AB125","v":-551.66},null,null,null,null,null,null,null,{"$f":"O126*AB125","v":-44.132799999999996}]
[null,"Solidaritätszuschlag",null,null,null,null,null,null,null,null,null,null,null,null,5.5E-2,null,null,null,"x ",{"$f":"AB125","v":-551.66},null,null,null,null,null,null,null,{"$f":"AB125*O127","v":-30.341299999999997},null,null,null,null,null,null,null,{"$f":"SUM(AB125:AI127)","v":-626.13409999999999}]
["-","Vorschuss",null,null,null,null,null,null,null,null,null,null,null,null,null,null,null,null,null,null,null,null,null,null,null,null,null,null,null,null,null,null,null,null,null,-400]
["-","Mietwert",null,null,null,null,null,null,null,null,null,null,null,null,null,null,null,null,null,null,null,null,null,null,null,null,null,null,null,null,null,null,null,null,null,-300]
[]
[]
["=","Nettogehalt (Bankauszahlung)",null,null,null,null,null,null,null,null,null,null,null,null,null,null,null,null,null,null,null,null,null,null,null,null,null,null,null,null,null,null,null,null,null,{"$f":"SUM(AJ113:AQ129)","v":1304.7859000000001}]
[]
[]
[]
[null,"Arbeitgeberanteil zur Sozialversicherung"]
[null,"= Arbeitnehmeranteil-Anteil ohne",null,null,null,null,null,null,null,null,null,null,null,null,null,null,null,null,null,null,null,null,null,null,null,null,null,null,null,null,null,null,null,null,null,{"$f":"240.9+32.18+323.4+49.5","v":645.98}]
[null,"   nur AN (kinderlos)",null,null,null,null,null,null,null,null,null,null,null,null,null,null,null,null,null,null,null,null,null,null,null,null,null,null,null,null,null,null,null,null,null,{"$f":"-AB120","v":0}]
[]
[null,null,null,null,null,null,null,null,null,null,null,null,null,null,null,null,null,null,null,null,null,null,null,null,null,null,null,null,null,null,null,null,null,null,null,{"$f":"AJ137+AJ138","v":645.98}]
[]
[]
[{"$f":"A95+1","v":60}]
[]
["S",null,"Gehälter (Aufwand)",null,null,null,null,null,null,null,null,null,null,null,null,null,null,null,null,null,"H",null,null,"S",null,"Gesetzliche Sozialkosten (Aufw.)",null,null,null,null,null,null,null,null,null,null,null,null,null,null,null,null,null,"H"]
[null,null,null,null,null,null,null,{"$f":"AJ113","v":3300},null,null,null,null,null,null,null,null,null,null,null,null,null,null,null,null,null,null,null,null,null,null,{"$f":"AJ140","v":645.98}]
[null,null,null,null,null,null,null,null,null,null,null,"Saldo GuV",null,null,null,null,null,{"$f":"H146","v":3300},null,null,null,null,null,null,null,null,null,null,null,null,null,null,null,null,"Saldo GuV",null,null,null,null,null,{"$f":"AE146","v":645.98}]
[]
[null,null,null,null,null,null,null,{"$f":"SUM(H146:K148)","v":3300},null,null,null,null,null,null,null,null,null,{"$f":"SUM(R146:U148)","v":3300},null,null,null,null,null,null,null,null,null,null,null,null,{"$f":"SUM(AE146:AH148)","v":645.98},null,null,null,null,null,null,null,null,null,{"$f":"SUM(AO146:AR148)","v":645.98}]
[]
["S",null,"Forderung Zänkle",null,null,null,null,null,null,null,null,null,null,null,null,null,null,null,null,null,"H",null,null,"Aufw.",null,"GuV",null,null,null,null,null,null,null,null,null,null,null,null,null,null,null,null,null,"Ertr."]
["Vorschuss",null,null,null,null,null,null,400,null,null,null,null,null,null,null,null,null,{"$f":"H152","v":400},null,null,null,null,null,{"$f":"C145","v":"Gehälter (Aufwand)"},null,null,null,null,null,null,{"$f":"R147","v":3300},null,null,null,"Mietertrag",null,null,null,null,null,300]
[]
[null,null,null,null,null,null,null,null,null,null,null,null,null,null,null,null,null,null,null,null,null,null,null,{"$f":"Z145","v":"Gesetzliche Sozialkosten (Aufw.)"},null,null,null,null,null,null,{"$f":"AO147","v":645.98}]
[null,null,null,null,null,null,null,{"$f":"SUM(H152:K154)","v":400},null,null,null,null,null,null,null,null,null,{"$f":"SUM(R152:U154)","v":400}]
[]
["S",null,"Verbindlichkeit LSt/KiSt",null,null,null,null,null,null,null,null,null,null,null,null,null,null,null,null,null,"H",null,null,"S",null,"Eigenkapital",null,null,null,null,null,null,null,null,null,null,null,null,null,null,null,null,null,"H"]
[null,null,null,null,null,null,null,null,null,null,null,null,null,null,null,null,null,null,null,null,null,null,null,"Abgänge",null,null,null,null,null,null,null,null,null,null,"AB"]
["Bezahlung",null,null,null,null,null,null,{"$f":"R159","v":626.13409999999999},null,null,null,"LSt/KiSt",null,null,null,null,null,{"$f":"-AJ127","v":626.13409999999999},null,null,null,null,null,"Privatentnahmen"]
[null,null,null,null,null,null,null,null,null,null,null,null,null,null,null,null,null,null,null,null,null,null,null,"Verlust",null,null,null,null,null,null,null,null,null,null,"Zugänge"]
[]
[null,null,null,null,null,null,null,null,null,null,null,null,null,null,null,null,null,null,null,null,null,null,null,"EB",null,null,null,null,null,null,null,null,null,null,"Privateinlagen"]
[null,null,null,null,null,null,null,null,null,null,null,null,null,null,null,null,null,null,null,null,null,null,null,null,null,null,null,null,null,null,null,null,null,null,"Gewinn"]
[null,null,null,null,null,null,null,{"$f":"SUM(H158:K163)","v":626.13409999999999},null,null,null,null,null,null,null,null,null,{"$f":"SUM(R158:U163)","v":626.13409999999999}]
[]
["S",null,"Verbindlichkeit SV",null,null,null,null,null,null,null,null,null,null,null,null,null,null,null,null,null,"H",null,"S",null,"Bank",null,null,null,null,null,null,null,null,null,null,null,null,null,null,null,null,null,"H"]
[null,null,null,null,null,null,null,null,null,null,null,null,null,null,null,null,null,null,null,null,null,null,"Anfangsbestand",null,null,null,null,null,null,null,null,null,null,"Vorschuss",null,null,null,null,null,{"$f":"H152","v":400}]
["Bezahlung",null,null,null,null,null,null,{"$f":"R168+R169","v":1315.06},null,null,null,"AN-Anteil",null,null,null,null,null,{"$f":"-AJ121","v":669.08},null,null,null,null,null,null,null,null,null,null,null,null,null,null,null,"Nettogehalt",null,null,null,null,null,{"$f":"AJ132","v":1304.7859000000001}]
[null,null,null,null,null,null,null,null,null,null,null,"AG-Anteil",null,null,null,null,null,{"$f":"AJ140","v":645.98},null,null,null,null,"Zugänge: ",null,null,null,null,null,null,null,null,null,null,"SV/LSt/KiSt",null,null,null,null,null,{"$f":"H168+H159","v":1941.1940999999999}]
[]
[null,null,null,null,null,null,null,null,null,null,null,null,null,null,null,null,null,null,null,null,null,null,null,null,null,null,null,null,null,null,null,null,null,"EB"]
[]
[null,null,null,null,null,null,null,{"$f":"SUM(H167:K172)","v":1315.06},null,null,null,null,null,null,null,null,null,{"$f":"SUM(R167:U172)","v":1315.06}]
[]
[]
[]
[null,"Buchungssatz:",null,null,null,null,null,"Soll",null,null,null,null,null,null,null,null,null,{"$f":"SUM(R178:U180)","v":400},null,null,null,null,null,"Haben",null,null,null,null,null,null,null,null,null,null,null,null,null,{"$f":"SUM(AL178:AO180)","v":400}]
[null,"1. Gehalts-",null,null,null,null,null,{"$f":"C151","v":"Forderung Zänkle"},null,null,null,null,null,null,null,null,null,{"$f":"H152","v":400},null,null,null,"an",null,"Kasse",null,null,null,null,null,null,null,null,null,null,null,null,null,{"$f":"AN167","v":400}]
[null,"    Vorschuss"]
[null,"am 15.06."]
[null,"Buchungssatz:",null,null,null,null,null,"Soll",null,null,null,null,null,null,null,null,null,{"$f":"SUM(R182:U186)","v":3300},null,null,null,null,null,"Haben",null,null,null,null,null,null,null,null,null,null,null,null,null,{"$f":"SUM(AL182:AO186)","v":3300}]
[null,"2. Gehalts-",null,null,null,null,null,{"$f":"C145","v":"Gehälter (Aufwand)"},null,null,null,null,null,null,null,null,null,{"$f":"R147","v":3300},null,null,null,"an",null,{"$f":"Y166","v":"Bank"},null,null,null,null,null,null,null,null,null,null,null,null,null,{"$f":"AN168","v":1304.7859000000001}]
[null,"    abrechnung",null,null,null,null,null,null,null,null,null,null,null,null,null,null,null,null,null,null,null,null,null,{"$f":"C166","v":"Verbindlichkeit SV"},null,null,null,null,null,null,null,null,null,null,null,null,null,{"$f":"R168","v":669.08}]
[null,null,null,null,null,null,null,null,null,null,null,null,null,null,null,null,null,null,null,null,null,null,null,{"$f":"C157","v":"Verbindlichkeit LSt/KiSt"},null,null,null,null,null,null,null,null,null,null,null,null,null,{"$f":"R159","v":626.13409999999999}]
[null,null,null,null,null,null,null,null,null,null,null,null,null,null,null,null,null,null,null,null,null,null,null,{"$f":"C151","v":"Forderung Zänkle"},null,null,null,null,null,null,null,null,null,null,null,null,null,{"$f":"R152","v":400}]
[null,null,null,null,null,null,null,null,null,null,null,null,null,null,null,null,null,null,null,null,null,null,null,{"$f":"AI152","v":"Mietertrag"},null,null,null,null,null,null,null,null,null,null,null,null,null,{"$f":"AO152","v":300}]
[null,"Buchungssatz:",null,null,null,null,null,"Soll",null,null,null,null,null,null,null,null,null,{"$f":"SUM(R188:U189)","v":645.98},null,null,null,null,null,"Haben",null,null,null,null,null,null,null,null,null,null,null,null,null,{"$f":"SUM(AL188:AO189)","v":645.98}]
[null,"3. AG-Anteil SV",null,null,null,null,null,{"$f":"Z145","v":"Gesetzliche Sozialkosten (Aufw.)"},null,null,null,null,null,null,null,null,null,{"$f":"AE146","v":645.98},null,null,null,"an",null,{"$f":"C166","v":"Verbindlichkeit SV"},null,null,null,null,null,null,null,null,null,null,null,null,null,{"$f":"R169","v":645.98}]
[null,"    (Aufwand)"]
[null,"Buchungssatz:",null,null,null,null,null,"Soll",null,null,null,null,null,null,null,null,null,{"$f":"SUM(R191:U192)","v":1941.1940999999999},null,null,null,null,null,"Haben",null,null,null,null,null,null,null,null,null,null,null,null,null,{"$f":"SUM(AL191:AO192)","v":1941.1940999999999}]
[null,"4. Bezahlung",null,null,null,null,null,{"$f":"C157","v":"Verbindlichkeit LSt/KiSt"},null,null,null,null,null,null,null,null,null,{"$f":"H159","v":626.13409999999999},null,null,null,"an",null,{"$f":"Y166","v":"Bank"},null,null,null,null,null,null,null,null,null,null,null,null,null,{"$f":"AN169","v":1941.1940999999999}]
[null,"    SV/LSt/KiSt",null,null,null,null,null,{"$f":"C166","v":"Verbindlichkeit SV"},null,null,null,null,null,null,null,null,null,{"$f":"H168","v":1315.06}]
[]
[]
[{"$f":"A143+1","v":61}]
[]
[]
[null,"Fall 3:"]
[null,"Wegen besonderer Verdienste erhält Frieda Zänkle zwei Flaschen Champagner, die der Azubi im Fachgeschäft bar bezahlt: 35,70 €. \n"]
[]
[null,"Einkauf Champagne:"]
[]
[null,"Unternehmer",null,null,null,null,null,null,null,null,null,"Einkauf: Champagner bar",null,null,null,null,null,null,null,null,null,null,null,"Fachgeschäft"]
[]
[null,null,null,null,null,null,null,null,null,null,null,null,"Entgelt",null,{"$f":"35.7/1.19","v":30.000000000000004}]
[null,null,null,null,null,null,null,null,null,null,null,null,"+Umsatzsteuer 19%",null,{"$f":"O205*19%","v":5.7000000000000011},null,null,null,"(Vorsteuer)"]
[null,null,null,null,null,null,null,null,null,null,null,null,"=Kaufpreis",null,{"$f":"O205*1.19","v":35.700000000000003}]
[]
["S",null,"Freiwillige Sozialkosten",null,null,null,null,null,null,null,null,null,null,null,null,null,null,null,null,null,"H"]
["Champagner",null,null,null,null,null,null,{"$f":"O205","v":30.000000000000004}]
[null,null,null,null,null,null,null,null,null,null,null,"Saldo GuV",null,null,null,null,null,{"$f":"H210","v":30.000000000000004}]
[]
[null,null,null,null,null,null,null,{"$f":"SUM(H210:K212)","v":30.000000000000004},null,null,null,null,null,null,null,null,null,{"$f":"SUM(R210:U212)","v":30.000000000000004}]
[]
["S",null,"Vorsteuer",null,null,null,null,null,null,null,null,null,null,null,null,null,null,null,null,null,"H",null,null,"Aufw.",null,"GuV",null,null,null,null,null,null,null,null,null,null,null,null,null,null,null,null,null,"Ertr."]
["Champagner",null,null,null,null,null,null,{"$f":"O206","v":5.7000000000000011},null,null,null,null,null,null,null,null,null,null,null,null,null,null,null,{"$f":"C209","v":"Freiwillige Sozialkosten"},null,null,null,null,null,null,{"$f":"R211","v":30.000000000000004}]
[]
[]
[]
[]
[null,null,null,null,null,null,null,null,null,null,null,null,null,null,null,null,null,null,null,null,null,null,"S",null,"Kasse",null,null,null,null,null,null,null,null,null,null,null,null,null,null,null,null,null,"H"]
[null,null,null,null,null,null,null,null,null,null,null,null,null,null,null,null,null,null,null,null,null,null,"Anfangsbestand"]
[null,null,null,null,null,null,null,null,null,null,null,null,null,null,null,null,null,null,null,null,null,null,null,null,null,null,null,null,null,null,null,null,null,null,null,null,null,null,null,{"$f":"H210+H216","v":35.700000000000003}]
[null,null,null,null,null,null,null,null,null,null,null,null,null,null,null,null,null,null,null,null,null,null,"Zugänge: "]
[]
[null,null,null,null,null,null,null,null,null,null,null,null,null,null,null,null,null,null,null,null,null,null,null,null,null,null,null,null,null,null,null,null,null,"EB"]
[]
[]
[]
[]
[]
[null,"Buchungssatz:",null,null,null,null,null,"Soll",null,null,null,null,null,null,null,null,null,{"$f":"SUM(R233:U234)","v":35.700000000000003},null,null,null,null,null,"Haben",null,null,null,null,null,null,null,null,null,null,null,null,null,{"$f":"SUM(AL233:AO234)","v":35.700000000000003}]
[null,"1. Zuwendung",null,null,null,null,null,{"$f":"C209","v":"Freiwillige Sozialkosten"},null,null,null,null,null,null,null,null,null,{"$f":"H210","v":30.000000000000004},null,null,null,"an",null,{"$f":"Y221","v":"Kasse"},null,null,null,null,null,null,null,null,null,null,null,null,null,{"$f":"AN223","v":35.700000000000003}]
[null,"    AG",null,null,null,null,null,{"$f":"C215","v":"Vorsteuer"},null,null,null,null,null,null,null,null,null,{"$f":"H216","v":5.7000000000000011}]
[]
[{"$f":"A195+1","v":62}]
[]
[]
[]
[null,"Übung 13.1: "]
[null,"Für den ledigen Braumeister Fläschle liegen folgende Angaben vor:"]
[null,"Bruttogehalt (inklusive Mietwert Euro 760,00) ",null,null,null,null,null,null,null,null,null,null,null,null,null,null,null,null,null,null,null,null,null,null,null,null,null,null,null,null,null,null,null,null,null,4000]
[]
["-","Sozialversicherung"]
[null,"(Arbeitnehmer-Anteil)",null,null,null,null,null,null,null,null,null,null,null,null,null,null,null,null,null,"1/2"]
[null,"Rentenversicherung",null,null,null,null,null,null,null,null,null,null,null,null,{"$f":"O117","v":0.187},null,null,null,null,{"$f":"O246*0.5","v":9.35E-2},null,null,null,null,null,null,null,{"$f":"-AJ242*T246","v":-374}]
[null,"Arbeitslosenversicherung",null,null,null,null,null,null,null,null,null,null,null,null,{"$f":"O118","v":0.03},null,null,null,null,{"$f":"O247*0.5","v":1.4999999999999999E-2},null,null,null,null,null,null,null,{"$f":"-AJ242*T247","v":-60}]
[null,"Krankenversicherung",null,null,null,null,null,null,null,null,null,null,null,null,{"$f":"O119","v":0.14599999999999999},null,null,null,null,null,null,null,null,null,null,null,null,-313.64999999999998]
[null,"zzgl. nur AN (kinderlos)"]
[null,"Pflegeversicherung",null,null,null,null,null,null,null,null,null,null,null,null,null,null,null,null,null,null,null,null,null,null,null,null,null,-46.85,null,null,null,null,null,null,null,{"$f":"SUM(AB246:AI250)","v":-794.5}]
[]
["-","persönliche Steuern"]
[null,"(nur Arbeitnehmer)"]
[null,"Lohnsteuer",null,null,null,null,null,null,null,null,null,null,null,null,{"$f":"-AB254/AJ242","v":0.19153999999999999},null,null,null,null,null,null,null,null,null,null,null,null,-766.16]
[null,"Kirchensteuer",null,null,null,null,null,null,null,null,null,null,null,null,0.08,null,null,null,"x ",{"$f":"AB254","v":-766.16},null,null,null,null,null,null,null,{"$f":"O255*AB254","v":-61.2928}]
[null,"Solidaritätszuschlag",null,null,null,null,null,null,null,null,null,null,null,null,5.5E-2,null,null,null,"x ",{"$f":"AB254","v":-766.16},null,null,null,null,null,null,null,{"$f":"AB254*O256","v":-42.138799999999996},null,null,null,null,null,null,null,{"$f":"SUM(AB254:AI256)","v":-869.59159999999997}]
["-","Vorschuss",null,null,null,null,null,null,null,null,null,null,null,null,null,null,null,null,null,null,null,null,null,null,null,null,null,null,null,null,null,null,null,null,null,-1000]
["-","Mietwert",null,null,null,null,null,null,null,null,null,null,null,null,null,null,null,null,null,null,null,null,null,null,null,null,null,null,null,null,null,null,null,null,null,-760]
[]
[]
["=","Nettogehalt (Bankauszahlung)",null,null,null,null,null,null,null,null,null,null,null,null,null,null,null,null,null,null,null,null,null,null,null,null,null,null,null,null,null,null,null,null,null,{"$f":"SUM(AJ242:AQ258)","v":575.90840000000026}]
[]
[]
[]
[null,"Arbeitgeberanteil zur Sozialversicherung"]
[null,"= Arbeitnehmeranteil-Anteil ohne",null,null,null,null,null,null,null,null,null,null,null,null,null,null,null,null,null,null,null,null,null,null,null,null,null,null,null,null,null,null,null,null,null,{"$f":"279.23+37.29+392+60","v":768.52}]
[null,"   nur AN (kinderlos)",null,null,null,null,null,null,null,null,null,null,null,null,null,null,null,null,null,null,null,null,null,null,null,null,null,null,null,null,null,null,null,null,null,{"$f":"AB249","v":0}]
[]
[null,null,null,null,null,null,null,null,null,null,null,null,null,null,null,null,null,null,null,null,null,null,null,null,null,null,null,null,null,null,null,null,null,null,null,{"$f":"AJ266+AJ267","v":768.52}]
[]
[]
[null,"Verbuchen Sie am Monatsende die Lohnabrechnung (einschließlich des ArbG-Anteils) sowie die späteren Abführungen an FA und die Sozialversicherung."]
[]
[null,"Buchungssatz:",null,null,null,null,null,"Soll",null,null,null,null,null,null,null,null,null,{"$f":"SUM(R275:U277)","v":1000},null,null,null,null,null,"Haben",null,null,null,null,null,null,null,null,null,null,null,null,null,{"$f":"SUM(AL275:AO277)","v":1000}]
[null,"1. Gehalts-",null,null,null,null,null,"Ford. Braumeister",null,null,null,null,null,null,null,null,null,1000,null,null,null,"an",null,"Bank",null,null,null,null,null,null,null,null,null,null,null,null,null,{"$f":"R275","v":1000}]
[null,"    Vorschuss"]
[]
[null,"Buchungssatz:",null,null,null,null,null,"Soll",null,null,null,null,null,null,null,null,null,{"$f":"SUM(R279:U283)","v":4000},null,null,null,null,null,"Haben",null,null,null,null,null,null,null,null,null,null,null,null,null,{"$f":"SUM(AL279:AO283)","v":4000}]
[null,"1. Gehalts-",null,null,null,null,null,"Gehalt",null,null,null,null,null,null,null,null,null,4000,null,null,null,"an",null,{"$f":"X182","v":"Bank"},null,null,null,null,null,null,null,null,null,null,null,null,null,{"$f":"AJ261","v":575.90840000000026}]
[null,"    abrechnung",null,null,null,null,null,null,null,null,null,null,null,null,null,null,null,null,null,null,null,null,null,{"$f":"X183","v":"Verbindlichkeit SV"},null,null,null,null,null,null,null,null,null,null,null,null,null,{"$f":"-AJ250","v":794.5}]
[null,null,null,null,null,null,null,null,null,null,null,null,null,null,null,null,null,null,null,null,null,null,null,{"$f":"X184","v":"Verbindlichkeit LSt/KiSt"},null,null,null,null,null,null,null,null,null,null,null,null,null,{"$f":"-AJ256","v":869.59159999999997}]
[null,null,null,null,null,null,null,null,null,null,null,null,null,null,null,null,null,null,null,null,null,null,null,{"$f":"H275","v":"Ford. Braumeister"},null,null,null,null,null,null,null,null,null,null,null,null,null,{"$f":"R275","v":1000}]
[null,null,null,null,null,null,null,null,null,null,null,null,null,null,null,null,null,null,null,null,null,null,null,{"$f":"X186","v":"Mietertrag"},null,null,null,null,null,null,null,null,null,null,null,null,null,{"$f":"-AJ258","v":760}]
[null,"Buchungssatz:",null,null,null,null,null,"Soll",null,null,null,null,null,null,null,null,null,{"$f":"SUM(R285:U286)","v":768.52},null,null,null,null,null,"Haben",null,null,null,null,null,null,null,null,null,null,null,null,null,{"$f":"SUM(AL285:AO286)","v":768.52}]
[null,"2. AG-Anteil SV",null,null,null,null,null,{"$f":"H188","v":"Gesetzliche Sozialkosten (Aufw.)"},null,null,null,null,null,null,null,null,null,{"$f":"AJ269","v":768.52},null,null,null,"an",null,{"$f":"X188","v":"Verbindlichkeit SV"},null,null,null,null,null,null,null,null,null,null,null,null,null,{"$f":"AJ269","v":768.52}]
[null,"    (Aufwand)"]
[null,"Buchungssatz:",null,null,null,null,null,"Soll",null,null,null,null,null,null,null,null,null,{"$f":"SUM(R288:U289)","v":2432.6116000000002},null,null,null,null,null,"Haben",null,null,null,null,null,null,null,null,null,null,null,null,null,{"$f":"SUM(AL288:AO289)","v":2432.6116000000002}]
[null,"3. Bezahlung",null,null,null,null,null,{"$f":"H191","v":"Verbindlichkeit LSt/KiSt"},null,null,null,null,null,null,null,null,null,{"$f":"AL281","v":869.59159999999997},null,null,null,"an",null,{"$f":"X279","v":"Bank"},null,null,null,null,null,null,null,null,null,null,null,null,null,{"$f":"AL280+AL281+AL285","v":2432.6116000000002}]
[null,"    SV/LSt/KiSt",null,null,null,null,null,{"$f":"H192","v":"Verbindlichkeit SV"},null,null,null,null,null,null,null,null,null,{"$f":"AL280+AL285","v":1563.02}]
[]
[]
[]
[{"$f":"A236+1","v":63}]
[]
[]
[null,"Übung 13.2: "]
[null,"Die Betriebsrentnerin Alwine Brässli erhält zum 80. Geburtstag einen Rock’n’Roll- Kurs geschenkt. Die Tanzschule bucht 142,80 € von unserem Girokonto ab.\n\n\nWie verändert sich die Bilanz?"]
[]
[null,"Buchungssatz:",null,null,null,null,null,"Soll",null,null,null,null,null,null,null,null,null,{"$f":"SUM(R300:U301)","v":142.80000000000001},null,null,null,null,null,"Haben",null,null,null,null,null,null,null,null,null,null,null,null,null,{"$f":"SUM(AL300:AO301)","v":142.80000000000001}]
[null,"1. Zuwendung",null,null,null,null,null,{"$f":"H233","v":"Freiwillige Sozialkosten"},null,null,null,null,null,null,null,null,null,{"$f":"142.8/1.19","v":120.00000000000001},null,null,null,"an",null,{"$f":"X288","v":"Bank"},null,null,null,null,null,null,null,null,null,null,null,null,null,{"$f":"R300+R301","v":142.80000000000001}]
[null,"    AG",null,null,null,null,null,{"$f":"H234","v":"Vorsteuer"},null,null,null,null,null,null,null,null,null,{"$f":"R300*19%","v":22.800000000000004}]
[]
[]
[null,null,"Auswirkungen:"]
[]
[null,null,"=> Gewinnauswirkung:",null,null,null,null,null,null,null,null,null,null,null,null,null,null,null,null,null,null,null,null,null,null,null,null,null,"-",{"$f":"R300","v":120.00000000000001},null,null,null,null,null,null,null,null,"(GuV: Freiwillige Sozialkosten))"]
[]
[null,null,"=> Bilanzauswirkung"]
[null,null,"Anlagevermögen:",null,null,null,null,null,null,null,null,null,null,null,null,null,null,null,null,null,null,null,null,null,null,null,null,null,null,0,null,null,null,null,null,null,null,null,"(keine)"]
[null,null,"Umlaufvermögen:",null,null,null,null,null,null,null,null,null,null,null,null,null,null,null,null,null,null,null,null,null,null,null,null,null,"-",{"$f":"AL300-R301","v":120},null,null,null,null,null,null,null,null,"(Vorsteuer, Bank)"]
[null,null,"Eigenkapital:",null,null,null,null,null,null,null,null,null,null,null,null,null,null,null,null,null,null,null,null,null,null,null,null,null,null,0,null,null,null,null,null,null,null,null,"(Privatentnahme)"]
[null,null,null,null,null,null,null,null,null,null,null,null,null,null,null,null,null,null,null,null,null,null,null,null,null,null,null,null,"-",{"$f":"AD306","v":120.00000000000001},null,null,null,null,null,null,null,null,{"$f":"AM306","v":"(GuV: Freiwillige Sozialkosten))"}]
[null,null,null,null,null,null,null,null,null,null,null,null,null,null,null,null,null,null,null,null,null,null,null,null,null,null,null,null,"-",{"$f":"AD311+AD312","v":120.00000000000001},null,null,null,null,null,null,null,null,"(Eigenkapital gesamt)"]
[null,null,"Fremdkapital:",null,null,null,null,null,null,null,null,null,null,null,null,null,null,null,null,null,null,null,null,null,null,null,null,null,null,{"$f":"AL302","v":0}]
[]
[null,null,"=> Bilanzsumme:",null,null,null,null,null,null,null,null,null,null,null,null,null,null,null,null,null,null,null,null,null,null,null,null,null,"-",{"$f":"AD310","v":120},null,null,null,null,null,null,null,null,{"$f":"AM310","v":"(Vorsteuer, Bank)"}]
[]
[]
[null,null,null,null,null,null,null,null,null,null,null,null,null,null,null,null,null,null,null,null,null,null,null,null,null,null,null,null,null,null,null,null,null,null,null,null,null,null,null,null,null,null,null,null,null,null,null,null,null,null,null,null,null,null,null,null,null,null,null,null,null,null,null,null,null,null,null,null,null,null,null,null,null,null,null,null,null,null,null,null,null,null,null,null,null,null,null,null,null,null,null,null,null,null,null,null,{"$f":"#REF!-#REF!","v":{"$error":"#REF!"}}]
[]
[null,null,null,null,null,null,null,null,null,null,"Aktiva",null,"Schlussbilanz 31.12.",null,null,null,null,null,null,null,null,null,null,null,null,null,null,null,null,null,null,null,"Passiva"]
[null,null,null,null,null,null,null,null,null,"Anlagevermögen",null,null,null,null,null,null,null,null,null,null,null,null,"Eigenkapital",null,null,null,null,null,null,null,null,{"$f":"AG316","v":0}]
[null,null,null,null,null,null,null,null,null,null,null,null,null,null,null,null,null,null,null,null,null,null,"GuV",null,null,null,null,null,null,null,null,{"$f":"-R300","v":-120.00000000000001}]
[]
[null,null,null,null,null,null,null,null,null,"Umlaufvermögen",null,null,null,null,null,null,null,null,null,null,null,null,"Fremdkapital"]
[null,null,null,null,null,null,null,null,null,"Bank",null,null,null,null,null,null,null,null,{"$f":"-AL300","v":-142.80000000000001}]
[null,null,null,null,null,null,null,null,null,"Vorsteuer",null,null,null,null,null,null,null,null,{"$f":"R301","v":22.800000000000004}]
[]
[null,"Auswirkung auf die Bilanzsumme",null,null,null,null,null,null,null,null,null,null,null,null,null,null,null,null,{"$f":"SUM(S322:V328)","v":-120},null,null,null,null,null,null,null,null,null,null,null,null,{"$f":"SUM(AF322:AI328)","v":-120.00000000000001}]

{"sheet":"14","index":25,"n_rows":259,"n_cols":97,"rows_kept":259,"cut":false,"hidden":false,"merged":[[18,0,18,52],[111,0,111,52],[161,0,161,52],[229,0,229,52],[257,9,257,17],[257,18,257,21],[257,22,257,30],[257,31,257,34],[256,22,256,30],[256,31,256,34],[253,9,253,17],[253,18,253,21],[253,22,253,30],[253,31,253,34],[254,9,254,17],[254,18,254,21],[254,22,254,30],[254,31,254,34],[251,9,251,17],[251,18,251,21],[251,22,251,30],[251,31,251,34],[252,9,252,17],[252,18,252,21],[258,9,258,17],[258,18,258,21],[258,22,258,30],[258,31,258,34],[255,9,255,17],[255,18,255,21],[255,22,255,30],[255,31,255,34],[256,9,256,17],[256,18,256,21],[252,22,252,30],[252,31,252,34],[249,9,249,17],[249,18,249,21],[249,22,249,30],[249,31,249,34],[250,9,250,17],[250,18,250,21],[250,22,250,30],[250,31,250,34],[247,9,247,17],[247,18,247,21],[247,22,247,30],[247,31,247,34],[248,9,248,17],[248,18,248,21],[248,22,248,30],[248,31,248,34],[245,9,245,17],[245,18,245,21],[245,22,245,30],[245,31,245,34],[246,9,246,17],[246,18,246,21],[246,22,246,30],[246,31,246,34],[238,7,238,16],[238,17,238,20],[238,37,238,40],[241,96,241,99],[243,12,243,31],[244,9,244,17],[244,18,244,21],[244,22,244,30],[244,31,244,34],[233,1,233,50],[236,17,236,20],[236,37,236,40],[237,7,237,16],[237,17,237,20],[237,37,237,40],[225,1,225,42],[223,23,223,29],[223,30,223,33],[223,34,223,39],[223,40,223,43],[223,0,223,6],[223,7,223,10],[223,11,223,16],[223,17,223,20],[222,0,222,6],[222,7,222,10],[222,11,222,16],[222,17,222,20],[222,23,222,29],[222,30,222,33],[222,34,222,39],[222,40,222,43],[232,1,232,42],[219,2,219,18],[219,25,219,41],[220,40,220,43],[221,0,221,6],[221,7,221,10],[221,11,221,16],[221,17,221,20],[221,23,221,29],[221,30,221,33],[221,34,221,39],[221,40,221,43],[216,34,216,39],[216,40,216,43],[217,0,217,6],[217,7,217,10],[217,11,217,16],[217,17,217,20],[217,23,217,29],[217,30,217,33],[217,34,217,39],[217,40,217,43],[216,0,216,6],[216,7,216,10],[216,11,216,16],[216,17,216,20],[216,23,216,29],[216,30,216,33],[214,30,214,33],[214,34,214,39],[214,40,214,43],[215,17,215,20],[215,23,215,29],[215,30,215,33],[215,40,215,43],[206,14,206,17],[207,14,207,17],[208,14,208,17],[212,2,212,18],[212,25,212,41],[214,0,214,6],[214,7,214,10],[214,11,214,16],[214,17,214,20],[214,23,214,29],[203,14,203,17],[204,14,204,17],[205,14,205,17],[192,1,192,42],[195,1,195,42],[197,1,197,42],[200,1,201,6],[200,11,200,21],[200,23,201,28],[68,14,68,17],[88,17,88,20],[69,14,69,17],[59,1,59,42],[66,14,66,17],[67,14,67,17],[63,1,64,6],[63,11,63,21],[87,17,87,20],[87,37,87,40],[80,1,80,42],[95,7,95,10],[65,14,65,17],[61,1,61,42],[74,17,74,20],[74,37,74,40],[75,7,75,16],[75,17,75,20],[76,7,76,16],[76,17,76,20],[76,37,76,40],[78,1,78,42],[84,14,84,17],[85,14,85,17],[94,2,94,18],[94,25,94,41],[89,7,89,16],[89,17,89,20],[89,37,89,40],[81,14,81,17],[83,14,83,17],[88,7,88,16],[83,18,83,19],[88,37,88,40],[75,37,75,40],[189,0,189,6],[189,7,189,10],[189,11,189,16],[189,17,189,20],[186,2,186,18],[96,0,96,6],[96,7,96,10],[96,11,96,16],[96,17,96,20],[184,0,184,6],[184,11,184,16],[184,17,184,20],[170,14,170,17],[181,0,181,6],[181,7,181,10],[181,11,181,16],[181,17,181,20],[182,17,182,20],[173,14,173,17],[175,14,175,17],[171,14,171,17],[172,14,172,17],[157,7,157,16],[157,17,157,20],[96,23,96,29],[183,11,183,16],[183,17,183,20],[183,23,183,29],[184,7,184,10],[96,30,96,33],[96,34,96,39],[96,40,96,43],[188,0,188,6],[188,7,188,10],[188,11,188,16],[188,17,188,20],[98,23,98,29],[98,30,98,33],[98,34,98,39],[98,40,98,43],[98,0,98,6],[98,7,98,10],[98,11,98,16],[98,17,98,20],[99,0,99,6],[99,7,99,10],[99,11,99,16],[99,17,99,20],[99,23,99,29],[99,30,99,33],[182,40,182,43],[183,34,183,39],[183,40,183,43],[184,34,184,39],[184,40,184,43],[99,34,99,39],[99,40,99,43],[183,30,183,33],[157,37,157,40],[184,23,184,29],[184,30,184,33],[163,1,163,42],[165,1,165,42],[179,2,179,18],[179,25,179,41],[167,1,168,6],[167,11,167,21],[167,23,168,28],[152,7,152,16],[152,17,152,20],[152,37,152,40],[155,17,155,20],[155,37,155,40],[156,7,156,16],[156,17,156,20],[156,37,156,40],[146,14,146,17],[150,17,150,20],[150,37,150,40],[151,7,151,16],[151,17,151,20],[151,37,151,40],[139,1,139,42],[142,1,143,6],[142,11,142,21],[142,23,143,28],[144,14,144,17],[145,14,145,17],[134,7,134,16],[134,17,134,20],[134,37,134,40],[137,1,137,42],[132,17,132,20],[132,37,132,40],[133,7,133,16],[133,17,133,20],[133,37,133,40],[128,7,128,16],[128,17,128,20],[128,37,128,40],[122,14,122,17],[123,14,123,17],[129,7,129,16],[129,17,129,20],[129,37,129,40],[103,34,103,39],[116,1,116,42],[119,1,120,6],[119,11,119,21],[119,23,120,28],[121,14,121,17],[127,17,127,20],[127,37,127,40],[103,40,103,43],[105,0,105,6],[105,7,105,10],[105,11,105,16],[105,17,105,20],[104,17,104,20],[104,30,104,33],[105,40,105,43],[103,17,103,20],[105,23,105,29],[103,11,103,16],[105,34,105,39],[22,1,22,51],[31,0,31,52],[181,23,181,29],[186,25,186,41],[188,23,188,29],[188,30,188,33],[188,34,188,39],[188,40,188,43],[187,40,187,43],[181,30,181,33],[53,1,53,51],[41,1,41,51],[35,1,35,51],[37,1,37,51],[39,1,39,51],[51,1,51,51],[97,17,97,20],[174,14,174,17],[181,34,181,39],[181,40,181,43],[182,23,182,29],[182,30,182,33],[101,2,101,18],[101,25,101,41],[49,1,49,51],[190,0,190,6],[190,7,190,10],[190,11,190,16],[190,17,190,20],[190,23,190,29],[190,30,190,33],[183,0,183,6],[183,7,183,10],[190,34,190,39],[190,40,190,43],[189,23,189,29],[189,30,189,33],[189,34,189,39],[189,40,189,43],[114,1,114,42],[103,0,103,6],[104,0,104,6],[104,7,104,10],[104,11,104,16],[104,23,104,29],[105,30,105,33],[103,7,103,10],[103,30,103,33],[102,30,102,33],[1,0,1,52],[5,1,5,51],[9,1,9,51],[11,1,11,51],[15,1,15,51],[108,1,108,51],[55,1,55,51],[57,0,57,52],[63,23,64,34],[66,18,66,22],[72,1,72,51],[91,1,91,51],[104,34,104,39],[104,40,104,43],[103,23,103,29],[97,30,97,33],[97,23,97,29],[97,40,97,43],[24,1,24,51],[27,1,27,51],[29,1,29,51],[43,0,43,52],[47,1,47,51]]}
[]
[{"$f":"'13'!A293:BA293+1","v":64}]
[]
[null,14,"Buchungen im Ein- und Verkaufsbereich"]
[]
[null,"Die im Kapitel 10 gewonnenen Erkenntnisse über die Umsatzsteuer werden in diesem Kapitel vorausgesetzt, weil bei jedem Ein- und Verkaufsvorgang i. d. R. immer eine Umsatzsteuer anfällt und buchhalterisch zu erfassen ist.\n"]
[]
[null,"14.1","Zur Definition des Materialbegriffes"]
[]
[null,"Der Materialbegriff erfasst eine Vielzahl von betrieblichen Sachverhalten:\n1) Rohstoffe: Stoffe, die das zu fertigende Produkt in seiner physischen Masse zu wesentlichen Teilen ausmachen, z. B. Stahl, Kunststoff usw. (= Hauptstoffe)\n2) Hilfsstoffe: Stoffe, die in das zu fertigende Produkt nur in relativ unwesentlicher physikalischer Masse eingehen, z. B. Farbe, Lack, Klebstoff.\n3) Betriebsstoffe: Stoffe, die in das zu fertigende Produkt überhaupt nicht eingehen, aber zu seiner Fertigung erforderlich sind, z.B. Treibstoffe oder Reinigungsmittel.\n4) Halbfabrikate: Teile von zu fertigenden Produkten, die nicht selbst hergestellt, sondern extern bezogen werden, z.B. Bildröhren, Motoren, Module.\n5) Unfertig Erzeugnisse: Produkte, deren Fertigung noch nicht abgeschlossen ist, z.B. Rohlinge. Unfertigerzeugnisse gibt es nur bei mehrstufiger Fertigung.\n6) Fertigerzeugnisse: Fertige Produkte, die selbst hergestellt worden sind und deren Herstellung abgeschlossen ist. siehe Kapital 18 (Beständsveränderungen)\n7) Waren: Produkte, die eingekauft und unverändert weiterverkauft werden. Solange lediglich die Verpackung verändert wird, handelt es sich noch um eine Ware; jede Änderung am Produkt selbst qualifiziert dieses aber schon als Halbfabrikat. "]
[]
[null,"Für Roh-, Hilfs- und Betriebsstoffe gibt es relativ einheitliche Buchungsverfahren; weitere für Fertig- und Unfertigerzeugnisse sowie für Waren.\n\n"]
[]
[null,"14.2","Buchungen der Roh-, Hilfs- und Betriebsstoffe"]
[]
[null,"Aufgrund des Einzelwertprinzipes (§ 252 Abs. 1 Nr. 3 HGB) sind für Roh-, Hilfs- und Betriebsstoffe jeweils eigene (Bestands-) Konten zu führen, und zwar i. d. R. für jede Stoffart ein eigenes Konto. Werden also hunderte von Rohstoffen gebraucht, so sind hunderte von Rohstoffkonten zu führen, aber für diese alle gelten jeweils die gleichen Abrechnungsmechanismen.\nÜber die Eigenschaft als Rohstoff, Hilfsstoff oder Betriebsstoff entscheidet lediglich die Verwendungsabsicht des Buchführungspflichtigen. Ein- und derselbe Stoff kann also mehrfach geführt werden, je nachdem ob er als Rohstoff eingesetzt werden soll oder - nach Absicht des\nUnternehmers! - nur unwesentlich in ein Produkt eingeht und folglich ein Hilfsstoff darstellt.\n"]
[]
[]
[{"$f":"A2+1","v":65}]
[]
[]
[null,"Einkauf der Roh-, Hilfs- und Betriebsstoffe"]
[null,"Beim Einkauf ist der eingekaufte Betrag zu aktivieren, wobei die Umsatzsteuer zu berücksichtigen ist. Der Standardbuchungssatz lautet:\nRohstoffe ..................................................... 1.000\nVorsteuer ....................................................... 190\nAN Verbindlichkeiten aus LuL............................. 1.190\n\nWerden mehrere Materialarten in einer Lieferung und also auch in einem Beleg erfasst, so sind sie in einem Buchungssatz auf mehrere Konten zu verteilen. Die Umsatzsteuer bleibt dabei in einem Betrag:\nRohstoffe ..................................................... 1.000\nHilfsstoffe ........................................................ 500\nBetriebsstoffe ................................................. 200\nVorsteuer .......................................................  323\nAN Verbindlichkeiten aus LuL ...............................2.023\n"]
[]
[null,"Bei Barzahlung kann direkt das Kassenkonto verwendet werden, was aber selten ist:\nRohstoffe (Bestandskonto) ..................................................... 1.000\nVorsteuer (Bestandskonto = \"Forderung\")............................... 190\n                                           Kasse (bzw. Bank) ........................................................... 1.190\n"]
[]
[null,"Verbrauch der Roh-, Hilfs- und Betriebsstoffe"]
[null,"So wie für jede Materialart ein eigenes Bestands-Konto zu führen ist, muss auch für jeden Verbrauch ein eigenes Konto eingerichtet werden. Diese Konten sind im Gegensatz zum Einkauf erfolgswirksam, d. h., das GuV-Konto wird erst berührt, wenn und insoweit das Material verbraucht wird und nicht wenn es angeschafft wird. Da Rohstoffe i. d. R. Einzelkosten verursachen, spiegelt sich dies in der Bezeichnung des Verbrauchskontos wieder:\n\nMaterialaufwand (Einzelkosten)....................500\nAN Rohstoffe (Bestandskonto)........................................................ 500\n\nHier ist der Betrag zu erfassen, der tatsächlich verbraucht worden ist, und keinesfalls derjenige, der angeschafft wurde."]
[]
[null,"Da Hilfsstoffkosten Gemeinkosten sind, ist auch dieses in der Benennung des entsprechenden Verbrauchskontos zu erfassen:\n\nHilfsstoffaufwand (Gemeinkosten).............. 500\nAN Hilfsstoffe ....................................................... 500"]
[]
[{"$f":"A19+1","v":66}]
[]
[null,"14.3","Buchungen des Warenverkehrs"]
[]
[null,"Während der Warenein- und verkauf den entsprechenden Buchungen der Stoffe gleichen, gibt es bei der Abrechnung der Verbräuche erhebliche Unterschiede. Diese haben im wesentlichen den Grund, dass die meisten Warenverbräuche nicht durch selbständige Materialentnahmescheine erfasst werden, wie es bei Roh-, Hilfs- und Betriebsstoffen üblich ist.\n"]
[]
[null,"Der Wareneinkauf führt zunächst zu einer Aktivierung des Warenbestandes. Das Konto „Wareneinkauf“ ist damit ein Aktivkonto:\nWaren (Bestandskonto)....................................................... 2.000\nVorsteuer ................................................................................. 380\n                                   AN Verbindlichkeiten aus LuL ........................ 2.380\n\nAuf dem Konto „Wareneinkauf“ entsteht so zunächst der Ausweis der Summe der eingekauften Waren.\n"]
[]
[null,"Der Warenverkauf ist die wirtschaftliche Verwertung eines Gutes, also ein Ertrag. Der Warenverkauf ist damit direkt erfolgswirksam, d. h., der Betrag, zu dem verkauft wird, ist als Ertrag zu buchen - ganz gleich, ob der Kunde direkt in bar bezahlt:\n\nKasse .................................................... 2.380\nAN Umsatzerlöse (Ertrag = GuV)......................................................................................... 2.000\n       Umsatzsteuer (Bestandskonto = \"Verbindlichkeit\")....................................................... 380\n\noder ob er eine Rechnung erhält, also „nur“ eine Forderung gebucht werden kann:\nForderungen aus LuL ................................ 2.380\nAN Umsatzerlöse (Ertrag = GuV)......................................................................................... 2.000\n       Umsatzsteuer (Bestandskonto = \"Verbindlichkeit\")....................................................... 380"]
[]
[null,"Selbstverständlich sind beide Vorgänge umsatzsteuerpflichtig, weil es sich um Leistungsverkehr mit anderen Unternehmern handelt. Auch hier ist die Umsatzsteuer wieder realisations- und nicht zahlungsbezogen, d. h., fällt im Moment des Verkaufes (und nicht der Einzahlung des Kunden) an. Dies bedeutet übrigens auch, dass bei langfristigen Zahlungszielen die Abführung der Umsatzsteuer u. U. vor dem Zahlungeingang des Kunden liegen kann, der Unternehmer dem Fiskus also u. U. einen Umsatzsteuerkredit gewähren muß - und zwar zinslos. Das ist besonders bei langfristiger Auftragsfertigung ein Problem, etwa im Baugewerbe.\n"]
[]
[{"$f":"A32+1","v":67}]
[]
[null,"14.4","Grundlagen zu (nachträglichen) Preisnachlässen"]
[]
[null,"Ein Preisnachlass ist die Reduktion eines Preises im Ein- oder im Verkauf. Von besonderem buchhalterischen Interesse sind hier die Preisnachlässe, die nach Rechnungsstellung eintreten,\nweil diese eine teilweise Stornierung der ursprünglichen Buchung einschließlich der mit ihr verbundenen Umsatzsteuer erfordern. Die Übersicht auf der Folgeseite faßt die grundlegenden buchhalterischen Tatbestände zusammen.\n"]
[]
[null,"Ein Rabatt ist ein dem Käufer während der Verkaufsverhandlungen eingeräumter Preisnachlass. Der Rabatt ist daher bei Rechnungslegung gewiß. Es handelt sich um einen Preisnachlass, der\nvor der ersten Buchung endgültig bekannt ist. Der Rabatt wird daher überhaupt nicht selbständig gebucht, d. h., er führt zu keiner eigenständigen Buchung. Vielmehr ist er auf dem Verkaufsbeleg (Rechnung, Quittung) auszuweisen und lediglich der rabattierte Verkaufspreis ist buchhalterisch\nzu erfassen. Durch Ausweis auf der Rechnung ist den Grundsätzen der ordnungsgemäßen Buchführung auch damit ohne weitere Buchung des Rabattbetrages genügt.\n"]
[]
[null,"Eine nachträgliche Preisminderung tritt ein, wenn dem Kunden nach Vertragsschluss und Rechnungslegung noch eine Preisminderung eingeräumt wird. Häufigster Grund sind Mängelrügen wegen Qualitäts- oder anderen Mängeln der Ware, oft aber auch Mengenrabatte, die nachträglich, d.h., erst bei Erreichen einer bestimmten Kaufmenge gewährt werden. Solche Rabatte nennt man, um sie von den vor Rechnungsstellung gewährten Rabatten abzugrenzen, auch Boni.\n"]
[]
[null,"Für diesen Fall ist charakteristisch, dass eine Änderung des Lagerbestandes nicht eintritt. Die Preisminderung bzw. der Bonus sind daher lediglich als teilweise Stornierung des eigentlichen Vorganges zu erfassen. Hierbei gilt die Grundregel, dass eine Stornobuchung als Umkehrung\nder ursprünglichen Buchung zu behandeln ist, also die Soll- und die Haben-Kontierung vertauscht werden. War der Kauf eines Kunden beispielweise zunächst\n\nForderungen aus LuL............................. 1.190\nAN Umsatzerlöse aus Warenverkauf .............................................. 1.000\n      Umsatzsteuer .............................................................................. 190\n"]
[]
[null,"und erhält dieser Kunde nunmehr einen zehnprozentigen Nachlass (ganz gleich, ob infolge einer Mängelrüge oder als Bonus), so wäre dies als Stornierung der ursprünglichen Kontierung zu erfassen, d. h., die Soll- und die Haben-Kontierung des Ausgangsfalles werden umgekehrt.\nEs ergibt sich also:\n\nUmsatzerlöse aus Warenverkauf ................................................ 100\nUmsatzsteuer ............................................................................... 19\n       AN Forderungen aus LuL ..................................................................... 119\n"]
[]
[{"$f":"A44+1","v":68}]
[]
[null,"Fall 1: Rabatt und Anschaffungsnebenkosten (=ANK) bzw. Bezugskosten"]
[]
[null,"Einkauf:"]
[]
[null,"Industrie-UN",null,null,null,null,null,null,null,null,null,"Einkauf: Rohstoffe gegen Scheck",null,null,null,null,null,null,null,null,null,null,null,"Urproduktion"]
[]
[null,null,null,null,null,null,null,null,null,null,null,null,"Einkaufslistenpreis",null,40000]
[null,null,null,null,null,null,null,null,null,null,null,null,"./. Sonderrabatt",null,{"$f":"-O66*S67","v":-6000},null,null,null,0.15]
[null,null,null,null,null,null,null,null,null,null,null,null,"= netto",null,{"$f":"SUM(O66:R67)","v":34000}]
[null,null,null,null,null,null,null,null,null,null,null,null,"+Umsatzsteuer 19%",null,{"$f":"O68*19%","v":6460},null,null,null,"(Vorsteuer)"]
[null,null,null,null,null,null,null,null,null,null,null,null,"= Kaufpreis",null,{"$f":"O68*1.19","v":40460}]
[]
[]
[null,"Bei Rabatten wird, da es sicher ist, dass sie abgezogen werden dürfen, von vornherein nur der Netto- / geminderte Preis als Eingangspreis verbucht."]
[]
[null,"Buchungssatz:",null,null,null,null,null,"Soll",null,null,null,null,null,null,null,null,null,{"$f":"SUM(R76:U77)","v":40460},null,null,null,null,null,"Haben",null,null,null,null,null,null,null,null,null,null,null,null,null,{"$f":"SUM(AL76:AO77)","v":40460}]
[null,"Lieferung",null,null,null,null,null,"Rohstoffe",null,null,null,null,null,null,null,null,null,{"$f":"O68","v":34000},null,null,null,"an",null,"Bank",null,null,null,null,null,null,null,null,null,null,null,null,null,{"$f":"O70","v":40460}]
[null,"gegen Scheck",null,null,null,null,null,"Vorsteuer",null,null,null,null,null,null,null,null,null,{"$f":"O69","v":6460}]
[]
[null,"Anschaffungsnebenkosten (=ANK) bzw. Bezugskosten"]
[]
[null,"Zusätzlich fallen beim Rohstoffkauf an (bar):"]
[null,null,null,null,null,null,null,null,null,null,null,null,"Transportversicherung",null,200,null,null,null,"keine USt"]
[]
[null,null,null,null,null,null,null,null,null,null,null,null,"+ Fracht",null,400]
[null,null,null,null,null,null,null,null,null,null,null,null,"+Umsatzsteuer 19%",null,{"$f":"O84*19%","v":76},null,null,null,"(Vorsteuer)"]
[null,null,null,null,null,null,null,null,null,null,null,null,"= Rechnungsbetrag",null,{"$f":"O84*1.19","v":476}]
[]
[null,"Buchungssatz:",null,null,null,null,null,"Soll",null,null,null,null,null,null,null,null,null,{"$f":"SUM(R89:U90)","v":676},null,null,null,null,null,"Haben",null,null,null,null,null,null,null,null,null,null,null,null,null,{"$f":"SUM(AL89:AO90)","v":676}]
[null,"Anschaffungs-",null,null,null,null,null,"(ANK) Rohstoffe",null,null,null,null,null,null,null,null,null,{"$f":"O82+O84","v":600},null,null,null,"an",null,"Kasse",null,null,null,null,null,null,null,null,null,null,null,null,null,{"$f":"O86+O82","v":676}]
[null,"nebenkosten",null,null,null,null,null,"Vorsteuer",null,null,null,null,null,null,null,null,null,{"$f":"O85","v":76},null,null,null,"an"]
[]
[null,"ANK sind Unterkonten zum jeweiligen Bestandskonto RSt, HSt, BSt, Handelsware und bezogene Teile und werden am Monatsende auf das jeweilige Mutterkonto abgeschlossen:"]
[]
[]
["S",null,"Rohstoffe",null,null,null,null,null,null,null,null,null,null,null,null,null,null,null,null,null,"H",null,null,"S",null,"ANK Rohstoffe",null,null,null,null,null,null,null,null,null,null,null,null,null,null,null,null,null,"H"]
[null,null,null,null,null,null,null,{"$f":"O68","v":34000}]
[{"$f":"Z95","v":"ANK Rohstoffe"},null,null,null,null,null,null,{"$f":"AO98","v":600},null,null,null,"EB => Schlussbil.",null,null,null,null,null,{"$f":"H96+H97","v":34600},null,null,null,null,null,{"$f":"M82","v":"Transportversicherung"},null,null,null,null,null,null,{"$f":"O84","v":400}]
[null,null,null,null,null,null,null,null,null,null,null,null,null,null,null,null,null,null,null,null,null,null,null,{"$f":"M84","v":"+ Fracht"},null,null,null,null,null,null,{"$f":"O82","v":200},null,null,null,"Saldo => Rohst.",null,null,null,null,null,{"$f":"AE98+AE97","v":600}]
[]
[null,null,null,null,null,null,null,{"$f":"SUM(H96:K99)","v":34600},null,null,null,null,null,null,null,null,null,{"$f":"SUM(R96:U99)","v":34600},null,null,null,null,null,null,null,null,null,null,null,null,{"$f":"SUM(AE96:AH99)","v":600},null,null,null,null,null,null,null,null,null,{"$f":"SUM(AO96:AR99)","v":600}]
[]
["S",null,"Kasse",null,null,null,null,null,null,null,null,null,null,null,null,null,null,null,null,null,"H",null,null,"S",null,"Vorsteuer",null,null,null,null,null,null,null,null,null,null,null,null,null,null,null,null,null,"H"]
[null,null,null,null,null,null,null,null,null,null,null,null,null,null,null,null,null,null,null,null,null,null,null,null,null,null,null,null,null,null,{"$f":"R77","v":6460}]
[null,null,null,null,null,null,null,null,null,null,null,{"$f":"Z95","v":"ANK Rohstoffe"},null,null,null,null,null,{"$f":"O82+O86","v":676},null,null,null,null,null,null,null,null,null,null,null,null,{"$f":"O85","v":76}]
[]
[]
[]
[]
[null,"Anschaffungsneben- oder Bezugs“kosten“ sind somit KEINE Kosten der Klasse 4 (kein Erfolgskonto, also noch kein Aufwand), sondern erhöhen in Klasse 3 die Anschaffungs“ kosten“ der Bestände, d.h. sie werden aktiviert auf dem Bestandskonto (z. B. Rohstoffe)\n"]
[]
[]
[{"$f":"A58+1","v":69}]
[]
[]
[null,"Fall 2: Rücksendungen auf der Einkaufsseite"]
[]
[null,"Wir senden dem Lieferanten falsch gelieferte bzw. völlig unbrauchbare Rohstoffe zurück: 24.000 € zuzügl. 19 % USt. Die Rechnung war noch nicht bezahlt. \n"]
[]
[]
[null,"Industrie",null,null,null,null,null,null,null,null,null,"Einkauf: Rohstoffe",null,null,null,null,null,null,null,null,null,null,null,"Urproduktion"]
[]
[null,null,null,null,null,null,null,null,null,null,null,null,"Einkaufslistenpreis",null,24000]
[null,null,null,null,null,null,null,null,null,null,null,null,"+Umsatzsteuer 19%",null,{"$f":"O122*19%","v":4560},null,null,null,"(Vorsteuer)"]
[null,null,null,null,null,null,null,null,null,null,null,null,"= Kaufpreis",null,{"$f":"SUM(O122:R123)","v":28560}]
[]
[]
[]
[null,"Buchungssatz:",null,null,null,null,null,"Soll",null,null,null,null,null,null,null,null,null,{"$f":"SUM(R129:U130)","v":28560},null,null,null,null,null,"Haben",null,null,null,null,null,null,null,null,null,null,null,null,null,{"$f":"SUM(AL129:AO130)","v":28560}]
[null,"Lieferung",null,null,null,null,null,"Rohstoffe",null,null,null,null,null,null,null,null,null,{"$f":"O122","v":24000},null,null,null,"an",null,"Verblk. a. LuL",null,null,null,null,null,null,null,null,null,null,null,null,null,{"$f":"O124","v":28560}]
[null,"auf Ziel",null,null,null,null,null,"Vorsteuer",null,null,null,null,null,null,null,null,null,{"$f":"O123","v":4560}]
[]
[]
[null,"Buchungssatz:",null,null,null,null,null,"Soll",null,null,null,null,null,null,null,null,null,{"$f":"SUM(R134:U135)","v":28560},null,null,null,null,null,"Haben",null,null,null,null,null,null,null,null,null,null,null,null,null,{"$f":"SUM(AL134:AO135)","v":28560}]
[null,"Rücklieferung",null,null,null,null,null,{"$f":"X129","v":"Verblk. a. LuL"},null,null,null,null,null,null,null,null,null,{"$f":"AL129","v":28560},null,null,null,"an",null,{"$f":"H129","v":"Rohstoffe"},null,null,null,null,null,null,null,null,null,null,null,null,null,{"$f":"R129","v":24000}]
[null,"Storno",null,null,null,null,null,null,null,null,null,null,null,null,null,null,null,null,null,null,null,null,null,{"$f":"H130","v":"Vorsteuer"},null,null,null,null,null,null,null,null,null,null,null,null,null,{"$f":"R130","v":4560}]
[]
[]
[null,"Fall 3: Rücksendungen auf der Verkaufsseite"]
[]
[null,"Unser Kunde sendet uns mangelhafte Erzeugnisse zurück: 14.000 € zuzügl. 19 % USt. Die Rechnung war noch nicht bezahlt."]
[]
[]
[null,"Industrie",null,null,null,null,null,null,null,null,null,"Verkauf: Erzeugnis",null,null,null,null,null,null,null,null,null,null,null,"Händler"]
[]
[null,null,null,null,null,null,null,null,null,null,null,null,"Verkaufslistenpreis",null,14000]
[null,null,null,null,null,null,null,null,null,null,null,null,"+Umsatzsteuer 19%",null,{"$f":"O145*19%","v":2660}]
[null,null,null,null,null,null,null,null,null,null,null,null,"= Verkaufspreis",null,{"$f":"SUM(O145:R146)","v":16660}]
[]
[]
[]
[null,"Buchungssatz:",null,null,null,null,null,"Soll",null,null,null,null,null,null,null,null,null,{"$f":"SUM(R152:U153)","v":16660},null,null,null,null,null,"Haben",null,null,null,null,null,null,null,null,null,null,null,null,null,{"$f":"SUM(AL152:AO153)","v":16660}]
[null,"Verkauf",null,null,null,null,null,"Ford. aus Lieferung",null,null,null,null,null,null,null,null,null,{"$f":"O147","v":16660},null,null,null,"an",null,"Umsatzerlöse (GuV)",null,null,null,null,null,null,null,null,null,null,null,null,null,{"$f":"O145","v":14000}]
[null,"auf Ziel",null,null,null,null,null,null,null,null,null,null,null,null,null,null,null,null,null,null,null,null,null,"Umsatzsteuer",null,null,null,null,null,null,null,null,null,null,null,null,null,{"$f":"O146","v":2660}]
[]
[]
[null,"Buchungssatz:",null,null,null,null,null,"Soll",null,null,null,null,null,null,null,null,null,{"$f":"SUM(R157:U158)","v":16660},null,null,null,null,null,"Haben",null,null,null,null,null,null,null,null,null,null,null,null,null,{"$f":"SUM(AL157:AO158)","v":16660}]
[null,"Rücklieferung",null,null,null,null,null,{"$f":"X152","v":"Umsatzerlöse (GuV)"},null,null,null,null,null,null,null,null,null,{"$f":"AL152","v":14000},null,null,null,"an",null,{"$f":"H152","v":"Ford. aus Lieferung"},null,null,null,null,null,null,null,null,null,null,null,null,null,{"$f":"R152","v":16660}]
[null,"Storno",null,null,null,null,null,{"$f":"X153","v":"Umsatzsteuer"},null,null,null,null,null,null,null,null,null,{"$f":"AL153","v":2660}]
[]
[]
[]
[{"$f":"A112+1","v":70}]
[]
[null,"Fall 4: Nachlässe auf der Einkaufsseite"]
[]
[null,"Unser Hilfsstofflieferer gewährt uns wegen eines geringen Mangels 5 % Nachlass auf einen Nettowert von 8.000 € (Bonus =  NACHTRÄGLICH gewährter „Mengenrabatt“) wird genauso gebucht:\n"]
[]
[null,"Industrie",null,null,null,null,null,null,null,null,null,"Einkauf: Hilfsstoffe",null,null,null,null,null,null,null,null,null,null,null,"Urproduktion"]
[]
[]
[null,null,null,null,null,null,null,null,null,null,null,null,"Einkaufslistenpreis",null,8000]
[null,null,null,null,null,null,null,null,null,null,null,null,"+Umsatzsteuer 19%",null,{"$f":"O171*19%","v":1520},null,null,null,"(Vorsteuer)"]
[null,null,null,null,null,null,null,null,null,null,null,null,"= Kaufpreis",null,{"$f":"SUM(O171:R172)","v":9520}]
[null,"Jahresende:",null,null,null,null,null,null,null,null,null,null,"- Bonus / 5%Nachlass",null,{"$f":"O171*5%","v":400}]
[null,null,null,null,null,null,null,null,null,null,null,null,"- Umsatzsteuer 19%",null,{"$f":"O174*19%","v":76},null,null,null,"(Vorsteuer)"]
[null,null,null,null,null,null,null,null,null,null,null,null,"brutto",null,{"$f":"SUM(O174:R175)","v":476}]
[]
[]
[]
["S",null,"Hilfsstoffe",null,null,null,null,null,null,null,null,null,null,null,null,null,null,null,null,null,"H",null,null,"S",null,"Vorsteuer",null,null,null,null,null,null,null,null,null,null,null,null,null,null,null,null,null,"H"]
[]
[null,null,null,null,null,null,null,{"$f":"O171","v":8000},null,null,null,null,null,null,null,null,null,{"$f":"H189","v":400},null,null,null,null,null,null,null,null,null,null,null,null,{"$f":"O172","v":1520},null,null,null,null,null,null,null,null,null,{"$f":"O175","v":76}]
[null,null,null,null,null,null,null,null,null,null,null,"EB => SB",null,null,null,null,null,{"$f":"H182-R182","v":7600}]
[]
[null,null,null,null,null,null,null,{"$f":"SUM(H181:K184)","v":8000},null,null,null,null,null,null,null,null,null,{"$f":"SUM(R181:U184)","v":8000}]
[]
["S",null,"erhaltene Nachlässe für HiSt",null,null,null,null,null,null,null,null,null,null,null,null,null,null,null,null,null,"H",null,null,"S",null,"Verblk a. Lieferung",null,null,null,null,null,null,null,null,null,null,null,null,null,null,null,null,null,"H"]
[]
["Saldo => Hilfsstoffe",null,null,null,null,null,null,{"$f":"R189","v":400},null,null,null,null,null,null,null,null,null,{"$f":"O174","v":400},null,null,null,null,null,null,null,null,null,null,null,null,{"$f":"O176","v":476},null,null,null,null,null,null,null,null,null,{"$f":"O173","v":9520}]
[]
[null,null,null,null,null,null,null,{"$f":"SUM(H188:K190)","v":400},null,null,null,null,null,null,null,null,null,{"$f":"SUM(R188:U190)","v":400}]
[]
[null,"(Nachträglich) Erhaltene Nachlässe sind UNTER-Konten zu den jeweiligen Mutterkonten Rohstoffe usw. (Bestandskonten) und werden monatlich jeweils dorthin abgeschlossen."]
[]
[]
[null,"Fall 5: Nachlässe auf der Verkaufsseite"]
[]
[null,"Ein Kunde erhält auf einen Verkaufswert von 3.000 € netto einen Nachlass wegen einer Schlechtleistung (= Mängelrüge) bzw. Bonus von 10 %."]
[]
[]
[null,"Industrie",null,null,null,null,null,null,null,null,null,"Verkauf",null,null,null,null,null,null,null,null,null,null,null,"Kunde"]
[]
[]
[null,null,null,null,null,null,null,null,null,null,null,null,"Verkaufslistenpreis",null,3000]
[null,null,null,null,null,null,null,null,null,null,null,null,"+Umsatzsteuer 19%",null,{"$f":"O204*19%","v":570}]
[null,null,null,null,null,null,null,null,null,null,null,null,"= Verkaufspreis",null,{"$f":"SUM(O204:R205)","v":3570}]
[null,null,null,null,null,null,null,null,null,null,null,null,"- Bonus / Nachlass",null,{"$f":"O204*10%","v":300}]
[null,null,null,null,null,null,null,null,null,null,null,null,"- Umsatzsteuer 19%",null,{"$f":"O207*19%","v":57}]
[null,null,null,null,null,null,null,null,null,null,null,null,null,null,{"$f":"SUM(O207:R208)","v":357}]
[]
[]
[]
["S",null,"Umsatzsteuer",null,null,null,null,null,null,null,null,null,null,null,null,null,null,null,null,null,"H",null,null,"S",null,"Umsatzerlöse",null,null,null,null,null,null,null,null,null,null,null,null,null,null,null,null,null,"H"]
[]
[null,null,null,null,null,null,null,{"$f":"O208","v":57},null,null,null,null,null,null,null,null,null,{"$f":"O205","v":570},null,null,null,null,null,null,null,null,null,null,null,null,{"$f":"R222","v":300},null,null,null,null,null,null,null,null,null,{"$f":"O204","v":3000}]
[null,null,null,null,null,null,null,null,null,null,null,null,null,null,null,null,null,null,null,null,null,null,null,"=> Saldo GuV",null,null,null,null,null,null,{"$f":"AO215-AE215","v":2700}]
[]
[null,null,null,null,null,null,null,null,null,null,null,null,null,null,null,null,null,null,null,null,null,null,null,null,null,null,null,null,null,null,{"$f":"SUM(AE214:AH217)","v":3000},null,null,null,null,null,null,null,null,null,{"$f":"SUM(AO214:AR217)","v":3000}]
[]
["S",null,"Erlösschmälerungen",null,null,null,null,null,null,null,null,null,null,null,null,null,null,null,null,null,"H",null,null,"S",null,"Forderungen aus Lieferungen",null,null,null,null,null,null,null,null,null,null,null,null,null,null,null,null,null,"H"]
[]
[null,null,null,null,null,null,null,{"$f":"O207","v":300},null,null,null,"=> Saldo UE",null,null,null,null,null,{"$f":"H222","v":300},null,null,null,null,null,null,null,null,null,null,null,null,{"$f":"O206","v":3570},null,null,null,null,null,null,null,null,null,{"$f":"O209","v":357}]
[]
[null,null,null,null,null,null,null,{"$f":"SUM(H221:K223)","v":300},null,null,null,null,null,null,null,null,null,{"$f":"SUM(R221:U223)","v":300}]
[]
[null,"Das Konto Erlösschmälerungen oder Erlösberichtigungen (auch gewährte Nachlässe) ist Unterkonto zu den Umsatzerlösen und wird dorthin monatlich abgeschlossen."]
[]
[]
[]
[{"$f":"A162+1","v":71}]
[]
[]
[null,"Übung 14.1: "]
[null,"Gelieferter und noch nicht bezahlter Stahl erweist sich nachträglich als völlig unbrauchbar \nund wird an den Lieferanten zurückgeschickt: \n48.000 € zuzügl. 19 % USt\nWie verändert sich die Bilanz?\n"]
[]
[]
[null,"Buchungssatz:",null,null,null,null,null,"Soll",null,null,null,null,null,null,null,null,null,{"$f":"SUM(R238:U239)","v":57120},null,null,null,null,null,"Haben",null,null,null,null,null,null,null,null,null,null,null,null,null,{"$f":"SUM(AL238:AO239)","v":57120}]
[null,"Rücklieferung",null,null,null,null,null,"Verblk. a. LuL",null,null,null,null,null,null,null,null,null,{"$f":"48000*1.19","v":57120},null,null,null,"an",null,"Rohstoffe",null,null,null,null,null,null,null,null,null,null,null,null,null,{"$f":"R238/1.19","v":48000}]
[null,"Storno",null,null,null,null,null,null,null,null,null,null,null,null,null,null,null,null,null,null,null,null,null,"Vorsteuer",null,null,null,null,null,null,null,null,null,null,null,null,null,{"$f":"AL238*19%","v":9120}]
[]
[]
[null,null,null,null,null,null,null,null,null,null,null,null,null,null,null,null,null,null,null,null,null,null,null,null,null,null,null,null,null,null,null,null,null,null,null,null,null,null,null,null,null,null,null,null,null,null,null,null,null,null,null,null,null,null,null,null,null,null,null,null,null,null,null,null,null,null,null,null,null,null,null,null,null,null,null,null,null,null,null,null,null,null,null,null,null,null,null,null,null,null,null,null,null,null,null,null,{"$f":"#REF!-#REF!","v":{"$error":"#REF!"}}]
[]
[null,null,null,null,null,null,null,null,null,null,"Aktiva",null,"Schlussbilanz 31.12.",null,null,null,null,null,null,null,null,null,null,null,null,null,null,null,null,null,null,null,"Passiva"]
[null,null,null,null,null,null,null,null,null,"Anlagevermögen",null,null,null,null,null,null,null,null,null,null,null,null,"Eigenkapital",null,null,null,null,null,null,null,null,{"$f":"AG239","v":0}]
[]
["zunehmende",null,null,null,null,null,null,null,null,null,null,null,null,null,null,null,null,null,null,null,null,null,null,null,null,null,null,null,null,null,null,null,null,null,null,null,null,"abnehmende"]
["Liquidität",null,null,null,null,null,null,null,null,null,null,null,null,null,null,null,null,null,null,null,null,null,null,null,null,null,null,null,null,null,null,null,null,null,null,null,null,"Fristigkeit"]
[]
["Mittel-",null,null,null,null,null,null,null,null,null,null,null,null,null,null,null,null,null,null,null,null,null,null,null,null,null,null,null,null,null,null,null,null,null,null,null,null,"Mittel-"]
["verwendung",null,null,null,null,null,null,null,null,null,null,null,null,null,null,null,null,null,null,null,null,null,null,null,null,null,null,null,null,null,null,null,null,null,null,null,null,"herkunft"]
[null,null,null,null,null,null,null,null,null,"Umlaufvermögen",null,null,null,null,null,null,null,null,null,null,null,null,"Fremdkapital"]
[null,null,null,null,null,null,null,null,null,{"$f":"X238","v":"Rohstoffe"},null,null,null,null,null,null,null,null,{"$f":"-AL238","v":-48000},null,null,null,{"$f":"H238","v":"Verblk. a. LuL"},null,null,null,null,null,null,null,null,{"$f":"-R238","v":-57120}]
[]
[null,null,null,null,null,null,null,null,null,{"$f":"X239","v":"Vorsteuer"},null,null,null,null,null,null,null,null,{"$f":"-AL239","v":-9120}]
[]
[]
[]
[null,null,null,null,null,null,null,null,null,null,null,null,null,null,null,null,null,null,{"$f":"SUM(S253:V255)","v":-57120},null,null,null,null,null,null,null,null,null,null,null,null,{"$f":"SUM(AF253:AI258)","v":-57120}]

{"sheet":"15","index":26,"n_rows":112,"n_cols":44,"rows_kept":112,"cut":false,"hidden":false,"merged":[[1,0,1,52],[56,0,56,52],[5,1,5,42],[9,1,10,6],[9,11,9,21],[17,30,17,33],[17,34,17,39],[17,40,17,43],[11,14,11,17],[12,14,12,17],[13,14,13,17],[15,2,15,18],[18,17,18,20],[18,23,18,29],[18,30,18,33],[18,40,18,43],[15,25,15,41],[17,0,17,6],[17,7,17,10],[17,11,17,16],[17,17,17,20],[17,23,17,29],[19,23,19,29],[19,30,19,33],[19,34,19,39],[19,40,19,43],[19,0,19,6],[19,7,19,10],[19,11,19,16],[19,17,19,20],[20,23,20,29],[20,30,20,33],[20,34,20,39],[20,40,20,43],[20,0,20,6],[20,7,20,10],[20,11,20,16],[20,17,20,20],[22,2,22,18],[22,25,22,41],[24,0,24,6],[24,7,24,10],[24,11,24,16],[24,17,24,20],[24,23,24,29],[24,30,24,33],[24,34,24,39],[24,40,24,43],[25,23,25,29],[25,30,25,33],[25,34,25,39],[25,40,25,43],[25,0,25,6],[25,7,25,10],[25,11,25,16],[25,17,25,20],[26,23,26,29],[26,30,26,33],[26,34,26,39],[26,40,26,43],[26,0,26,6],[26,7,26,10],[26,11,26,16],[26,17,26,20],[31,0,31,6],[31,7,31,10],[31,11,31,16],[31,17,31,20],[28,2,28,18],[30,0,30,6],[30,7,30,10],[30,11,30,16],[30,17,30,20],[34,14,34,17],[35,14,35,17],[36,14,36,17],[38,14,38,17],[32,0,32,6],[32,7,32,10],[32,11,32,16],[32,17,32,20],[45,37,45,40],[32,39,32,42],[39,14,39,17],[40,14,40,17],[41,14,41,17],[45,17,45,20],[69,0,69,6],[69,7,69,10],[69,11,69,16],[69,17,69,20],[46,7,46,16],[46,17,46,20],[52,37,52,40],[59,1,59,42],[67,2,67,18],[67,25,67,41],[62,14,62,17],[63,14,63,17],[46,37,46,40],[50,37,50,40],[51,7,51,16],[51,17,51,20],[51,37,51,40],[47,7,47,16],[47,17,47,20],[47,37,47,40],[49,17,49,20],[49,37,49,40],[50,7,50,16],[50,17,50,20],[70,17,70,20],[70,40,70,43],[69,23,69,29],[69,30,69,33],[69,34,69,39],[69,40,69,43],[64,14,64,17],[62,18,62,20],[63,18,63,20],[64,18,64,20],[71,23,71,29],[71,30,71,33],[71,34,71,39],[71,40,71,43],[71,0,71,6],[71,7,71,10],[71,11,71,16],[71,17,71,20],[72,23,72,29],[72,30,72,33],[72,34,72,39],[72,40,72,43],[72,0,72,6],[72,7,72,10],[72,11,72,16],[72,17,72,20],[74,2,74,18],[74,25,74,41],[76,0,76,6],[76,7,76,10],[76,11,76,16],[76,17,76,20],[76,23,76,29],[76,30,76,33],[76,34,76,39],[76,40,76,43],[77,23,77,29],[77,30,77,33],[77,34,77,39],[77,40,77,43],[77,0,77,6],[77,7,77,10],[77,11,77,16],[77,17,77,20],[78,23,78,29],[78,30,78,33],[78,34,78,39],[78,40,78,43],[78,0,78,6],[78,7,78,10],[78,11,78,16],[78,17,78,20],[84,0,84,6],[84,7,84,10],[84,11,84,16],[84,17,84,20],[83,0,83,6],[83,7,83,10],[83,11,83,16],[83,17,83,20],[80,2,80,18],[82,0,82,6],[82,7,82,10],[82,11,82,16],[82,17,82,20],[101,37,101,40],[63,25,63,27],[101,7,101,16],[101,17,101,20],[99,7,99,16],[99,17,99,20],[99,37,99,40],[100,7,100,16],[100,17,100,20],[100,37,100,40],[95,7,95,16],[95,17,95,20],[95,37,95,40],[98,17,98,20],[98,37,98,40],[93,37,93,40],[94,7,94,16],[94,17,94,20],[94,37,94,40],[87,14,87,17],[88,14,88,17],[89,14,89,17],[93,17,93,20],[86,14,86,17],[110,18,110,21],[110,22,110,30],[110,31,110,34],[107,9,107,17],[107,18,107,21],[107,22,107,30],[107,31,107,34],[105,12,105,31],[106,9,106,17],[106,18,106,21],[106,22,106,30],[106,31,106,34],[6,1,6,51],[9,23,10,34],[60,1,60,51],[113,9,113,17],[113,18,113,21],[113,22,113,30],[113,31,113,34],[112,9,112,17],[112,18,112,21],[112,22,112,30],[109,9,109,17],[109,18,109,21],[109,22,109,30],[109,31,109,34],[108,9,108,17],[108,18,108,21],[108,22,108,30],[108,31,108,34],[112,31,112,34],[111,9,111,17],[111,18,111,21],[111,22,111,30],[111,31,111,34],[110,9,110,17]]}
[]
[{"$f":"'14'!A230:BA230+1","v":72}]
[]
[null,15,"Zahlungen mit Skontoabzug"]
[]
[null,"Fall 1: Liefererskonto beim Einkauf"]
[null,"Wir bezahlen eine Lieferantenrechnung (für Rohstoffe) über 2.380 € unter Abzug von 2 % Skonto per Banküberweisung:"]
[]
[]
[null,"Industrie-UN",null,null,null,null,null,null,null,null,null,"Einkauf: Rohstoffe auf Ziel",null,null,null,null,null,null,null,null,null,null,null,"Urproduktion"]
[]
[null,null,null,null,null,null,null,null,null,null,null,null,"Entgelt",null,2000]
[null,null,null,null,null,null,null,null,null,null,null,null,"+Umsatzsteuer 19%",null,{"$f":"O12*19%","v":380},null,null,null,"(Vorsteuer)"]
[null,null,null,null,null,null,null,null,null,null,null,null,"=Kaufpreis",null,{"$f":"O12*1.19","v":2380}]
[]
["S",null,"Verbindlichkeiten aus LuL",null,null,null,null,null,null,null,null,null,null,null,null,null,null,null,null,null,"H",null,null,"S",null,"Erhaltene Skonti (Rohstoffe)",null,null,null,null,null,null,null,null,null,null,null,null,null,null,null,null,null,"H"]
[]
["(2)",null,null,null,null,null,null,{"$f":"R18","v":2380},null,null,null,"(1)",null,null,null,null,null,{"$f":"O14","v":2380},null,null,null,null,null,"=> Saldo Rohstoffe",null,null,null,null,null,null,{"$f":"AO18","v":40},null,null,null,"(2)",null,null,null,null,null,{"$f":"-O36-AO25","v":40}]
[]
[]
[]
[]
["S",null,"Bank",null,null,null,null,null,null,null,null,null,null,null,null,null,null,null,null,null,"H",null,null,"S",null,"Vorsteuer",null,null,null,null,null,null,null,null,null,null,null,null,null,null,null,null,null,"H"]
[]
[null,null,null,null,null,null,null,null,null,null,null,"(2)",null,null,null,null,null,{"$f":"O37","v":2332.4},null,null,null,null,null,"(1)",null,null,null,null,null,null,{"$f":"O13","v":380},null,null,null,"(2)",null,null,null,null,null,{"$f":"-O36/1.19*19%","v":7.6}]
[]
[null,null,null,null,null,null,null,{"$f":"SUM(H24:K26)","v":0}]
[]
["S",null,"Rohstoffe",null,null,null,null,null,null,null,null,null,null,null,null,null,null,null,null,null,"H"]
[]
["(1)",null,null,null,null,null,null,{"$f":"O12","v":2000},null,null,null,"=> Saldo Skonti",null,null,null,null,null,{"$f":"AE18","v":40}]
[null,null,null,null,null,null,null,null,null,null,null,"EB",null,null,null,null,null,{"$f":"H31-R31","v":1960}]
[null,null,null,null,null,null,null,{"$f":"SUM(H30:K32)","v":2000},null,null,null,null,null,null,null,null,null,{"$f":"SUM(R31:U32)","v":2000}]
[]
[null,null,null,null,null,null,null,null,null,null,null,null,{"$f":"M14","v":"=Kaufpreis"},null,{"$f":"O14","v":2380}]
[null,null,null,null,null,null,null,null,null,null,null,null,"- Skonto 2 %",null,{"$f":"-O35*2%","v":-47.6},null,null,null,"(inkl. Vorsteuer Euro 8)"]
[null,null,null,null,null,null,null,null,null,null,null,null,"=Kaufpreis",null,{"$f":"O35*98%","v":2332.4}]
[]
[null,null,null,null,null,null,null,null,null,null,null,null,"Probe",null,{"$f":"R25","v":2332.4}]
[null,null,null,null,null,null,null,null,null,null,null,null,null,null,{"$f":"AO18","v":40}]
[null,null,null,null,null,null,null,null,null,null,null,null,null,null,{"$f":"AO25","v":7.6}]
[null,null,null,null,null,null,null,null,null,null,null,null,null,null,{"$f":"SUM(O39:R41)","v":2380},null,null,null,"(= Verbindlichkeit aus LuL)"]
[]
[]
[]
[null,"Buchungssatz:",null,null,null,null,null,"Soll",null,null,null,null,null,null,null,null,null,{"$f":"SUM(R47:U48)","v":2380},null,null,null,null,null,"Haben",null,null,null,null,null,null,null,null,null,null,null,null,null,{"$f":"SUM(AL47:AO48)","v":2380}]
[null,"Lieferung",null,null,null,null,null,"Rohstoffe",null,null,null,null,null,null,null,null,null,{"$f":"H31","v":2000},null,null,null,"an",null,"Verblk. aus Lieferungen",null,null,null,null,null,null,null,null,null,null,null,null,null,{"$f":"R18","v":2380}]
[null,"auf Ziel",null,null,null,null,null,"Vorsteuer",null,null,null,null,null,null,null,null,null,{"$f":"AE25","v":380}]
[]
[null,"Buchungssatz:",null,null,null,null,null,"Soll",null,null,null,null,null,null,null,null,null,{"$f":"SUM(R51:U52)","v":2380},null,null,null,null,null,"Haben",null,null,null,null,null,null,null,null,null,null,null,null,null,{"$f":"SUM(AL51:AO53)","v":2380}]
[null,"Skonto",null,null,null,null,null,{"$f":"X47","v":"Verblk. aus Lieferungen"},null,null,null,null,null,null,null,null,null,{"$f":"H18","v":2380},null,null,null,"an",null,{"$f":"Z16","v":"Erhaltene Skonti (Rohstoffe)"},null,null,null,null,null,null,null,null,null,null,null,null,null,{"$f":"AO18","v":40}]
[null,"Bezahlung",null,null,null,null,null,null,null,null,null,null,null,null,null,null,null,null,null,null,null,null,null,{"$f":"H48","v":"Vorsteuer"},null,null,null,null,null,null,null,null,null,null,null,null,null,{"$f":"AO25","v":7.6}]
[null,null,null,null,null,null,null,null,null,null,null,null,null,null,null,null,null,null,null,null,null,null,null,{"$f":"C23","v":"Bank"},null,null,null,null,null,null,null,null,null,null,null,null,null,{"$f":"R25","v":2332.4}]
[]
[]
[]
[{"$f":"A2+1","v":73}]
[]
[]
[null,"Fall 2: Kundenskonto beim Verkauf"]
[null,"Zum Ausgleich unserer Ausgangsrechnung über XxXxXxX  € (Betrag wurde wegen eines verschütteten Kaffees unleserlich) überweist unser Kunde nach Abzug von 2 % Skonto  46.648 €."]
[]
[null,null,null,null,null,null,null,null,null,null,null,null,"Überweisung",null,46648,null,null,null,0.98]
[null,null,null,null,null,null,null,null,null,null,null,null,"+ Skonto 2 %",null,{"$f":"O63/S63*S64","v":952},null,null,null,0.02,null,null,"(inkl. Ust:",null,null,null,{"$f":"O64/119*19","v":152},null,null,")"]
[null,null,null,null,null,null,null,null,null,null,null,null,"=Verkaufspreis",null,{"$f":"SUM(O63:R64)","v":47600},null,null,null,1]
[]
[]
["S",null,"Forderungen aus LuL",null,null,null,null,null,null,null,null,null,null,null,null,null,null,null,null,null,"H",null,null,"S",null,"Gewährte Skonti",null,null,null,null,null,null,null,null,null,null,null,null,null,null,null,null,null,"H"]
[]
["(1)",null,null,null,null,null,null,{"$f":"O65","v":47600},null,null,null,null,null,null,null,null,null,{"$f":"H70","v":47600},null,null,null,null,null,"(2)",null,null,null,null,null,null,{"$f":"O64-Z64","v":800},null,null,null,"Saldo => UE",null,null,null,null,null,{"$f":"AE70","v":800}]
[]
[]
[null,null,null,null,null,null,null,{"$f":"SUM(H69:K72)","v":47600},null,null,null,null,null,null,null,null,null,{"$f":"SUM(R69:U72)","v":47600},null,null,null,null,null,null,null,null,null,null,null,null,{"$f":"SUM(AE69:AH72)","v":800},null,null,null,null,null,null,null,null,null,{"$f":"SUM(AO69:AR72)","v":800}]
[]
["S",null,"Bank",null,null,null,null,null,null,null,null,null,null,null,null,null,null,null,null,null,"H",null,null,"S",null,"Umsatzsteuer",null,null,null,null,null,null,null,null,null,null,null,null,null,null,null,null,null,"H"]
[]
["(2)",null,null,null,null,null,null,46648,null,null,null,null,null,null,null,null,null,null,null,null,null,null,null,"(2)",null,null,null,null,null,null,{"$f":"Z64","v":152},null,null,null,"(1)",null,null,null,null,null,{"$f":"H70/119*19","v":7600}]
[]
[]
[]
["S",null,"Umsatzerlöse",null,null,null,null,null,null,null,null,null,null,null,null,null,null,null,null,null,"H"]
[]
[{"$f":"AI70","v":"Saldo => UE"},null,null,null,null,null,null,{"$f":"AO70","v":800},null,null,null,"(1)",null,null,null,null,null,{"$f":"H70/119*100","v":40000},null,null,null,"(=Ertrag)"]
["Saldo => GuV",null,null,null,null,null,null,{"$f":"R83-H83","v":39200}]
[null,null,null,null,null,null,null,{"$f":"SUM(H83:K84)","v":40000},null,null,null,null,null,null,null,null,null,{"$f":"SUM(R82:U84)","v":40000}]
[]
[null,null,null,null,null,null,null,null,null,null,null,null,"Probe",null,{"$f":"H77","v":46648}]
[null,null,null,null,null,null,null,null,null,null,null,null,null,null,{"$f":"AE70","v":800}]
[null,null,null,null,null,null,null,null,null,null,null,null,null,null,{"$f":"AE77","v":152}]
[null,null,null,null,null,null,null,null,null,null,null,null,null,null,{"$f":"SUM(O87:R89)","v":47600},null,null,null,"(= Forderungen aus LuL)"]
[]
[]
[]
[null,"Buchungssatz:",null,null,null,null,null,"Soll",null,null,null,null,null,null,null,null,null,{"$f":"SUM(R95:U96)","v":47600},null,null,null,null,null,"Haben",null,null,null,null,null,null,null,null,null,null,null,null,null,{"$f":"SUM(AL95:AO96)","v":47600}]
[null,"Verkauf",null,null,null,null,null,{"$f":"C68","v":"Forderungen aus LuL"},null,null,null,null,null,null,null,null,null,{"$f":"H70","v":47600},null,null,null,"an",null,{"$f":"Z75","v":"Umsatzsteuer"},null,null,null,null,null,null,null,null,null,null,null,null,null,{"$f":"AO77","v":7600}]
[null,"auf Ziel",null,null,null,null,null,null,null,null,null,null,null,null,null,null,null,null,null,null,null,null,null,{"$f":"C81","v":"Umsatzerlöse"},null,null,null,null,null,null,null,null,null,null,null,null,null,{"$f":"R83","v":40000}]
[]
[]
[null,"Buchungssatz:",null,null,null,null,null,"Soll",null,null,null,null,null,null,null,null,null,{"$f":"SUM(R100:U102)","v":47600},null,null,null,null,null,"Haben",null,null,null,null,null,null,null,null,null,null,null,null,null,{"$f":"SUM(AL100:AO102)","v":47600}]
[null,"Skonto",null,null,null,null,null,{"$f":"C75","v":"Bank"},null,null,null,null,null,null,null,null,null,{"$f":"H77","v":46648},null,null,null,"an",null,{"$f":"H95","v":"Forderungen aus LuL"},null,null,null,null,null,null,null,null,null,null,null,null,null,{"$f":"R95","v":47600}]
[null,"Bezahlung",null,null,null,null,null,{"$f":"Z75","v":"Umsatzsteuer"},null,null,null,null,null,null,null,null,null,{"$f":"AE77","v":152}]
[null,null,null,null,null,null,null,{"$f":"Z68","v":"Gewährte Skonti"},null,null,null,null,null,null,null,null,null,{"$f":"AE70","v":800}]
[]
[]
[]
[null,null,null,null,null,null,null,null,null,"Aufwendungen",null,null,"Gewinn- und Verlustrechnung",null,null,null,null,null,null,null,null,null,null,null,null,null,null,null,null,null,null,null,"Ertrag"]
[]
[null,null,null,null,null,null,null,null,null,"……….",null,null,null,null,null,null,null,null,"………",null,null,null,"Umsatzerlöse",null,null,null,null,null,null,null,null,{"$f":"AL96","v":40000}]
[null,null,null,null,null,null,null,null,null,null,null,null,null,null,null,null,null,null,null,null,null,null,{"$f":"H102","v":"Gewährte Skonti"},null,null,null,null,null,null,null,null,{"$f":"-R102","v":-800}]
[null,null,null,null,null,null,null,null,null,null,null,null,null,null,null,null,null,null,null,null,null,null,null,null,null,null,null,null,null,null,null,{"$f":"AF108+AF109","v":39200}]
[]
[null,null,null,null,null,null,null,null,null,null,null,null,null,null,null,null,null,null,null,null,null,null,"………….",null,null,null,null,null,null,null,null,"…….."]

{"sheet":"16","index":27,"n_rows":445,"n_cols":44,"rows_kept":445,"cut":false,"hidden":false,"merged":[[275,0,275,52],[276,37,276,40],[333,2,333,37],[289,17,289,20],[289,37,289,40],[282,14,282,17],[297,25,297,41],[288,7,288,16],[288,17,288,20],[288,37,288,40],[279,14,279,17],[280,14,280,17],[278,14,278,17],[283,14,283,17],[333,38,333,46],[284,14,284,17],[287,17,287,20],[287,37,287,40],[292,17,292,20],[289,7,289,16],[292,37,292,40],[300,17,300,20],[300,23,300,29],[300,30,300,33],[225,30,225,33],[229,25,229,41],[230,40,230,43],[231,23,231,29],[232,23,232,29],[225,23,225,29],[225,17,225,20],[224,40,224,43],[224,30,224,33],[225,40,225,43],[255,1,255,37],[243,37,243,40],[247,38,247,46],[247,1,247,37],[231,30,231,33],[253,1,253,37],[238,17,238,20],[238,37,238,40],[244,1,244,51],[242,0,242,52],[239,37,239,40],[233,23,233,29],[233,34,233,39],[233,40,233,43],[240,7,240,16],[233,30,233,33],[240,17,240,20],[239,7,239,16],[239,17,239,20],[240,37,240,40],[231,34,231,39],[227,0,227,6],[227,7,227,10],[227,11,227,16],[227,17,227,20],[227,34,227,39],[227,40,227,43],[232,30,232,33],[226,0,226,6],[226,7,226,10],[226,11,226,16],[226,17,226,20],[226,23,226,29],[227,30,227,33],[227,23,227,29],[226,40,226,43],[231,40,231,43],[232,34,232,39],[232,40,232,43],[226,30,226,33],[226,34,226,39],[200,1,200,51],[221,1,221,42],[222,2,222,18],[222,25,222,41],[224,0,224,6],[224,7,224,10],[224,11,224,16],[223,40,223,43],[223,30,223,33],[223,7,223,10],[224,17,224,20],[224,23,224,29],[224,34,224,39],[117,1,117,42],[119,1,119,42],[128,1,128,42],[129,1,129,42],[130,2,130,19],[130,29,130,37],[130,38,130,46],[118,7,118,16],[118,17,118,20],[126,0,126,52],[120,7,120,16],[132,29,132,37],[133,2,133,46],[146,2,146,37],[105,32,105,34],[103,24,103,26],[120,17,120,20],[103,8,103,10],[113,17,113,20],[103,12,103,14],[103,16,103,18],[111,17,111,20],[105,16,105,18],[105,20,105,22],[105,28,105,30],[115,17,115,20],[116,7,116,16],[116,17,116,20],[136,29,136,37],[136,38,136,46],[145,1,145,42],[137,29,137,37],[141,38,141,46],[139,2,139,49],[110,17,110,20],[115,37,115,40],[110,7,110,16],[103,32,103,34],[103,20,103,22],[105,24,105,26],[112,7,112,16],[112,17,112,20],[111,37,111,40],[114,37,114,41],[114,7,114,16],[114,17,114,20],[114,23,114,32],[109,17,109,20],[109,37,109,40],[110,23,110,32],[110,37,110,40],[105,4,105,6],[105,8,105,10],[105,12,105,14],[113,37,113,41],[99,28,99,31],[99,32,99,35],[102,32,102,35],[102,8,102,11],[102,12,102,15],[102,16,102,19],[102,20,102,23],[102,24,102,27],[102,28,102,31],[99,8,99,11],[99,12,99,15],[99,16,99,19],[99,20,99,23],[99,24,99,27],[102,4,102,7],[99,4,99,7],[94,17,94,20],[95,7,95,16],[95,17,95,20],[94,7,94,16],[91,23,91,32],[90,17,90,20],[93,7,93,16],[82,38,82,46],[92,7,92,16],[92,17,92,20],[92,37,92,40],[90,37,90,40],[82,29,82,37],[83,29,83,37],[84,29,84,37],[86,1,86,42],[93,17,93,20],[88,0,88,52],[91,7,91,16],[91,17,91,20],[91,37,91,40],[83,38,83,46],[84,38,84,46],[77,2,77,19],[77,29,77,37],[80,1,80,42],[81,29,81,37],[81,38,81,46],[73,38,73,46],[75,38,75,46],[77,38,77,46],[74,29,74,37],[75,29,75,37],[70,29,70,37],[71,29,71,37],[72,29,72,37],[73,29,73,37],[61,14,61,17],[63,1,63,42],[67,2,67,19],[67,29,67,37],[67,38,67,46],[66,29,66,37],[66,38,66,46],[70,38,70,46],[71,38,71,46],[72,38,72,46],[58,37,58,40],[51,17,51,20],[48,14,48,17],[52,7,52,16],[52,17,52,20],[51,7,51,16],[56,37,56,40],[69,2,69,19],[69,29,69,37],[52,37,52,40],[47,14,47,17],[55,17,55,20],[55,37,55,40],[50,17,50,20],[50,37,50,40],[57,37,57,40],[56,7,56,16],[56,17,56,20],[57,7,57,16],[57,17,57,20],[300,40,300,43],[299,0,299,6],[299,7,299,10],[299,11,299,16],[299,17,299,20],[299,40,299,43],[293,7,293,16],[293,17,293,20],[297,2,297,18],[299,23,299,29],[299,30,299,33],[299,34,299,39],[293,37,293,40],[294,7,294,16],[294,17,294,20],[294,37,294,40],[301,23,301,29],[301,30,301,33],[301,34,301,39],[301,40,301,43],[301,0,301,6],[301,7,301,10],[301,11,301,16],[301,17,301,20],[302,23,302,29],[302,30,302,33],[302,34,302,39],[302,40,302,43],[302,0,302,6],[302,7,302,10],[302,11,302,16],[302,17,302,20],[312,14,312,17],[313,14,313,17],[316,17,316,20],[316,37,316,40],[307,14,307,17],[308,14,308,17],[309,14,309,17],[311,14,311,17],[317,7,317,16],[317,17,317,20],[317,37,317,40],[318,7,318,16],[318,17,318,20],[318,37,318,40],[323,7,323,16],[323,17,323,20],[323,37,323,40],[326,2,326,18],[326,25,326,41],[321,17,321,20],[321,37,321,40],[322,7,322,16],[322,17,322,20],[322,37,322,40],[328,23,328,29],[328,30,328,33],[328,34,328,39],[328,40,328,43],[328,0,328,6],[328,7,328,10],[328,11,328,16],[328,17,328,20],[330,40,330,43],[330,0,330,6],[330,7,330,10],[330,11,330,16],[330,17,330,20],[329,17,329,20],[329,23,329,29],[329,30,329,33],[329,40,329,43],[331,7,331,10],[331,11,331,16],[331,17,331,20],[330,23,330,29],[330,30,330,33],[330,34,330,39],[350,37,350,40],[335,2,335,37],[335,38,335,46],[340,2,340,46],[342,2,342,46],[331,23,331,29],[331,30,331,33],[331,34,331,39],[331,40,331,43],[331,0,331,6],[338,0,338,52],[339,37,339,40],[351,7,351,16],[351,17,351,20],[351,37,351,40],[344,14,344,17],[345,14,345,17],[346,14,346,17],[349,17,349,20],[349,37,349,40],[350,7,350,16],[350,17,350,20],[365,17,365,20],[354,1,354,46],[356,1,356,46],[358,2,358,46],[361,14,361,17],[367,7,367,16],[367,17,367,20],[367,37,367,40],[363,14,363,17],[400,38,400,41],[399,38,399,41],[398,38,398,41],[397,26,397,41],[370,1,370,46],[365,37,365,40],[366,7,366,16],[366,17,366,20],[366,37,366,40],[371,14,371,17],[372,14,372,17],[373,14,373,17],[389,14,389,17],[375,17,375,20],[385,14,385,17],[386,14,386,17],[387,14,387,17],[376,7,376,16],[376,17,376,20],[376,37,376,40],[377,7,377,16],[377,17,377,20],[377,37,377,40],[380,0,380,52],[402,4,402,12],[402,14,402,17],[403,14,403,17],[404,14,404,17],[411,17,411,20],[398,14,398,17],[399,14,399,17],[400,14,400,17],[397,14,397,17],[397,4,397,12],[420,37,420,40],[416,7,416,16],[416,17,416,20],[416,37,416,40],[405,14,405,17],[407,18,407,21],[408,18,408,21],[409,18,409,21],[413,7,413,16],[408,32,408,34],[408,38,408,40],[407,24,407,28],[407,32,407,35],[421,7,421,16],[421,17,421,20],[421,37,421,40],[429,25,429,41],[411,37,411,40],[412,37,412,40],[423,17,423,20],[423,37,423,40],[424,7,424,16],[424,17,424,20],[424,37,424,40],[417,7,417,16],[417,17,417,20],[417,37,417,40],[413,17,413,20],[413,37,413,40],[415,17,415,20],[415,37,415,40],[412,17,412,20],[412,23,412,32],[419,17,419,20],[419,37,419,40],[420,7,420,16],[420,17,420,20],[432,30,432,33],[432,40,432,43],[431,40,431,43],[433,11,433,16],[433,17,433,20],[433,23,433,29],[425,7,425,16],[425,17,425,20],[425,37,425,40],[429,2,429,18],[426,37,426,40],[431,23,431,29],[431,30,431,33],[431,34,431,39],[432,23,432,29],[434,40,434,43],[440,38,440,41],[434,0,434,6],[434,7,434,10],[434,11,434,16],[434,17,434,20],[433,40,433,43],[433,0,433,6],[438,38,438,41],[439,14,439,17],[439,38,439,41],[434,23,434,29],[434,30,434,33],[434,34,434,39],[433,30,433,33],[433,34,433,39],[443,14,443,17],[444,14,444,17],[436,0,436,20],[441,14,441,17],[442,14,442,17],[440,14,440,17],[438,14,438,17],[433,7,433,10],[431,0,431,6],[431,7,431,10],[431,11,431,16],[431,17,431,20],[432,17,432,20],[1,0,1,52],[5,1,5,51],[9,1,9,51],[11,1,11,51],[13,1,13,51],[20,1,20,51],[16,0,16,52],[22,1,22,51],[24,1,24,51],[26,1,26,51],[29,1,29,51],[40,0,40,52],[44,23,45,34],[34,29,34,37],[28,1,28,42],[30,2,30,19],[32,2,32,19],[196,0,196,52],[162,1,162,51],[160,0,160,52],[176,1,176,51],[178,1,178,51],[186,1,186,51],[44,1,45,6],[51,37,51,40],[30,29,30,37],[32,29,32,37],[64,1,64,51],[44,11,44,21],[46,14,46,17],[35,29,35,37],[37,2,37,19],[37,29,37,37],[188,1,188,51],[135,2,135,47],[148,2,148,37],[214,1,214,51],[189,1,189,51],[191,1,191,51],[193,1,193,51],[198,1,198,51],[202,1,202,51],[204,0,204,52],[210,1,210,51],[211,1,211,51],[212,1,212,51],[170,0,170,52],[141,2,141,37],[146,38,146,46],[174,1,174,51],[164,1,164,51],[148,38,148,46],[182,0,182,52],[206,1,206,51],[155,1,155,51],[157,1,157,51],[166,1,166,42],[395,1,395,51],[382,1,382,51],[383,1,383,51],[390,14,390,17],[391,14,391,17],[375,37,375,40],[270,1,270,51],[208,1,208,42],[215,1,215,51],[217,1,217,51],[218,1,218,51],[271,1,271,51],[273,1,273,51],[259,1,259,51],[261,1,261,51],[266,1,266,51],[268,1,268,51],[264,0,264,52],[269,37,269,40],[220,1,220,51],[235,18,235,51],[381,37,381,40],[362,14,362,17],[359,17,359,19]]}
[]
[{"$f":"'15'!A57:BA57+1","v":74}]
[]
[null,16,"Buchungen im Sachanlagebereich"]
[]
[null,"In diesem Abschnitt befassen wir uns mit den Buchungen der Investition. Investitions- oder Anlagebuchungen sind solche, die Gegenstände betreffen, die dem Anlagevermögen\nzuzurechnen sind. Anlagevermögen ist alles, was langfristig dem Unternehmen zu dienen bestimmt ist (§ 247 Abs. 2 HGB). Wie schon bei der Kategorisierung der Materialarten kommt es also auch hier wieder auf den Willen des Buchführungspflichtigen an, wie ein bestimmtes\nObjekt zu behandeln ist: soll ein Fahrzeug beispielsweise verkauft werden, so handelt es sich um eine Ware, d. h., es ist beabsichtigt, es nur kurze Zeit im Unternehmen zu halten - selbst wenn dies aus praktischen Gründen nicht durchführbar sein sollte, weil der Gegenstand etwa ein „Ladenhüter“ wird. Wird hingegen ein Fahrzeug aus dem Warenbestand entnommen, um dem Autohändler als Dienstfahrzeug zu dienen, so liegt eine langfristige Nutzungsabsicht vor und der Gegenstand ist dem Anlagevermögen zuzurechnen - selbst dann, wenn das Gerät schon nach kurzer Zeit durch Unfall zerstört wird. Als Grenze zwischen Lang- und Kurzfristigkeit wird hierbei traditionell ein Jahr angenommen.\n"]
[]
[null,"16.1","Buchungen neuer Anlagen (Anschaffung/Kauf)"]
[]
[null,"Die Buchung der Investition in neue Anlagen ist relativ unproblematisch:\n\nMaschinen (Bestandskonto) ............................. 10.000\nVorsteuer ........................................................... 1.900\n             AN Verbindlichkeiten aus LuL oder Bank.......................... 11.900\n\nAllerdings ist i.d.R. für jede Anlage ein eigenes Konto zu errichten, um später die Abschreibung für jede Anlage einzeln erfassen zu können.\n"]
[]
[null,"Zu den „Maschinen“ gehören dabei alle Anlagen, die direkt der Produktion, also der  Erstellung der betrieblichen Hauptleistung dienen; zur „Betriebs- und Geschäftsausstattung“\nhingegen zählen alle Anlagen, die anderen, nicht direkt produktionsbezogenen Zwecken zugeordnet werden. Die buchhalterische Zuordnung schon eines einfachen Computers hängt also u. U. schon davon ab, welche Software darauf laufen soll bzw. zu welchem Zweck er angeschafft wird.\n"]
[]
[null,"Das HGB definiert die sogenannten „Anschaffungskosten“ als „Alle Aufwendungen, die geleistet werden, um einen Vermögensgegenstand zu erwerben und ihn in einen betriebsbereiten Zustand zu versetzen, soweit sie dem Vermögensgegenstand einzeln zugeordnet werden können“ (§ 255 Abs. 1 HGB). Diese Definition meint eigentlich\ndie Anschaffungsausgaben (denn Kosten sind betriebswirtschaftlich ganz anders definiert).\n"]
[]
[]
[{"$f":"A2+1","v":75}]
[]
[null,"Begriff: Anschaffungskosten"]
[]
[null,"§ 255 [1] HGB Anschaffungs- und Herstellungskosten\n  (1) 1 Anschaffungskosten sind die Aufwendungen, die geleistet werden, um einen Vermögensgegenstand zu erwerben und ihn in einen betriebsbereiten Zustand zu versetzen, soweit sie dem Vermögensgegenstand einzeln zugeordnet werden können. 2 Zu den Anschaffungskosten gehören auch die Nebenkosten sowie die nachträglichen Anschaffungskosten. 3 Anschaffungspreis-minderungen sind abzusetzen. \n"]
[]
[null,"Zunächst bedeutet die zitierte Rechtsvorschrift die folgende Rechnung, um zum Anschaffungskostenwert zu gelangen:"]
[]
[null,"Anschaffungspreis: Netto-Kaufpreis gemäß der oben dargestellten Buchung.\n+ Nebenkosten: Bezugskosten wie z.B. Speditions- und Frachtkosten, Zölle, Fundamentierung, Notar, Montage, Zulassung, Makler usw.\n+ Nachträgliche Anschaffungskosten: Erschließung (bei Grundstücken), Beschaffung von notwendigem Zubehör, Umbauten usw.\n./. Anschaffungskostenminderungen: Rabatte, Skonti, Boni, Gutschriften, Nachlässe wegen Mängelrügen usw.\n"]
[]
[null,"Die jeweiligen weiteren Positionen müssen dabei dem jeweiligen Objekt exakt zurechenbar sein, d. h., nur einzeln zuzuordnende Werte können als Anschaffungskostenmehrungen\noder -minderungen behandelt werden. Die Buchung für die Bezugskosten, d. h., die Speditionsrechnung des Spediteurs für die Anlieferung einer Maschine wäre also\n\nMaschinen (Bestandskonto) ...................................... 500\nVorsteuer .................................................................... 95\n                 AN Verbindlichkeiten aus LuL oder Bank................................. 595\n\nwenn die Rechnung einer einzelnen Anlage genau zuzurechnen wäre. Hat der Spediteur aber bei der gleichen Fahrt mehrere Anlagen geliefert, so käme höchstens noch eine Aufteilung oder eine Behandlung als „normale“ Betriebskosten in Frage.\n"]
[]
[null,"Fall 1: "]
[null,"Kauf einer Maschine für 40.000 €; die Transport- und Montagekosten betragen\n3.000 €; Banküberweisung mit Abzug von 2 % Skonto vom reinen Listenpreis der Maschine.\n"]
[null,null,"Anschaffungspreis lt. Liste",null,null,null,null,null,null,null,null,null,null,null,null,null,null,null,null,null,null,null,null,null,null,null,null,null,null,40000]
[]
[null,"+","Anschaffungsneben“kosten“",null,null,null,null,null,null,null,null,null,null,null,null,null,null,null,null,null,null,null,null,null,null,null,null,null,null,3000]
[]
[null,"-","Anschaffungs“kosten“minderungen"]
[null,null,"  2 % Skonto aus 40.000 €",null,null,null,null,null,null,null,null,null,null,null,null,null,null,null,null,null,null,null,null,null,null,null,null,null,null,{"$f":"-AD31*2%","v":-800}]
[]
[null,"=","Anschaffungskosten",null,null,null,null,null,null,null,null,null,null,null,null,null,null,null,null,null,null,null,null,null,null,null,null,null,null,{"$f":"SUM(AD31:AL37)","v":42200}]
[]
[]
[{"$f":"A17+1","v":76}]
[]
[]
[]
[null,"Industrie-UN",null,null,null,null,null,null,null,null,null,"Einkauf: Maschine",null,null,null,null,null,null,null,null,null,null,null,"Lieferant"]
[]
[null,null,null,null,null,null,null,null,null,null,null,null,"Entgelt",null,43000]
[null,null,null,null,null,null,null,null,null,null,null,null,"+Umsatzsteuer 19%",null,{"$f":"O47*19%","v":8170},null,null,null,"(Vorsteuer)"]
[null,null,null,null,null,null,null,null,null,null,null,null,"=Kaufpreis",null,{"$f":"O47*1.19","v":51170}]
[]
[null,"Buchungssatz:",null,null,null,null,null,"Soll",null,null,null,null,null,null,null,null,null,{"$f":"SUM(R52:U53)","v":51170},null,null,null,null,null,"Haben",null,null,null,null,null,null,null,null,null,null,null,null,null,{"$f":"SUM(AL52:AO53)","v":51170}]
[null,"Lieferung",null,null,null,null,null,"Maschine",null,null,null,null,null,null,null,null,null,{"$f":"AD31+AD33","v":43000},null,null,null,"an",null,"Verblk. aus Lieferung",null,null,null,null,null,null,null,null,null,null,null,null,null,{"$f":"R52+R53","v":51170}]
[null,"Maschine",null,null,null,null,null,"Vorsteuer",null,null,null,null,null,null,null,null,null,{"$f":"R52*0.19","v":8170}]
[]
[]
[null,"Buchungssatz:",null,null,null,null,null,"Soll",null,null,null,null,null,null,null,null,null,{"$f":"SUM(R57:U58)","v":51170},null,null,null,null,null,"Haben",null,null,null,null,null,null,null,null,null,null,null,null,null,{"$f":"SUM(AL57:AO59)","v":51170}]
[null,"Skonto",null,null,null,null,null,{"$f":"X52","v":"Verblk. aus Lieferung"},null,null,null,null,null,null,null,null,null,{"$f":"AL52","v":51170},null,null,null,"an",null,"Bank",null,null,null,null,null,null,null,null,null,null,null,null,null,{"$f":"51170-952","v":50218}]
[null,"Bezahlung",null,null,null,null,null,null,null,null,null,null,null,null,null,null,null,null,null,null,null,null,null,{"$f":"H53","v":"Vorsteuer"},null,null,null,null,null,null,null,null,null,null,null,null,null,{"$f":"AL59*0.19","v":152}]
[null,null,null,null,null,null,null,null,null,null,null,null,null,null,null,null,null,null,null,null,null,null,null,"Maschinen (Skonto)",null,null,null,null,null,null,null,null,null,null,null,null,null,{"$f":"-AD36","v":800}]
[null,null,null,null,null,null,null,null,null,null,null,null,null,null,null,null,null,null,null,null,null,null,null,{"$f":"C35","v":"Anschaffungs“kosten“minderungen"}]
[]
[]
[]
[null,"Fall 2: "]
[null,"Kauf eines Pkw mit 6jähriger Nutzungsdauer am 01.10.08 für 50.000 €. Außerdem fallen an (alle Angaben netto ohne USt):"]
[]
[null,null,null,null,null,null,null,null,null,null,null,null,null,null,null,null,null,null,null,null,null,null,null,null,null,null,null,null,null,"netto",null,null,null,null,null,null,null,null,"Umsatzsteuer"]
[null,null,"Anschaffungspreis lt. Liste",null,null,null,null,null,null,null,null,null,null,null,null,null,null,null,null,null,null,null,null,null,null,null,null,null,null,50000,null,null,null,null,null,null,null,null,{"$f":"AD68*0.19","v":9500}]
[]
[null,"+","Anschaffungsneben“kosten“"]
[null,null,"• Überführungskosten",null,null,null,null,null,null,null,null,null,null,null,null,null,null,null,null,null,null,null,null,null,null,null,null,null,null,500,null,null,null,null,null,null,null,null,{"$f":"AD71*0.19","v":95}]
[null,null,"• Werbeaufschrift",null,null,null,null,null,null,null,null,null,null,null,null,null,null,null,null,null,null,null,null,null,null,null,null,null,null,750,null,null,null,null,null,null,null,null,{"$f":"AD72*0.19","v":142.5}]
[null,null,"• Nummernschilder",null,null,null,null,null,null,null,null,null,null,null,null,null,null,null,null,null,null,null,null,null,null,null,null,null,null,60,null,null,null,null,null,null,null,null,{"$f":"AD73*0.19","v":11.4}]
[null,null,"• Zulassungsgebühr mit Wunschkennzeichen",null,null,null,null,null,null,null,null,null,null,null,null,null,null,null,null,null,null,null,null,null,null,null,null,null,null,105,null,null,null,null,null,null,null,null,"-"]
[null,"-","Anschaffungs“kosten“minderungen"]
[null,null,null,null,null,null,null,null,null,null,null,null,null,null,null,null,null,null,null,null,null,null,null,null,null,null,null,null,null,0,null,null,null,null,null,null,null,null,"-"]
[]
[null,"=","Anschaffungskosten",null,null,null,null,null,null,null,null,null,null,null,null,null,null,null,null,null,null,null,null,null,null,null,null,null,null,{"$f":"SUM(AD68:AL77)","v":51415},null,null,null,null,null,null,null,null,{"$f":"SUM(AM68:AU77)","v":9748.9}]
[]
[]
[null,"Sofortaufwand:"]
[null,null,"• Kfz-Steuer (keine Umsatzsteuer)",null,null,null,null,null,null,null,null,null,null,null,null,null,null,null,null,null,null,null,null,null,null,null,null,null,null,400,null,null,null,null,null,null,null,null,"-"]
[null,null,"• Kfz-Versicherung (keine Umsatzsteuer)",null,null,null,null,null,null,null,null,null,null,null,null,null,null,null,null,null,null,null,null,null,null,null,null,null,null,600,null,null,null,null,null,null,null,null,"-"]
[null,null,"• Tankfüllung  (zzgl. Umsatzsteuer)",null,null,null,null,null,null,null,null,null,null,null,null,null,null,null,null,null,null,null,null,null,null,null,null,null,null,70,null,null,null,null,null,null,null,null,{"$f":"AD84*0.19","v":13.3}]
[null,null,null,null,null,null,null,null,null,null,null,null,null,null,null,null,null,null,null,null,null,null,null,null,null,null,null,null,null,{"$f":"SUM(AD82:AL84)","v":1070},null,null,null,null,null,null,null,null,{"$f":"SUM(AM82:AU84)","v":13.3}]
[]
[null,"Zu den AK gehören Kaufpreis abzüglich Minderung (Rabatt), Skonti\n+ Überführungskosten (Frachtkosten, Rollgelder, Transportversicherungskosten), Einfuhrzoll, \n+ Anschaffungsnebenkosten, Kosten für Zubehörteile insoweit, als sie gleichzeitig mit dem Kfz \n   angeschafft werden z. B. Nebellampen, Auto-Uhren, Schonbezüge, zusätzliche Scheinwerfer, \n   besondere Anzeigegeräte und auch das Autoradio, sofern es eingebaut ist. \n\nGebühren, Steuern und sonstige Aufwendungen, die geleistet werden, um die wirtschaftliche Verfügungsmacht zu erlangen, und Finanzierungskosten gehören nicht zu den AK des Kfz, sondern zu den sofort abziehbaren Aufwendungen.\n"]
[]
[{"$f":"A41+1","v":77}]
[]
[null,"Buchungssatz:",null,null,null,null,null,"Soll",null,null,null,null,null,null,null,null,null,{"$f":"SUM(R92:U96)","v":62247.199999999997},null,null,null,null,null,"Haben",null,null,null,null,null,null,null,null,null,null,null,null,null,{"$f":"SUM(AL92:AO93)","v":62247.200000000004}]
[null,"Anschaffung /",null,null,null,null,null,"PKW",null,null,null,null,null,null,null,null,null,{"$f":"AD78","v":51415},null,null,null,"an",null,"Bank",null,null,null,null,null,null,null,null,null,null,null,null,null,{"$f":"AD85+AM85+AD78+AM78","v":62247.200000000004}]
[null,"Sofortaufwand",null,null,null,null,null,"Kfz-Steuer (Aufwand)",null,null,null,null,null,null,null,null,null,{"$f":"AD82","v":400}]
[null,null,null,null,null,null,null,"Kfz-Versicherung",null,null,null,null,null,null,null,null,null,{"$f":"AD83","v":600}]
[null,null,null,null,null,null,null,"Treibstoffkosten",null,null,null,null,null,null,null,null,null,{"$f":"AD84","v":70}]
[null,null,null,null,null,null,null,"Vorsteuer",null,null,null,null,null,null,null,null,null,{"$f":"AM85+AM78","v":9762.1999999999989}]
[]
[null,"AK"]
[null,{"$f":"R92","v":51415},null,null,"Restbuchwert"]
[null,null,null,null,{"$f":"B99-E103","v":49272.708333333336},null,null,null,{"$f":"E100-I103","v":40703.541666666672},null,null,null,{"$f":"I100-M103","v":32134.375000000007},null,null,null,{"$f":"M100-Q103","v":23565.208333333343},null,null,null,{"$f":"Q100-U103","v":14996.041666666677},null,null,null,{"$f":"U100-Y103","v":6426.8750000000109},null,null,null,{"$f":"Y100-AC103","v":1.0913936421275139E-11},null,null,null,{"$f":"AD99-AG103","v":0}]
[]
[null,null,null,null,"Abschreibung"]
[null,null,null,null,{"$f":"B99/6/12*3","v":2142.2916666666665},null,null,null,{"$f":"$B$99/6","v":8569.1666666666661},null,null,null,{"$f":"$B$99/6","v":8569.1666666666661},null,null,null,{"$f":"$B$99/6","v":8569.1666666666661},null,null,null,{"$f":"$B$99/6","v":8569.1666666666661},null,null,null,{"$f":"$B$99/6","v":8569.1666666666661},null,null,null,{"$f":"$B$99/6/12*9","v":6426.875},null,null,null,{"$f":"AD99/6/12*3","v":0}]
[]
[]
[null,"01.10.08",null,null,"31.12.08",null,null,null,"31.12.09",null,null,null,"31.12.10",null,null,null,"31.12.11",null,null,null,"31.12.12",null,null,null,"31.12.13",null,null,null,"31.12.14",null,null,null,"31.12.15",null,null,null,null,null,"Zeit"]
[]
[]
[]
[null,"Buchungssatz:",null,null,null,null,null,"Soll",null,null,null,null,null,null,null,null,null,{"$f":"SUM(R111)","v":2142.2916666666665},null,null,null,null,null,"Haben",null,null,null,null,null,null,null,null,null,null,null,null,null,{"$f":"SUM(AL111:AO112)","v":2142.2916666666665}]
[null,"Sofortaufwand",null,null,null,null,null,"Abschreibung",null,null,null,null,null,null,null,null,null,{"$f":"E103","v":2142.2916666666665},null,null,null,"an",null,"PKW",null,null,null,null,null,null,null,null,null,null,null,null,null,{"$f":"E103","v":2142.2916666666665}]
[null,"Abschreibung"]
[]
[null,"Buchungssatz:",null,null,null,null,null,"Soll",null,null,null,null,null,null,null,null,null,{"$f":"SUM(R115:U143)","v":49272.708333333336},null,null,null,null,null,"Haben",null,null,null,null,null,null,null,null,null,null,null,null,null,{"$f":"SUM(AL115:AO116)","v":49272.708333333336}]
[null,"Schluss-",null,null,null,null,null,"Schlussbilanz",null,null,null,null,null,null,null,null,null,{"$f":"E100","v":49272.708333333336},null,null,null,"an",null,"PKW (Endbestand)",null,null,null,null,null,null,null,null,null,null,null,null,null,{"$f":"E100","v":49272.708333333336}]
[null,"Bilanz"]
[]
[null,"MERKE:   Anschaffungsneben“kosten“ sind keine Kosten, sie müssen als Bestandteile des Kaufpreises mit dem Vermögensgut direkt auf dem Anlagenkonto (Bestandskonto) aktiviert werden. Wir verwenden kein gesondertes Unterkonto ANK wie beim Umlaufvermögen (z.B. Vorräte), weil Investitionen nicht so häufig wie Käufe von Stoffen vorgenommen werden. Entsprechend werden (einmalige) Nachlässe direkt auf dem Anlagenkonto im Haben abgezogen (kein gesondertes Unterkonto „Erhaltene Nachlässe“ wie beim Umlaufvermögen verwenden!). So ergeben sich auf dem Anlagenkonto als Basis für die spätere Abschreibung die sogenannten  ANSCHAFFUNGSKOSTEN.\n"]
[]
[null,"Laufende / regelmäßig wiederkehrende Zahlungen (z. B. Kfz-Steuer, Versicherungen) werden nicht aktiviert, sie sind „echte“ Kosten bzw. Aufwendungen (GuV!)."]
[]
[null,"A =","Anschaffungskosten"]
[null,"H =","Herstellungskosten"]
[null,"K =","Kosten"]
[]
[]
[{"$f":"A89+1","v":78}]
[]
[null,"Fall 3: "]
[null,"Weiteres Beispiel für aktivierungspflichtige Anschaffungsneben“kosten“ bei Kauf von Grundstücken und Gebäuden (Buchung wie Fälle 1 und 2):\n"]
[null,null,"Anschaffungspreis"]
[null,null,"Kaufpreis"]
[null,"+","Anschaffungsneben“kosten“"]
[null,null,"GRUNDERWERBSTEUER (früher 3,5 % vom Kaufpreis, erhöht auf 5%)   "]
[null,null," ! Achtung: nicht aber die periodische GRUNDSTEUER"]
[null,null,"Notariats- und Grundbuchkosten für Eigentumsübertragung, Maklergebühr"]
[null,null,"Erschließungsbeitrag"]
[null,null,"Eventuell Abbruchkosten"]
[]
[null,null,"Keine Finanzierungskosten (= Sofortaufwand)\n  Zinsen, Notar- und Grundbuchkosten für Eintragung von Grundpfandrechten\n  => laufende Aufwendungen!"]
[]
[null,"=","Anschaffungskosten des Grundstücks / Gebäude"]
[]
[]
[]
[null,"HINWEIS: Dieselbe Problematik taucht auch in folgendem Beispiel auf:\nEin Autohaus baut uns zusammen mit der Inspektion nachträglich eine Klimaanlage, eine Anhängerkupplung, ein Schiebedach usw. ein.\n"]
[null,"1.)","Inspektion => laufende Erhaltung => SOFORTAUFWAND"]
[]
[null,null,"davon abzugrenzen"]
[]
[null,"2.)","Nachträglicher Einbau (=  Kauf) => Erhöhung Anschaffungskosten"]
[null,null,"Berücksichtigung über die (künftige) Abschreibung (Restnutzungsdauer)"]
[]
[null,"16.2","Abgrenzung zu den geringwertigen Wirtschaftgütern"]
[]
[null,"Aktuelle steuerbilanzielle Regelung: Mit dem Gesetz zur Beschleunigung des Wirtschaftswachstums wurde für GWG ab dem 1. 1. 2010 die zuvor zwingend vorgeschriebene GWG-Bilanzierung in der Steuerbilanz abermals reformiert. Gemäß § 6 Abs. 2a EStG bestehen nun folgende  Alternativen zur Behandlung von GWG (Wahlrechte): \na) GWG mit einem Nettobetrag ohne Vorsteuer bis 410 €  sind  sofort als Betriebsausgabe (Aufwand) gewinnmindernd abzuziehen, wobei im Falle von GWG bis 150 € eine gesonderte Aufzeichnung unterbleiben kann (§ 6 Abs. 2 Sätze 4 und 5 EStG ). Lediglich für Wirtschaftsgüter über 150 € sind der Tag der Anschaffung/Herstellung/Einlage sowie die Anschaffungs- oder Herstellungskosten gemäß § 6 Abs. 2 Satz 4 EStG in einem gesonderten Verzeichnis zu erfassen, sofern dies nicht bereits aus der Buchführung ersichtlich ist.\n"]
[]
[null,"b) Alternativ ist es möglich, die GWG mit einem Nettobetrag ohne Vorsteuer von mehr als  150 € bis 1.000 €  in einen  Sammelposten (Pool-Abschreibung) einzustellen  und GWG mit einem Nettobetrag von weniger als 150 € sofort abzuschreiben. Der Sammelposten ist analog zur Regelung der Jahre 2008 und 2009 ( Unternehmensteuerreformgesetz 2008, § 6 Abs. 2a EStG a. F.) gewinnmindernd im Jahr der Bildung sowie in den nachfolgenden vier Jahren aufzulösen. Gesonderte Dokumentationsanforderungen bestehen lediglich im Hinblick auf eine ggf. abweichende Wahlrechtsausübung in der Handelsbilanz gemäß § 5 Abs. 1 Sätze 2 und 3 EStG  ."]
[]
[]
[{"$f":"A127+1","v":79}]
[]
[null,"c) Daneben besteht weiterhin die Möglichkeit, die beweglichen Wirtschaftsgüter des Anlagevermögens  separat zu aktivieren  und über die betriebsgewöhnliche Nutzungsdauer abzuschreiben.\n\nHinweis: Es gilt bei der Auswahl der Methoden zu beachten, dass das Stetigkeitsgebot gewahrt wird. Die Möglichkeit der Sofortabschreibung ist dabei stets wirtschaftsgutbezogen individuell und die Sammelpostenregelung stets wirtschaftsjahrbezogen auszuüben, d. h. das Wahlrecht kann  nur einheitlich für alle GWG  von mehr als 150 €, aber nicht mehr als 1.000 € Nettobetrag ohne Vorsteuer ausgeübt werden.\n"]
[]
[null,"Die Vorschrift gilt nur für Gegenstände, die der Buchführungspflichtig selbst verbrauchen will, nicht aber für Waren oder Stoffe, die er gelagert hat. Diese sind Umlaufvermögensgegenstände und können daher niemals geringwertige Wirtschaftsgüter sein, solange nicht eine langfristige Nutzungsabsicht eintritt.\n"]
[]
[null,"siehe hierzu Übung 9.6.5 "]
[]
[]
[]
[{"$f":"A161+1","v":80}]
[]
[null,"16.3","Instandhaltung und Investition"]
[]
[null,"Instandhaltung liegt vor, wenn ein Zustand, der schon einmal vorhanden war, wiederhergestellt wird, also nichts Neues geschaffen wird. Der Instandhaltungsaufwand ist daher als Aufwand zu buchen:\n\nInstandhaltungsaufwand ............................ 1.000\nVorsteuer ....................................................... 190\n     AN Verbindlichkeiten aus LuL       ........................ 1.190\n"]
[]
[null,"Wird hingegen die reparierte Anlage erweitert oder verbessert, so wäre dies ggfs. als nachträgliche Anschaffungskostengröße zu behandeln (Abschreibung über die Restnutzungsdauer):\n\nMaschinen (Bestandskonto) ................................... 1.000\nVorsteuer .................................................................. 190\n         AN Verbindlichkeiten aus LuL        ........................ 1.190\n"]
[]
[null,"Viele Rechnungen enthalten beide Komponenten gleichzeitig, d. h., mit einem Arbeitsgang wird eine Anlage instandgesetzt und zugleich erweitert. Wird hierfür nur eine Gesamtrechnung erstellt, so ist diese dennoch in zwei Teile aufgeteilt werden:\nMaschinen (Bestandskonto) ...................................... 400\nInstandhaltung ........................................................... 600\nVorsteuer .................................................................. 190\n                 AN Verbindlichkeiten aus LuL oder Bank........................ 1.190\nIn diesem Fall wären 60% einer Rechnung als Instandhaltungsaufwendungen und 40% als Erweiterungsinvestition und damit als nachträgliche Anschaffungskosten betrachtet worden.\n"]
[]
[]
[]
[{"$f":"A171+1","v":81}]
[]
[null,"16.4","Aktivierte Eigenleistungen"]
[]
[null,"Erstellt sich ein Unternehmen eine eigene Anlage, anstatt eine solche einzukaufen, so ist auch diese Anlage zu buchen. Man spricht in diesem Zusammenhang von der Aktivierungspflicht bei Eigenleistungen. Die Bewertung hierfür geschieht nach der Herstellungskostenregelung des § 255 Abs. 2 HGB. Herstellungskosten sind allgemein alle Aufwendungen, die durch den Verbrauch von Gütern und die Inanspruchnahme von Diensten für die Herstellung eines Vermögensgegenstandes, seine Erweiterung oder für eine über seinen ursprünglichen Zustand hinausgehende wesentliche Verbesserung entstehen.\n"]
[]
[null,"Dazu gehören die Materialkosten, die Fertigungskosten und die Sonderkosten der Fertigung. Bei der Berechnung der Herstellungskosten müssen nunmehr durch das Bilanzrechtsmodernisierungsresetz auch „angemessene Teile“ der notwendigen Materialgemeinkosten, der notwendigen Fertigungsgemeinkosten und des Wertverzehrs des\nAnlagevermögens, soweit durch die Fertigung veranlasst, eingerechnet werden. Aufwendungen für soziale Einrichtungen des Betriebs, für freiwillige soziale Leistungen\nund für betriebliche Altersversorgung brauchen nicht eingerechnet zu werden, dürfen aber (Wahlrecht). Vertriebskosten dürfen nicht in die Herstellungskosten einbezogen werden (Verbot).\n"]
[null,"Zinsen für Fremdkapital gehören nicht zu den Herstellungskosten Zinsen für Fremdkapital, das zur Finanzierung der Herstellung eines Vermögensgegenstandes verwendet wird, dürfen angesetzt werden, soweit sie auf den Zeitraum der Herstellung entfallen (vgl. § 255 Abs. 2, Abs. 3 HGB). Durch die Bilanzrechtsmodernisierung wurden die handelsrechtlichen Herstellungskosten praktisch der steuerrechtlichen Definition dieses Begriffes angepasst (vgl. vorstehende Übersicht). Das neue Wahlrecht, Entwicklungskosten anzusetzen, hat jedoch keine steuerliche Entsprechung.\n"]
[]
[null,"Die Berücksichtigung von Material- und Fertigungsgemeinkosten ist nach den parallelen steurrechtlichen Vorschriften Pflicht. Bisher gab es steuer- und handelsrechtlich voneinander abweichende Vorschriften. Durch die Bilanzrechtsmodernisierung ist der Pflichtausweis im Steuer- und im Handelsrecht jetzt aber gleich. Ein Vergleich zeigt die Unterschiede zwischen den einzelnen Verfahren. Die Ausgangsdaten des Beispieles sind:\n"]
[]
[null,"Fertigungsmaterial [FM]: 4.200,00 €\nMaterialgemeinkosten [MGK]: 600,00 €\nFertigungslöhne [FL]: 3.800,00 €\nMaschinenkosten [MK]: 6.400,00 €\nFertigungsgemeinkosten [FGK]: 4.560,00 €\nSondereinzelkosten der Fertigung [SEKF]: 300,00 €\nAllg. Verwaltungsgemeinkosten [VwGK]: 300,00 €\nDavon dem Produkt zurechenbar: 100,00 €\nZurechenbare Entwicklungskosten: 550,00 €\nZurechenbare Fremdkapitalzinsen: 250,00 €\n"]
[]
[]
[{"$f":"A183+1","v":82}]
[]
[null,"Hieraus ergeben sich zunächst die folgenden Herstellungskosten nach Handelsrecht:\n\nFertigungsmaterial 4.200,00 €\n+ Fertigungslöhne 3.800,00 €\n+ Maschinenkosten 6.400,00 €\n+ Sondereinzelkosten d. Fert. 300,00 €\n+ Material-GK 600,00 €\n+ Fertigungs-GK 4.560,00 €\n= Mindest-HK 19.860,00 €\n+ Verwaltungs-GK 300,00 €\n+ Zurechenbare FK-Zinsen 250,00 €\n+ Entwicklungskosten 550,00 €\n= Höchst-HK 20.960,00 €\n"]
[]
[null,"Zur Buchung der Aktivierung ist ein eigenes Ertragskonto „Ertrag aus aktivierten Eigenleistungen“ vorgesehen, auf das die Herstellkosten, die dem Anlagegegenstand\nzuzurechnen sind, gegengebucht werden. Der Vorgang unterliegt selbstverständlich nicht der Umsatzsteuer, weil er sich innerhalb eines Unternehmens abspielt und nicht im Leistungsverkehr/Rechtsverkehr mit Dritten:\n\nMaschinen (Bestandskonto) ................................... 19.860 (bis 20.960)\n              AN Ertrag aus aktivierten Eigenleistungen (Ertrag = GuV!).......... 19.860 (bis 20.960)\n"]
[]
[null,"Der Ertrag aus aktivierten Eigenleistungen hebt sich dann mit den entsprechenden, ja bereits gebuchten einzelnen Kostenpositionen gegenseitig auf. \nInsgesamt führt diese Buchungsmethodik also nicht zu einem Gewinn.\n"]
[]
[{"$f":"A197+1","v":83}]
[]
[null,"Beispiel für aktivierte Eigenleistungen: \nEine Automobilfabrik fertigt bzw. entnimmt aus dem Lager einen Lkw für den eigenen Gebrauch. Die Herstellungskosten betragen  220.000 €, der entsprechende Verkaufspreis wäre  290.000 €.\n"]
[]
[null,"Überlegung:   \nWer einen Lkw benötigt, muss sich einen kaufen (= Anschaffungskosten).\nWer Lkw’s fertigt, verkauft diese (= Umsatzerlöse).\n"]
[]
[null,"Kauf: Fuhrpark an Verbindlichkeiten aus LuL"]
[null,"Verkauf: Forderungen aus LuL an Umsatzerlöse (= Ertrag)"]
[null,"Ein Unternehmen, kann aber auch selbsterstellte Anlagegüter nicht verkaufen sondern selber (intern) nutzen!"]
[]
[null,"Wiederholung der Definition: Aktivierte Eigenleistungen"]
[null,"In der Gewinn- und Verlustrechnung werden die zu aktivierende Eigenleistungen (=Ertrag) als Äquivalent selbsterstellter Anlagegüter erfasst und stellen damit einen Gegenposten für im Geschäftsjahr aufgewendete und gebuchte Personal- und Materialkosten dar.  \n\nDie Bewertung erfolgt der Höhe nach zu den Herstellungskosten als Neutralisierung dieser. "]
[]
[null,"1. Herstellung verursacht Personal-, Material- und sonstige Aufwendungen (Verbrauch), die den Gewinn gemindert haben!\n"]
[null,"2. Aktivierung (Neutralisierung) der Aufwendungen aus Nr. 1 (Personal, Material und sonstiges) und Umgliederung in einen Gegenposten in der Bilanz, da kein Kaufpreis vorliegt! Es wird sozusagen ein fiktiver Anschaffungsvorgang unterstellt! Die Bewertung erfolgt mit den Herstellungskosten (Annahme: Euro 20.000)\n"]
[]
[null,"3. Abschreibung des (selbsterstellten) Anlagegutes über die künftige Nutzungsdauer! \n   Bemessungsgrundlage sind die Herstellungskosten"]
[]
["S",null,"Maschine (selbsterstellt!)",null,null,null,null,null,null,null,null,null,null,null,null,null,null,null,null,null,"H",null,null,"Aufw.",null,"Gewinn- und Verlustrechnung",null,null,null,null,null,null,null,null,null,null,null,null,null,null,null,null,null,"Ertr."]
[null,"2. Herstellungskosten",null,null,null,null,null,20000,null,null,null,null,null,null,null,null,null,null,null,null,null,null,null,"1. Personal",null,null,null,null,null,null,null,null,null,null,"akt.Eigenl.",null,null,null,null,null,{"$f":"H224","v":20000}]
["  des selbsterstellten",null,null,null,null,null,null,null,null,null,null,null,null,null,null,null,null,null,null,null,null,null,null,"2. Material"]
[null,"Anlagegutes",null,null,null,null,null,null,null,null,null,"3. Abschreibung",null,null,null,null,null,null,null,null,null,null,null,"3. sonstiges"]
[]
[]
[]
[null,null,null,null,null,null,null,null,null,null,null,null,null,null,null,null,null,null,null,null,null,null,null,"S",null,"aktivierte Eigenleistungen (Ertrag)",null,null,null,null,null,null,null,null,null,null,null,null,null,null,null,null,null,"H"]
[]
[null,null,null,null,null,null,null,null,null,null,null,null,null,null,null,null,null,null,null,null,null,null,null,"Saldo => GuV",null,null,null,null,null,null,{"$f":"AO224","v":20000},null,null,null,null,null,null,null,null,null,{"$f":"AE232","v":20000}]
[]
[null,null,null,null,null,null,null,null,null,null,null,null,null,null,null,null,null,null,null,null,null,null,null,null,null,null,null,null,null,null,{"$f":"SUM(AE231:AH233)","v":20000},null,null,null,null,null,null,null,null,null,{"$f":"SUM(AO231:AR233)","v":20000}]
[]
[null,null,null,null,null,null,null,null,null,null,null,null,null,null,null,null,null,null,"(= aktivierte Eigenleistungen ist ein Unterkonto der GuV und \ndient der Neutralisierung der Aufwendungen aus Nr. 1)"]
[]
[]
[null,"Buchungssatz:",null,null,null,null,null,"Soll",null,null,null,null,null,null,null,null,null,{"$f":"SUM(R240:U241)","v":20000},null,null,null,null,null,"Haben",null,null,null,null,null,null,null,null,null,null,null,null,null,{"$f":"SUM(AL240:AO244)","v":20000}]
[null,"Aktivierung",null,null,null,null,null,{"$f":"C223","v":"Maschine (selbsterstellt!)"},null,null,null,null,null,null,null,null,null,{"$f":"H224","v":20000},null,null,null,"an",null,{"$f":"Z230","v":"aktivierte Eigenleistungen (Ertrag)"},null,null,null,null,null,null,null,null,null,null,null,null,null,{"$f":"AO224","v":20000}]
[null,"Neutralisierung"]
[]
[{"$f":"A205+1","v":84}]
[]
[null,"Merke: Die Bewertung erfolgt mit den Herstellungskosten, also nicht mit dem Verkaufspreis   Die Herstellungskosten umfassen keinen Gewinn(zuschlag) und keine Vertriebskosten. Anschaffungsprinzip bzw. gemildertes Niederstwertprinzip wegen kaufmännischer Vorsicht!\n"]
[]
[]
[null,"Vorsicht wegen Verwechslungsgefahr:"]
[]
[null,"• Privatentnahme (geht in Privathaushalt) => USt-pflichtiger Ertrag"]
[]
[null,"• Aktivierte Eigenleistung  (bleibt im Unternehmen) => nicht-USt-pflichtiger Ertrag"]
[]
[null,"Der Ertrag „Aktivierte Eigenleistung“ erhöht den Gewinn in dem Maße, wie er durch die Herstellungskosten des Anlagegutes vorher aktiviert wurde. Somit wird das Anlagegut erst durch die ABSCHREIBUNG in den Nutzungsjahren zu (künftigem) Aufwand.\n"]
[]
[null,"Hinweis: Verwechseln Sie bitte nicht den bilanztechnischen Begriff „Herstellungskosten“ \n( §§ 253 ff. HGB; § 6 EStG) \nmit dem kostenrechnerischen Begriff „Herstellkosten“ (vgl. RW II)."]
[]
[null,"16.5","Abgang / Verkauf von gebrauchten Anlagegütern"]
[]
[null,"Vielfach werden Anlagegüter nicht bis zum Ende ihrer Lebenszeit im Anlagevermögen gehalten, sondern scheiden vorher aus dem Unternehmen aus. In diesen Fällen haben wir es mit einem vorzeitigen Abgang der Vermögensgegenstände zu tun. Dieser ist umsatzsteuerpflichtig und geschieht nahezu niemals genau zum Buchwert, so dass der Differenzbetrag zwischen Buchwert und wirklichem Nettoverkaufspreis des Anlagegutes sich als Ertrag (Buchgewinn) oder Aufwand (Buchverlust) darstellt.\n"]
[]
[null,"Anlageabgang zum Buchwert\nZu dieser Form des Anlageabganges kommt es, wenn der Verkaufspreis des Anlagegutes netto ohne Umsatzsteuer genau gerade seinem Buchwert entspricht. Anlageabgänge\nzum Buchwert sind eher selten, aber buchungstechnisch der einfachste Fall und daher hier aus didaktischen Gründen vorgeführt. Betrage der Buchwert eines Anlagegegenstandes beispielsweise noch genau 1.000 €, und werde der Gegenstand für 1.190 €, also genau gerade diesem Buchwert plus der jeweiligen Umsatzsteuer verkauft, so wäre zu buchen:\n\nForderungen aus LuL ................................ 1.190\nAN    Maschinen .................................................... 1.000\n         Umsatzsteuer .................................................. 190\n"]
[]
[]
[{"$f":"A243+1","v":85}]
[]
[null,"Anlageabgang über Buchwert (Buchgewinn)\nEin solcher liegt vor, wenn der Verkaufspreis des Anlagegutes netto ohne Umsatzsteuer über seinem Buchwert liegt. Das Unternehmen realisiert damit einen außerordentlichen Ertrag. Der Vorgang gehört nicht zu den betrieblichen Erträgen, weil der Verkauf alter Anlagegegenstände nicht der „normale“ Geschäftsverlauf ist. Beträgt der Verkaufspreis für die vorstehende Anlage im Buchwert von 1.000 € nunmehr 1.500 € inklusive Umsatzsteuer, so läge dieser Wert auch netto über dem Buchwert. Es wäre also zu buchen:\n\nForderungen aus LuL ........................... 1.500,00\nAN Maschinen/Anlagen        ............................... 1.000,00\nsonstiger betrieblicher Ertrag     .......................... 260,50\nUmsatzsteuer             .......................................... 239,50\n\nMan beachte, dass der Ertrag (Buchgewinn) sich hier als Saldo zwischen Bruttowert, Umsatzsteuer und Buchwert darstellt.\n"]
[]
[null,"Anlageabgang unter Buchwert (Buchverlust)\nDieser tritt ein, wenn der Verkaufspreis des Anlagegutes netto ohne Umsatzsteuer unter seinem Buchwert liegt. Das Unternehmen realisiert damit einen außerordentlichen\nAufwand. Der Vorgang gehört nicht zu den betrieblichen Aufwendungen, weil der Verkauf alter Anlagegegenstände unter Buchwert nicht zum normalen Geschäftsverlauf gehört.\nBeträgt der Verkaufspreis aus der vorstehenden Anlage im Buchwert von 1.000 € nunmehr nur noch brutto 800 €, so entsteht nach dem gleichen Muster ein außerordentlicher\nAufwand:\n\nForderungen aus LuL .............................. 800,00\nsonst. betriebl. Aufwand  ......................... 327,73\nAN Maschinen/Anlagen           ............................... 1.000,00\nUmsatzsteuer                ............................................. 127,73\n"]
[]
[null,"Übungsfall 1: \nAm 01.01.01 wurde für 35.000 € ein Pkw mit einer geschätzten Nutzungsdauer von 5 Jahren gekauft. Heute, am 31.12.03, beträgt der Restbuchwert nach der linearen Jahresabschreibung von 03 noch 14.000 €. Wir verkaufen den Pkw heute, am 31.12.03, mit einem Verkaufserlös netto (Bank) von\na)   18.000 €\nb)   13.000 € \njeweils zuzügl. 19 % USt."]
[null,"Wir erkennen unschwer, dass wir im Fall\na) anscheinend  4.000 €  zuviel abgeschrieben haben (Unterbewertung), während wir im Fall \nb) 1.000 € zuwenig  abgeschrieben haben (Überbewertung).                                                         "]
[]
[null,"Die Differenz zwischen Restbuchwert und Verkaufserlös (netto) muss also wegen einer „falschen“ Abschreibung bisher jetzt erfolgswirksam (d.h. als Aufwand oder Ertrag) verbucht werden."]
[]
[{"$f":"A265+1","v":86}]
[]
[null,"Variante 1"]
[null,null,null,null,null,null,null,null,null,null,null,null,"Entgelt",null,18000]
[null,null,null,null,null,null,null,null,null,null,null,null,"+ 19 % Umsatzsteuer",null,{"$f":"O279*19%","v":3420}]
[null,null,null,null,null,null,null,null,null,null,null,null,"=Verkaufspreis",null,{"$f":"O279+O280","v":21420}]
[]
[null,null,null,null,null,null,null,null,null,null,null,null,"Verkaufserlös a. Anlagenabgang",null,18000]
[null,null,null,null,null,null,null,null,null,null,null,null,"- Restbuchwert ",null,-14000,null,null,null,"(Restbuchwert nach anteiliger Abschreibung bis zum Verkaufszeitpunkt)"]
[null,null,null,null,null,null,null,null,null,null,null,null,"=Buchgewinn",null,{"$f":"O283+O284","v":4000}]
[]
[]
[null,"Buchungssatz:",null,null,null,null,null,"Soll",null,null,null,null,null,null,null,null,null,{"$f":"SUM(R289:U290)","v":21420},null,null,null,null,null,"Haben",null,null,null,null,null,null,null,null,null,null,null,null,null,{"$f":"SUM(AL289:AO290)","v":21420}]
[null,"Verkauf",null,null,null,null,null,"Forderungen a. LuL",null,null,null,null,null,null,null,null,null,{"$f":"O281","v":21420},null,null,null,"an",null,"Verkaufserlös a. Anlagenabgang",null,null,null,null,null,null,null,null,null,null,null,null,null,{"$f":"O279","v":18000}]
[null,"auf Ziel",null,null,null,null,null,null,null,null,null,null,null,null,null,null,null,null,null,null,null,null,null,"Umsatzsteuer",null,null,null,null,null,null,null,null,null,null,null,null,null,{"$f":"O280","v":3420}]
[]
[]
[null,"Buchungssatz:",null,null,null,null,null,"Soll",null,null,null,null,null,null,null,null,null,{"$f":"SUM(R294:U295)","v":14000},null,null,null,null,null,"Haben",null,null,null,null,null,null,null,null,null,null,null,null,null,{"$f":"SUM(AL294:AO295)","v":14000}]
[null,"Anlagen-",null,null,null,null,null,"Restbuchwert a. PKW-Abgang",null,null,null,null,null,null,null,null,null,{"$f":"-O284","v":14000},null,null,null,"an",null,"Fuhrpark ",null,null,null,null,null,null,null,null,null,null,null,null,null,{"$f":"-O284","v":14000}]
[null,"abgang",null,null,null,null,null,"(Aufwandskonto)"]
[]
[]
["S",null,"Fuhrpark (Bestandskonto)",null,null,null,null,null,null,null,null,null,null,null,null,null,null,null,null,null,"H",null,null,"Aufw.",null,"GuV",null,null,null,null,null,null,null,null,null,null,null,null,null,null,null,null,null,"Ertr."]
[]
[null,null,null,null,null,null,null,null,null,null,null,"RBW",null,null,null,null,null,{"$f":"R294","v":14000},null,null,null,null,null,"RBW",null,null,null,null,null,null,{"$f":"R294","v":14000},null,null,null,"Verkaufserlös",null,null,null,null,null,{"$f":"AL289","v":18000}]
[null,null,null,null,null,null,null,null,null,null,null,null,null,null,null,null,null,null,null,null,null,null,null,"Buchgewinn",null,null,null,null,null,null,{"$f":"AO300-AE300","v":4000}]
[]
[null,null,null,null,null,null,null,{"$f":"SUM(H299:K302)","v":0},null,null,null,null,null,null,null,null,null,{"$f":"SUM(R299:U302)","v":14000},null,null,null,null,null,null,null,null,null,null,null,null,{"$f":"SUM(AE299:AH302)","v":18000},null,null,null,null,null,null,null,null,null,{"$f":"SUM(AO299:AR302)","v":18000}]
[]
[]
[]
[null,"Variante 2"]
[null,null,null,null,null,null,null,null,null,null,null,null,"Entgelt",null,13000]
[null,null,null,null,null,null,null,null,null,null,null,null,"+ 19 % Umsatzsteuer",null,{"$f":"O308*19%","v":2470}]
[null,null,null,null,null,null,null,null,null,null,null,null,"=Verkaufspreis",null,{"$f":"O308+O309","v":15470}]
[]
[null,null,null,null,null,null,null,null,null,null,null,null,"Verkaufserlös a. Anlagenabgang",null,13000]
[null,null,null,null,null,null,null,null,null,null,null,null,"- Restbuchwert ",null,-14000,null,null,null,"(Restbuchwert nach anteiliger Abschreibung bis zum Verkaufszeitpunkt)"]
[null,null,null,null,null,null,null,null,null,null,null,null,"=Buchverlust",null,{"$f":"O312+O313","v":-1000}]
[]
[]
[null,"Buchungssatz:",null,null,null,null,null,"Soll",null,null,null,null,null,null,null,null,null,{"$f":"SUM(R318:U319)","v":15470},null,null,null,null,null,"Haben",null,null,null,null,null,null,null,null,null,null,null,null,null,{"$f":"SUM(AL318:AO319)","v":15470}]
[null,"Verkauf",null,null,null,null,null,"Forderungen a. LuL",null,null,null,null,null,null,null,null,null,{"$f":"O310","v":15470},null,null,null,"an",null,"Verkaufserlös a. Anlagenabgang",null,null,null,null,null,null,null,null,null,null,null,null,null,{"$f":"O308","v":13000}]
[null,"auf Ziel",null,null,null,null,null,null,null,null,null,null,null,null,null,null,null,null,null,null,null,null,null,"Umsatzsteuer",null,null,null,null,null,null,null,null,null,null,null,null,null,{"$f":"O309","v":2470}]
[]
[]
[null,"Buchungssatz:",null,null,null,null,null,"Soll",null,null,null,null,null,null,null,null,null,{"$f":"SUM(R323:U324)","v":14000},null,null,null,null,null,"Haben",null,null,null,null,null,null,null,null,null,null,null,null,null,{"$f":"SUM(AL323:AO324)","v":14000}]
[null,"Anlagen-",null,null,null,null,null,"Restbuchwert a. PKW-Abgang",null,null,null,null,null,null,null,null,null,{"$f":"-O313","v":14000},null,null,null,"an",null,"Fuhrpark ",null,null,null,null,null,null,null,null,null,null,null,null,null,{"$f":"-O313","v":14000}]
[null,"abgang",null,null,null,null,null,"(Aufwandskonto)"]
[]
[]
["S",null,"Fuhrpark (Bestandskonto)",null,null,null,null,null,null,null,null,null,null,null,null,null,null,null,null,null,"H",null,null,"Aufw.",null,"GuV",null,null,null,null,null,null,null,null,null,null,null,null,null,null,null,null,null,"Ertr."]
[]
[null,null,null,null,null,null,null,null,null,null,null,"RBW",null,null,null,null,null,{"$f":"R323","v":14000},null,null,null,null,null,"RBW",null,null,null,null,null,null,{"$f":"R323","v":14000},null,null,null,"Verkaufserlös",null,null,null,null,null,{"$f":"AL318","v":13000}]
[null,null,null,null,null,null,null,null,null,null,null,null,null,null,null,null,null,null,null,null,null,null,null,null,null,null,null,null,null,null,null,null,null,null,"Buchverlust",null,null,null,null,null,{"$f":"AE329-AO329","v":1000}]
[]
[null,null,null,null,null,null,null,{"$f":"SUM(H328:K331)","v":0},null,null,null,null,null,null,null,null,null,{"$f":"SUM(R328:U331)","v":14000},null,null,null,null,null,null,null,null,null,null,null,null,{"$f":"SUM(AE328:AH331)","v":14000},null,null,null,null,null,null,null,null,null,{"$f":"SUM(AO328:AR331)","v":14000}]
[]
[null,"1.)","Verkaufserlös (netto)  >  Restbuchwert \n=>sonstiger Ertrag (Variante 1: Buchgewinn)"]
[]
[null,"2.)","Verkaufserlös (netto)  <  Restbuchwert \n=>sonstiger Aufwand (Variante 2: Buchverlust)"]
[]
[]
[{"$f":"A276+1","v":87}]
[]
[null,null,"Hinweis:\nBei Verkauf eines gebrauchten Anlagegutes aus dem Sammelposten für Güter (Pool) zwischen 150,01 € und 1.000 € gibt es wegen des Sammelpostens keinen diesem Gut zuordenbaren Restbuchwert. Der Verkaufserlös wird – unabhängig vom Zeitpunkt des Verkaufs  – in\nvoller Höhe erfolgswirksam gebucht. \n"]
[]
[null,null,"Beispiel:\nVerkauf eines gebrauchten Rasenmähers (AK 900 €) für 400 €:"]
[]
[null,null,null,null,null,null,null,null,null,null,null,null,"Entgelt",null,400]
[null,null,null,null,null,null,null,null,null,null,null,null,"+ 19 % Umsatzsteuer",null,{"$f":"O345*19%","v":76}]
[null,null,null,null,null,null,null,null,null,null,null,null,"=Verkaufspreis",null,{"$f":"O345+O346","v":476}]
[]
[]
[null,"Buchungssatz:",null,null,null,null,null,"Soll",null,null,null,null,null,null,null,null,null,{"$f":"SUM(R351:U352)","v":476},null,null,null,null,null,"Haben",null,null,null,null,null,null,null,null,null,null,null,null,null,{"$f":"SUM(AL351:AO352)","v":476}]
[null,"Verkauf",null,null,null,null,null,"Forderungen a. LuL",null,null,null,null,null,null,null,null,null,{"$f":"O347","v":476},null,null,null,"an",null,"Sonstige Erträge",null,null,null,null,null,null,null,null,null,null,null,null,null,{"$f":"O345","v":400}]
[null,"auf Ziel",null,null,null,null,null,null,null,null,null,null,null,null,null,null,null,null,null,null,null,null,null,"Umsatzsteuer",null,null,null,null,null,null,null,null,null,null,null,null,null,{"$f":"O346","v":76}]
[]
[]
[null,"Analog zum USt-pflichtigen Verkauf ist eine USt-pflichtige Inzahlunggabe von gebrauchten AV-Gütern zu buchen. Statt Bank steht dann das Anlage-Konto."]
[]
[null,"Bei Ausscheiden während des Geschäftsjahres muss man in der Praxis noch eine monatsanteilige Abschreibung machen, um den Restbuchwert genauer zu ermitteln."]
[]
[null,null,"Beispiel:\nWürde oben erst im März 04 verkauft, müssten noch 3 ganze Monate (immer aufrunden) anteilig abgeschrieben werden, der Restbuchwert wäre dann:\n"]
[]
[]
[null,null,null,null,null,null,null,null,null,null,null,null,"Restbuchwert zum 31.12.",null,14000]
[null,null,null,null,null,null,null,null,null,null,null,null,"- anteilige AfA 2004",null,{"$f":"-35000/5/12*3","v":-1750},null,null,null,"(3 Monate AfA: AK 35.000 / 5 Jahre x 3 / 12 Monate)"]
[null,null,null,null,null,null,null,null,null,null,null,null,"= Restbuchwert im April",null,{"$f":"O362+O363","v":12250}]
[]
[null,"Buchungssatz:",null,null,null,null,null,"Soll",null,null,null,null,null,null,null,null,null,{"$f":"SUM(R367:U368)","v":1750},null,null,null,null,null,"Haben",null,null,null,null,null,null,null,null,null,null,null,null,null,{"$f":"SUM(AL367:AO368)","v":1750}]
[null,"Buchung zeit-",null,null,null,null,null,"Abschreibung",null,null,null,null,null,null,null,null,null,{"$f":"-O363","v":1750},null,null,null,"an",null,"Fuhrpark",null,null,null,null,null,null,null,null,null,null,null,null,null,{"$f":"-O363","v":1750}]
[null,"anteilige AfA"]
[]
[]
[null,"Exkurs: Die dargestellte Buchungsmethode zeigt anschaulich die GuV–Auswirkung. Will man bei der monatlichen USt-Voranmeldung die Übereinstimmung zwischen der USt und den USt-pflichtigen Umsätzen „Umsatzsteuerverprobung“, so findet man bei der Buchung den USt-pflichtigen Umsatz von 18.000 €! Also buchen wir:"]
[null,null,null,null,null,null,null,null,null,null,null,null,"Entgelt",null,18000]
[null,null,null,null,null,null,null,null,null,null,null,null,"+ 19 % Umsatzsteuer",null,{"$f":"O372*19%","v":3420}]
[null,null,null,null,null,null,null,null,null,null,null,null,"=Verkaufspreis",null,{"$f":"O372+O373","v":21420}]
[]
[null,"Buchungssatz:",null,null,null,null,null,"Soll",null,null,null,null,null,null,null,null,null,{"$f":"SUM(R377:U378)","v":21420},null,null,null,null,null,"Haben",null,null,null,null,null,null,null,null,null,null,null,null,null,{"$f":"SUM(AL377:AO378)","v":21420}]
[null,"Verkauf",null,null,null,null,null,"Bank",null,null,null,null,null,null,null,null,null,{"$f":"O374","v":21420},null,null,null,"an",null,"Verkaufserlös a. Anlageabgang",null,null,null,null,null,null,null,null,null,null,null,null,null,{"$f":"O372","v":18000}]
[null,"gegen Scheck",null,null,null,null,null,null,null,null,null,null,null,null,null,null,null,null,null,null,null,null,null,"Umsatzsteuer",null,null,null,null,null,null,null,null,null,null,null,null,null,{"$f":"O373","v":3420}]
[]
[]
[{"$f":"A339+1","v":88}]
[]
[null,"Die Umsatzsteuerverprobung für die monatliche USt-Voranmeldung ist möglich (18.000 x 19 %)!"]
[null,"GuV–wirksam dürfen aber nur  4.000 bei Buchgewinn bzw. -1000 bei Buchverlust sein (= Saldo): "]
[]
[null,null,null,null,null,null,null,null,null,null,null,null,"Verkaufserlös a. Anlagenabgang",null,18000]
[null,null,null,null,null,null,null,null,null,null,null,null,"- Restbuchwert ",null,-14000,null,null,null,"(Restbuchwert nach anteiliger Abschreibung bis zum Verkaufszeitpunkt)"]
[null,null,null,null,null,null,null,null,null,null,null,null,"=Buchgewinn",null,{"$f":"O386+O387","v":4000}]
[]
[null,null,null,null,null,null,null,null,null,null,null,null,"Verkaufserlös a. Anlagenabgang",null,13000]
[null,null,null,null,null,null,null,null,null,null,null,null,"- Restbuchwert ",null,-14000,null,null,null,"(Restbuchwert nach anteiliger Abschreibung bis zum Verkaufszeitpunkt)"]
[null,null,null,null,null,null,null,null,null,null,null,null,"=Buchverlust",null,{"$f":"O390+O391","v":-1000}]
[]
[null,"16.6","Anlagenkauf mit „Inzahlunggabe“ gebrauchter Anlagen"]
[]
[null,"Beispiel: Wir kaufen einen Lkw für 140.000 € und geben dabei einen alten Lkw mit einem Restbuchwert von 18.000 € für 20.000 € in Zahlung. Da wir den Differenzbetrag sofort überweisen, erhalten wir darauf 1 % Skonto.\n"]
[]
[null,null,null,null,"neues Fahrzeug",null,null,null,null,null,null,null,null,null,null,null,null,null,null,null,null,null,null,null,null,null,"Anschaffungskosten"]
[null,null,null,null,null,null,null,null,null,null,null,null,"Entgelt",null,140000,null,null,null,null,null,null,null,null,null,null,null,null,null,null,null,null,null,null,null,null,"Listenpreis netto",null,null,{"$f":"O399","v":140000}]
[null,null,null,null,null,null,null,null,null,null,null,null,"+ 19 % Umsatzsteuer",null,{"$f":"O399*19%","v":26600},null,null,null,null,null,null,null,null,null,null,null,null,null,null,null,null,null,null,null,null,"- AK-Minderung: Skonto ",null,null,{"$f":"-AM399*1%","v":-1400}]
[null,null,null,null,null,null,null,null,null,null,null,null,"=Verkaufspreis",null,{"$f":"O399+O400","v":166600},null,null,null,null,null,null,null,null,null,null,null,null,null,null,null,null,null,null,null,null,"= AK",null,null,{"$f":"AM399+AM400","v":138600}]
[]
[null,null,null,null,"altes Fahrzeug"]
[null,null,null,null,null,null,null,null,null,null,null,null,"Entgelt",null,20000]
[null,null,null,null,null,null,null,null,null,null,null,null,"+ 19 % Umsatzsteuer",null,{"$f":"O404*19%","v":3800}]
[null,null,null,null,null,null,null,null,null,null,null,null,"=Verkaufspreis",null,{"$f":"O404+O405","v":23800}]
[]
[null,null,null,null,null,null,null,null,null,null,null,null,"= Differenzbetrag",null,null,null,null,null,{"$f":"O401-O406","v":142800},null,null,null,"(netto:",null,{"$f":"S408/1.19","v":120000},null,null,null,null,"zzgl. Ust.",null,null,{"$f":"Y408*19%","v":22800},null,null,null,")"]
[null,null,null,null,null,null,null,null,null,null,null,null,"- Skonto 1 %",null,null,null,null,null,{"$f":"-140000*1%*1.19","v":-1666},null,null,null,"Anschaffungskostenminderung: ",null,null,null,null,null,null,null,null,null,{"$f":"-S409/1.19","v":1400},null,null,"zzgl. VSt",null,null,{"$f":"AG409*19%","v":266}]
[null,null,null,null,null,null,null,null,null,null,null,null,"= Überweisungsbetrag",null,null,null,null,null,{"$f":"SUM(S408:V409)","v":141134}]
[]
[null,"Buchungssatz:",null,null,null,null,null,"Soll",null,null,null,null,null,null,null,null,null,{"$f":"SUM(R413:U414)","v":166600},null,null,null,null,null,"Haben",null,null,null,null,null,null,null,null,null,null,null,null,null,{"$f":"SUM(AL413:AO414)","v":166600}]
[null,"Kauf neues",null,null,null,null,null,"Fuhrpark (AK: neuer LKW)",null,null,null,null,null,null,null,null,null,{"$f":"O399","v":140000},null,null,null,"an",null,"Verblk. a. LuL",null,null,null,null,null,null,null,null,null,null,null,null,null,{"$f":"O401","v":166600}]
[null,"Fahrzeug",null,null,null,null,null,"Vorsteuer",null,null,null,null,null,null,null,null,null,{"$f":"O400","v":26600}]
[]
[null,"Buchungssatz:",null,null,null,null,null,"Soll",null,null,null,null,null,null,null,null,null,{"$f":"SUM(R417:U418)","v":18000},null,null,null,null,null,"Haben",null,null,null,null,null,null,null,null,null,null,null,null,null,{"$f":"SUM(AL417:AO418)","v":18000}]
[null,"Inzahlunggabe",null,null,null,null,null,"Restbuchwert a. PKW-Abgang",null,null,null,null,null,null,null,null,null,18000,null,null,null,"an",null,"Fuhrpark (alter LKW: RBW)",null,null,null,null,null,null,null,null,null,null,null,null,null,18000]
[null,"altes Fahrzeug",null,null,null,null,null,"(Aufwand)",null,null,null,null,null,null,null,null,null,null,null,null,null,null,null,"(Bestandskonto)"]
[]
[null,"Buchungssatz:",null,null,null,null,null,"Soll",null,null,null,null,null,null,null,null,null,{"$f":"SUM(R421:U422)","v":23800},null,null,null,null,null,"Haben",null,null,null,null,null,null,null,null,null,null,null,null,null,{"$f":"SUM(AL421:AO422)","v":23800}]
[null,"Inzahlunggabe",null,null,null,null,null,{"$f":"X413","v":"Verblk. a. LuL"},null,null,null,null,null,null,null,null,null,{"$f":"O406","v":23800},null,null,null,"an",null,"Verkaufserlös a. Anlageabgang",null,null,null,null,null,null,null,null,null,null,null,null,null,{"$f":"O404","v":20000}]
[null,"altes Fahrzeug",null,null,null,null,null,null,null,null,null,null,null,null,null,null,null,null,null,null,null,null,null,"Umsatzsteuer",null,null,null,null,null,null,null,null,null,null,null,null,null,{"$f":"O405","v":3800}]
[]
[null,"Buchungssatz:",null,null,null,null,null,"Soll",null,null,null,null,null,null,null,null,null,{"$f":"SUM(R425:U426)","v":142800},null,null,null,null,null,"Haben",null,null,null,null,null,null,null,null,null,null,null,null,null,{"$f":"SUM(AL425:AO427)","v":142800}]
[null,"Bezahlung",null,null,null,null,null,"Verblk. a. LuL",null,null,null,null,null,null,null,null,null,{"$f":"S408","v":142800},null,null,null,"an",null,"Fuhrpark (AK-Minderung:Skonto)",null,null,null,null,null,null,null,null,null,null,null,null,null,{"$f":"AG409","v":1400}]
[null,"Restschuld",null,null,null,null,null,null,null,null,null,null,null,null,null,null,null,null,null,null,null,null,null,"Vorsteuer (Minderung)",null,null,null,null,null,null,null,null,null,null,null,null,null,{"$f":"AM409","v":266}]
[null,null,null,null,null,null,null,null,null,null,null,null,null,null,null,null,null,null,null,null,null,null,null,"Bank",null,null,null,null,null,null,null,null,null,null,null,null,null,{"$f":"S410","v":141134}]
[]
[]
["S",null,"Fuhrpark (neuer LKW)",null,null,null,null,null,null,null,null,null,null,null,null,null,null,null,null,null,"H",null,null,"Aufw.",null,"GuV",null,null,null,null,null,null,null,null,null,null,null,null,null,null,null,null,null,"Ertr."]
[]
[null,null,null,null,null,null,null,{"$f":"O399","v":140000},null,null,null,null,null,null,null,null,null,{"$f":"AL425","v":1400},null,null,null,null,null,null,null,null,null,null,null,null,{"$f":"R417","v":18000},null,null,null,null,null,null,null,null,null,{"$f":"AL421","v":20000}]
[null,null,null,null,null,null,null,null,null,null,null,null,null,null,null,null,null,{"$f":"H432-R432","v":138600},null,null,null,null,null,"Buchgewinn",null,null,null,null,null,null,{"$f":"AO432-AE432","v":2000}]
[]
[null,null,null,null,null,null,null,null,null,null,null,null,null,null,null,null,null,null,null,null,null,null,null,null,null,null,null,null,null,null,{"$f":"SUM(AE431:AH434)","v":20000},null,null,null,null,null,null,null,null,null,{"$f":"SUM(AO431:AR434)","v":20000}]
[]
["Alternative Berechnungsmethode:"]
[]
[null,null,null,null,null,null,null,null,null,null,null,null,"Listenpreis (LKW neu, netto)",null,{"$f":"O399","v":140000}]
[null,null,null,null,null,null,null,null,null,null,null,null,"- Listenpreis (LKW alt, netto)",null,{"$f":"-O404","v":-20000}]
[null,null,null,null,null,null,null,null,null,null,null,null,"= Differenzbetrag (netto)",null,{"$f":"O439+O440","v":120000}]
[null,null,null,null,null,null,null,null,null,null,null,null,"- 1 % Skonto von 140.000",null,{"$f":"-O439*1%","v":-1400}]
[null,null,null,null,null,null,null,null,null,null,null,null,"= Restzahlung netto",null,{"$f":"SUM(O441:R442)","v":118600}]
[null,null,null,null,null,null,null,null,null,null,null,null,"+ 19 % Umsatzsteuer",null,{"$f":"O443*19%","v":22534}]
[null,null,null,null,null,null,null,null,null,null,null,null,"= Überweisungsbetrag brutto",null,{"$f":"SUM(O443:R444)","v":141134}]

{"sheet":"17","index":28,"n_rows":41,"n_cols":3,"rows_kept":41,"cut":false,"hidden":false,"merged":[[1,0,1,52],[10,1,10,37],[10,38,10,46],[5,1,5,37],[5,38,5,46],[20,1,20,51],[24,1,24,51],[26,1,26,51],[18,1,18,37],[18,38,18,46],[22,1,22,47],[29,1,29,47],[31,1,31,51],[36,1,36,51],[38,1,38,51],[40,1,40,51],[34,1,34,47]]}
[]
[{"$f":"'16'!A381:BA381+1","v":89}]
[]
[null,17,"Steuern im Unternehmen"]
[]
[null,"Grundsätzlich ist bei Steuerzahlung zu buchen"]
[]
[null,"=> Körperschaftsteueraufwand oder Steuer-Rückstellung an Bank"]
[null,"=> Gewerbesteueraufwand oder Steuer-Rückstellung an Bank"]
[]
[null,"bei Steuererstattung durch das FA"]
[]
[null,"=> Bank an Körperschaftsteuerertrag oder sonstige Vermögensgegenstände"]
[null,"=> Bank an Gewerbesteuerertrag oder sonstige Vermögensgegenstände"]
[]
[]
[null,"Buchhalterisch können die Steuerarten in vier Kategorien eingeteilt werden:"]
[]
[null,"I. Steuern als Bilanzposten:"]
[]
[null,"Die Umsatzsteuer sowie die Lohnsteuer haben nichts mit der GuV-Rechnung zu tun. Ihre Bezahlung ist nur der Ausgleich einer Forderung / Verbindlichkeit (Bestandskonten) gegenüber dem FA. Die Steuer wurde ja schließlich von uns vorher anderen, nämlich dem Arbeitnehmer bzw. dem Kunden, „aus der Tasche gezogen“. Das Unternehmen zahlt sozusagen mit fremdem Geld. (= Durchlaufender Posten: Einbehaltung und Abführung für einen Dritten)\n"]
[]
[null,"II. Betriebliche Steuern (Aufwand- oder Verbrauchsteuern)"]
[]
[null,"Diese Steuern werden in der GKR-Kontenklasse 4 als Aufwand gebucht. Sie schmälern den handelsrechtlichen Gewinn des Unternehmens. Beispiele sind die Gewerbesteuer, die Kfz-Steuer, die Grundsteuer sowie die Verbrauchsteuern (z.B. Mineralöl-, Tabak-, Bier- und Branntweinsteuer). Als Kosten werden sie in die Preise einkalkuliert und letztlich vom Kunden bezahlt, wenn er diesen Preis zu zahlen bereit ist. \n"]
[]
[null,"Vorsicht: Kfz-Steuer, Grundsteuer und Hundesteuer aus dem privaten Bereich sind wie Gruppe IV zu behandeln, nämlich als Privatentnahme,  da sie ja nicht den steuerpflichtigen (Gruppe IV) Gewinn des Unternehmens kürzen dürfen. \n"]
[]
[]
[null,"III. Aktivierungspflichtige Steuern"]
[]
[null,"Diese Steuern sind Anschaffungsnebenkosten und sind damit auf dem Anlagekonto/Bestandskonto zu aktivieren. Sie erhöhen den Wert des jeweiligen Vermögensgutes. Sie mindern erst über die evtl. Abschreibungen den Gewinn (Ausnahme: Grundstücke!)\nBeispiel: Grunderwerbsteuer (zum Grundstück rechnen)\n"]
[]
[]
[null,"IV. Ertrags-/Einkommensteuern bzw. Steuern des Unternehmers \n     (Personensteuern)"]
[]
[null,"Diese Steuern errechnen sich (prozentual) aus dem Gewinn des Unternehmens. Sie schmälern also nicht den steuerpflichtigen Gewinn wie Gruppe II, sondern sie kürzen den  Gewinn vor Steuer zum letztlich handelsbilanziellen Gewinn nach Steuer."]
[]
[null,"Bei eingetragenen Kaufleuten (= e.K.) und den Personengesellschaften (OHG, KG) ist dies die Einkommensteuer. Sie wird verbucht auf dem Konto Privatentnahme (= Unterkonto vom EK-Konto = erfolgsneutral, also keine Gewinnauswirkung)."]
[]
[null,"Bei Kapitalgesellschaften (GmbH, AG) ist dies die Köperschaftsteuer. Da Kapitalgesellschaften kein Privatkonto haben, wird ein gesondertes Konto Körperschaftsteuer (Aufwandskonto) in der eingerichtet. "]

{"sheet":"18","index":29,"n_rows":117,"n_cols":38,"rows_kept":117,"cut":false,"hidden":false,"merged":[[37,22,37,30],[1,0,1,52],[16,31,16,34],[22,1,22,37],[22,38,22,46],[27,14,27,17],[15,9,15,17],[9,12,9,31],[10,9,10,17],[10,18,10,21],[10,22,10,30],[10,31,10,34],[13,9,13,17],[13,18,13,21],[13,22,13,30],[13,31,13,34],[12,9,12,17],[12,18,12,21],[12,22,12,30],[12,31,12,34],[11,9,11,17],[11,18,11,21],[11,22,11,30],[11,31,11,34],[15,18,15,21],[14,9,14,17],[18,1,18,51],[32,1,32,51],[16,18,16,21],[16,22,16,30],[15,22,15,30],[15,31,15,34],[16,9,16,17],[14,22,14,30],[14,31,14,34],[14,18,14,21],[28,14,28,17],[29,14,29,17],[34,12,34,31],[45,18,45,21],[36,9,36,17],[36,18,36,21],[36,22,36,30],[36,31,36,34],[43,9,43,17],[43,18,43,21],[43,22,43,30],[43,31,43,34],[35,9,35,17],[35,18,35,21],[35,22,35,30],[35,31,35,34],[41,12,41,31],[42,9,42,17],[42,18,42,21],[42,22,42,30],[42,31,42,34],[38,9,38,17],[38,18,38,21],[38,22,38,30],[38,31,38,34],[37,9,37,17],[37,31,37,34],[56,17,56,20],[56,37,56,40],[51,9,51,17],[51,18,51,21],[51,22,51,30],[51,31,51,34],[50,9,50,17],[44,9,44,17],[44,18,44,21],[44,22,44,30],[44,31,44,34],[45,9,45,17],[45,22,45,30],[45,31,45,34],[50,18,50,21],[50,22,50,30],[50,31,50,34],[48,12,48,31],[49,9,49,17],[49,18,49,21],[49,22,49,30],[49,31,49,34],[37,18,37,21],[57,7,57,16],[57,17,57,20],[57,37,57,40],[52,9,52,17],[52,18,52,21],[52,22,52,30],[52,31,52,34],[58,7,58,16],[58,17,58,20],[58,37,58,40],[60,7,60,16],[60,17,60,20],[60,37,60,40],[70,14,70,17],[71,14,71,17],[83,12,83,31],[75,0,75,52],[78,1,78,51],[61,7,61,16],[61,17,61,20],[61,37,61,40],[69,14,69,17],[85,9,85,17],[85,18,85,21],[85,22,85,30],[85,31,85,34],[84,9,84,17],[84,18,84,21],[84,22,84,30],[84,31,84,34],[87,9,87,17],[87,18,87,21],[87,22,87,30],[87,31,87,34],[86,9,86,17],[86,18,86,21],[86,22,86,30],[86,31,86,34],[92,9,92,17],[92,18,92,21],[92,22,92,30],[92,31,92,34],[90,12,90,31],[91,9,91,17],[91,18,91,21],[91,22,91,30],[91,31,91,34],[94,18,94,21],[94,22,94,30],[94,31,94,34],[93,9,93,17],[93,18,93,21],[93,22,93,30],[93,31,93,34],[99,9,99,17],[99,18,99,21],[99,22,99,30],[99,31,99,34],[97,12,97,31],[98,9,98,17],[98,18,98,21],[98,22,98,30],[98,31,98,34],[1,53,1,58],[75,53,75,58],[111,7,111,16],[111,17,111,20],[111,37,111,40],[108,7,108,16],[108,17,108,20],[108,37,108,40],[110,7,110,16],[110,17,110,20],[101,9,101,17],[101,18,101,21],[101,22,101,30],[101,31,101,34],[100,18,100,21],[100,22,100,30],[100,31,100,34],[110,37,110,40],[106,17,106,20],[106,37,106,40],[107,7,107,16],[107,17,107,20],[107,37,107,40],[94,9,94,17]]}
[]
[{"$f":"'17'!A2:BA2+1","v":90}]
[]
[null,18,"Bestandsveränderungen an unfertigen und fertigen Erzeugnissen"]
[]
[null,"Problem"]
[]
[]
[]
[null,null,null,null,null,null,null,null,null,"Aufw.",null,null,"Gewinn- und Verlustrechnung (GuV)",null,null,null,null,null,null,null,null,null,null,null,null,null,null,null,null,null,null,null,null,null,"Erträge"]
["Aufwendungen im",null,null,null,null,null,null,null,null,"Material",null,null,null,null,null,null,null,null,200000,null,null,null,"Umsatzerlöse",null,null,null,null,null,null,null,null,600000,null,null,null,null,"Umsatzerlöse"]
["Geschäftsjahr für",null,null,null,null,null,null,null,null,"Personal",null,null,null,null,null,null,null,null,200000,null,null,null,"Lücke: 200 PKW",null,null,null,null,null,null,null,null,null,null,null,null,null,"Geschäftsjahr für"]
["1.000 PKWs",null,null,null,null,null,null,null,null,"Abschreibung",null,null,null,null,null,null,null,null,100000,null,null,null,null,null,null,null,null,null,null,null,null,null,null,null,null,null,"800 PKWs"]
[]
[null,null,null,null,null,null,null,null,null,"Gewinn",null,null,null,null,null,null,null,null,{"$f":"AF11-S11-S12-S13","v":100000}]
[]
[null,null,null,null,null,null,null,null,null,null,null,null,null,null,null,null,null,null,{"$f":"SUM(S11:V16)","v":600000},null,null,null,null,null,null,null,null,null,null,null,null,{"$f":"SUM(AF11:AI16)","v":600000}]
[]
[null,"Aufwand und Erträge dürfen deshalb nicht miteinander verglichen werden, weil sie sich auf unterschiedliche Mengen beziehen. Normalerweise sind hergestellte und verkaufte Menge nicht gleich.\n"]
[]
[null,"• Aufwendungen entstehen durch die produzierte Menge."]
[]
[null,"• Erträge entstehen durch die abgesetzte Menge."]
[]
[]
[null,"Beispiel 1:"]
[]
[null,null,null,null,null,null,null,null,null,null,null,null,null,"Unfertige Erzeugnisse EB 31.12.11",30000]
[null,null,null,null,null,null,null,null,null,null,null,null,null,"Unfertige Erzeugnisse EB 31.12.12",40000]
[null,null,null,null,null,null,null,null,null,null,null,null,null,null,{"$f":"O29-O28","v":10000},null,null,null,"MEHR bestand"]
[]
[]
[null,"Für diesen Mehrbestand fiel Aufwand an (in 500.000 € enthalten), während aber noch keine Umsatzerlöse anfielen ( = nicht verkauft). Es wurde mehr produziert als verkauft. Folglich sind die Erträge von 600.000 € eigentlich zu niedrig. Damit ist auch der Gewinn zu niedrig. Ein Mehrbestand ist also ein ERTRAG (BESTANDSERHÖHUNG).\n"]
[]
[null,null,null,null,null,null,null,null,null,"Soll",null,null," (Un-) Fertige Erzeugnisse",null,null,null,null,null,null,null,null,null,null,null,null,null,null,null,null,null,null,null,null,null,"Haben"]
["BESTANDS-",null,null,null,null,null,null,null,null,"AB",null,null,null,null,null,null,null,null,30000]
["konto",null,null,null,null,null,null,null,null,"Bestandserhöhung",null,null,null,null,null,null,null,null,{"$f":"AF37-S36","v":10000},null,null,null,"EB",null,null,null,null,null,null,null,null,40000]
[]
[null,null,null,null,null,null,null,null,null,null,null,null,null,null,null,null,null,null,{"$f":"SUM(S36:V38)","v":40000},null,null,null,null,null,null,null,null,null,null,null,null,{"$f":"SUM(AF36:AI38)","v":40000}]
[]
[]
[null,null,null,null,null,null,null,null,null,"Soll",null,null,"Bestandsveränderungen",null,null,null,null,null,null,null,null,null,null,null,null,null,null,null,null,null,null,null,null,null,"Haben"]
["ERFOLGS-",null,null,null,null,null,null,null,null,"Saldo => GuV",null,null,null,null,null,null,null,null,{"$f":"AF43","v":10000},null,null,null,{"$f":"J37","v":"Bestandserhöhung"},null,null,null,null,null,null,null,null,{"$f":"S37","v":10000}]
["konto"]
[]
[null,null,null,null,null,null,null,null,null,null,null,null,null,null,null,null,null,null,{"$f":"SUM(S43:V45)","v":10000},null,null,null,null,null,null,null,null,null,null,null,null,{"$f":"SUM(AF43:AI45)","v":10000}]
[]
[]
[null,null,null,null,null,null,null,null,null,"Soll",null,null,"GuV",null,null,null,null,null,null,null,null,null,null,null,null,null,null,null,null,null,null,null,null,null,"Haben"]
[null,null,null,null,null,null,null,null,null,"div. Aufwendungen",null,null,null,null,null,null,null,null,500000,null,null,null,"div. Erträge",null,null,null,null,null,null,null,null,600000]
[null,null,null,null,null,null,null,null,null,"Gewinn",null,null,null,null,null,null,null,null,{"$f":"AF53-S50","v":110000},null,null,null,{"$f":"W43","v":"Bestandserhöhung"},null,null,null,null,null,null,null,null,{"$f":"S43","v":10000}]
[]
[null,null,null,null,null,null,null,null,null,null,null,null,null,null,null,null,null,null,{"$f":"SUM(S50:V52)","v":610000},null,null,null,null,null,null,null,null,null,null,null,null,{"$f":"SUM(AF50:AI52)","v":610000}]
[]
[]
[]
[null,"Buchungssatz:",null,null,null,null,null,"Soll",null,null,null,null,null,null,null,null,null,{"$f":"SUM(R58:U59)","v":10000},null,null,null,null,null,"Haben",null,null,null,null,null,null,null,null,null,null,null,null,null,{"$f":"SUM(AL58:AO59)","v":10000}]
[null,"Bestands-",null,null,null,null,null,{"$f":"M35","v":" (Un-) Fertige Erzeugnisse"},null,null,null,null,null,null,null,null,null,{"$f":"S37","v":10000},null,null,null,"an",null,{"$f":"M42","v":"Bestandsveränderungen"},null,null,null,null,null,null,null,null,null,null,null,null,null,{"$f":"AF43","v":10000}]
[null,"erhöhung"]
[]
[null,"Abschluss",null,null,null,null,null,{"$f":"M42","v":"Bestandsveränderungen"},null,null,null,null,null,null,null,null,null,{"$f":"S43","v":10000},null,null,null,"an",null,{"$f":"M49","v":"GuV"},null,null,null,null,null,null,null,null,null,null,null,null,null,{"$f":"AF51","v":10000}]
[null,"BVÄ"]
[]
[]
[]
[]
[]
[null,"Beispiel 2:"]
[]
[null,null,null,null,null,null,null,null,null,null,null,null,null,{"$f":"N28","v":"Unfertige Erzeugnisse EB 31.12.11"},65000]
[null,null,null,null,null,null,null,null,null,null,null,null,null,{"$f":"N29","v":"Unfertige Erzeugnisse EB 31.12.12"},28000]
[null,null,null,null,null,null,null,null,null,null,null,null,null,null,{"$f":"O71-O70","v":-37000},null,null,null,"MINDER bestand"]
[]
[]
[]
[{"$f":"A2+1","v":91}]
[]
[]
[null,"Für diesen Minderbestand fielen Erlöse an (in 600.000 € enthalten), denn was nicht mehr da ist, wurde ja verkauft. Da hier aber mehr verkauft als produziert wurde, ist der Minderbestand sozusagen ein Einsatz, der auf schon im Vorjahr(e) produzierte „Reserven“ zurückgreift. Die Aufwendungen hierfür sind also als Verbrauch in der GuV-Rechnung des Vorjahr(e)s enthalten. Damit sind die Aufwendungen von 500.000 € zu niedrig. Damit ist der Gewinn zu hoch. Ein Minderbestand ist also ein Aufwand.\n"]
[]
[]
[]
[]
[null,null,null,null,null,null,null,null,null,"Soll",null,null," (Un-) Fertige Erzeugnisse",null,null,null,null,null,null,null,null,null,null,null,null,null,null,null,null,null,null,null,null,null,"Haben"]
["BESTANDS-",null,null,null,null,null,null,null,null,"AB",null,null,null,null,null,null,null,null,{"$f":"O70","v":65000},null,null,null,"Bestandsminderung",null,null,null,null,null,null,null,null,{"$f":"S85-AF86","v":37000}]
["konto",null,null,null,null,null,null,null,null,null,null,null,null,null,null,null,null,null,null,null,null,null,"EB",null,null,null,null,null,null,null,null,{"$f":"O71","v":28000}]
[]
[null,null,null,null,null,null,null,null,null,null,null,null,null,null,null,null,null,null,{"$f":"SUM(S85:V87)","v":65000},null,null,null,null,null,null,null,null,null,null,null,null,{"$f":"SUM(AF85:AI87)","v":65000}]
[]
[]
[null,null,null,null,null,null,null,null,null,"Soll",null,null,"Bestandsveränderungen (BVÄ)",null,null,null,null,null,null,null,null,null,null,null,null,null,null,null,null,null,null,null,null,null,"Haben"]
["ERFOLGS-",null,null,null,null,null,null,null,null,"Bestandsminderung",null,null,null,null,null,null,null,null,{"$f":"AF85","v":37000},null,null,null,"=> GuV",null,null,null,null,null,null,null,null,{"$f":"AF85","v":37000}]
["konto"]
[]
[null,null,null,null,null,null,null,null,null,null,null,null,null,null,null,null,null,null,{"$f":"SUM(S92:V94)","v":37000},null,null,null,null,null,null,null,null,null,null,null,null,{"$f":"SUM(AF92:AI94)","v":37000}]
[]
[]
[null,null,null,null,null,null,null,null,null,"Soll",null,null,"GuV",null,null,null,null,null,null,null,null,null,null,null,null,null,null,null,null,null,null,null,null,null,"Haben"]
[null,null,null,null,null,null,null,null,null,"div. Aufwendungen",null,null,null,null,null,null,null,null,500000,null,null,null,"div. Erträge",null,null,null,null,null,null,null,null,600000]
[null,null,null,null,null,null,null,null,null,"BVÄ",null,null,null,null,null,null,null,null,{"$f":"AF92","v":37000}]
[null,null,null,null,null,null,null,null,null,"Gewinn",null,null,null,null,null,null,null,null,{"$f":"AF102-S99-S100","v":63000}]
[null,null,null,null,null,null,null,null,null,null,null,null,null,null,null,null,null,null,{"$f":"SUM(S99:V101)","v":600000},null,null,null,null,null,null,null,null,null,null,null,null,{"$f":"SUM(AF99:AI101)","v":600000}]
[]
[]
[]
[]
[null,"Buchungssatz:",null,null,null,null,null,"Soll",null,null,null,null,null,null,null,null,null,{"$f":"SUM(R108:U109)","v":37000},null,null,null,null,null,"Haben",null,null,null,null,null,null,null,null,null,null,null,null,null,{"$f":"SUM(AL108:AO109)","v":37000}]
[null,"Bestands-",null,null,null,null,null,{"$f":"M91","v":"Bestandsveränderungen (BVÄ)"},null,null,null,null,null,null,null,null,null,{"$f":"S92","v":37000},null,null,null,"an",null,{"$f":"M84","v":" (Un-) Fertige Erzeugnisse"},null,null,null,null,null,null,null,null,null,null,null,null,null,{"$f":"AF85","v":37000}]
[null,"minderung"]
[]
[null,"Abschluss",null,null,null,null,null,{"$f":"M98","v":"GuV"},null,null,null,null,null,null,null,null,null,{"$f":"S100","v":37000},null,null,null,"an",null,{"$f":"M91","v":"Bestandsveränderungen (BVÄ)"},null,null,null,null,null,null,null,null,null,null,null,null,null,{"$f":"AF92","v":37000}]
[null,"BVÄ"]
[]
[]
[null,"• MEHRbestand: Bestandsveränderungen: EROLGSkonto (ERTRAG)"]
[]
[null,"• MINDERbestand: Bestandsveränderungen: EROLGSkonto (AUFWAND)"]

{"sheet":"19","index":30,"n_rows":338,"n_cols":97,"rows_kept":338,"cut":false,"hidden":false,"merged":[[179,1,179,6],[196,0,196,52],[200,1,200,56],[190,17,190,20],[190,37,190,40],[187,37,187,40],[189,37,189,40],[184,17,184,20],[184,37,184,40],[186,7,186,16],[186,17,186,20],[186,37,186,40],[183,17,183,20],[183,37,183,40],[179,16,179,18],[179,20,179,22],[179,24,179,26],[179,28,179,30],[179,37,179,39],[69,0,69,52],[94,1,94,56],[120,1,120,56],[141,0,141,52],[267,8,267,35],[205,8,205,14],[99,8,99,14],[190,1,190,4],[190,7,190,16],[76,11,76,22],[216,7,216,16],[216,17,216,20],[202,1,202,14],[203,1,203,14],[203,16,203,18],[187,1,187,4],[187,7,187,16],[187,17,187,20],[189,7,189,16],[189,17,189,20],[192,17,192,20],[193,7,193,16],[184,7,184,16],[149,1,149,56],[60,17,60,20],[59,17,59,20],[60,37,60,40],[59,37,59,40],[38,1,38,56],[36,0,36,52],[40,1,40,56],[49,1,49,56],[52,4,52,6],[52,8,52,10],[52,11,52,22],[51,1,51,6],[298,0,298,52],[303,1,303,56],[304,1,304,56],[294,1,294,56],[75,1,75,6],[335,1,335,56],[1,0,1,52],[7,1,7,56],[9,1,9,56],[11,1,11,56],[13,1,13,56],[15,1,15,56],[265,0,265,52],[290,1,290,56],[292,1,292,56],[300,1,300,56],[203,20,203,22],[205,37,205,39],[205,16,205,18],[205,20,205,22],[205,28,205,30],[205,32,205,34],[215,37,215,40],[60,7,60,16],[177,11,177,14],[177,16,177,18],[177,20,177,22],[164,7,164,16],[164,17,164,20],[164,37,164,40],[165,1,165,4],[165,7,165,16],[165,17,165,20],[165,37,165,40],[174,1,174,56],[176,11,176,14],[177,8,177,10],[161,7,161,16],[161,17,161,20],[161,37,161,40],[162,1,162,4],[162,7,162,16],[162,17,162,20],[162,37,162,40],[158,17,158,20],[158,37,158,40],[159,7,159,16],[159,17,159,20],[159,37,159,40],[154,8,154,10],[152,8,152,10],[152,11,152,14],[152,16,152,18],[137,37,137,40],[138,1,138,4],[138,7,138,16],[138,17,138,20],[138,37,138,40],[137,7,137,16],[137,17,137,20],[154,24,154,26],[154,28,154,30],[154,32,154,34],[154,37,154,39],[154,11,154,14],[152,20,152,22],[151,11,151,14],[154,16,154,18],[154,20,154,22],[154,1,154,6],[128,1,128,6],[130,1,130,6],[130,7,130,14],[134,17,134,20],[134,37,134,40],[135,17,135,20],[135,37,135,40],[125,16,125,18],[125,20,125,22],[125,24,125,26],[126,5,126,8],[108,17,108,20],[109,17,109,20],[109,37,109,40],[111,37,111,40],[109,7,109,16],[125,28,125,30],[112,37,112,40],[125,32,125,34],[125,37,125,39],[81,17,81,20],[81,37,81,40],[78,24,78,26],[78,1,78,6],[112,1,112,4],[111,7,111,16],[111,17,111,20],[125,1,125,6],[122,1,122,14],[123,1,123,14],[102,1,102,6],[102,7,102,14],[99,16,99,18],[99,1,99,2],[99,4,99,6],[112,17,112,20],[104,1,104,6],[104,7,104,14],[112,7,112,16],[100,5,100,8],[123,16,123,18],[123,20,123,22],[78,11,78,22],[108,37,108,40],[76,8,76,10],[73,1,73,56],[54,24,54,26],[54,28,54,30],[54,32,54,34],[54,37,54,39],[54,1,54,6],[54,11,54,22],[99,32,99,34],[99,37,99,39],[82,37,82,40],[99,20,99,22],[99,24,99,26],[99,28,99,30],[84,17,84,20],[78,28,78,30],[78,32,78,34],[78,37,78,39],[84,37,84,40],[89,1,89,42],[97,16,97,18],[97,20,97,22],[97,1,97,14],[96,1,96,14],[233,37,233,39],[216,37,216,40],[215,17,215,20],[54,8,54,10],[211,1,211,6],[205,24,205,26],[82,7,82,16],[82,17,82,20],[125,8,125,10],[125,11,125,14],[192,37,192,40],[211,7,211,14],[205,1,205,6],[207,5,207,8],[209,1,209,6],[209,7,209,14],[128,7,128,14],[135,7,135,16],[78,8,78,10],[84,7,84,16],[62,7,62,16],[62,17,62,20],[62,37,62,40],[76,4,76,6],[222,1,222,4],[222,7,222,16],[222,17,222,20],[222,37,222,40],[230,1,230,14],[228,1,228,56],[231,1,231,14],[231,16,231,18],[231,20,231,22],[218,7,218,16],[218,17,218,20],[218,37,218,40],[219,1,219,4],[219,37,219,40],[219,7,219,21],[221,7,221,16],[221,17,221,20],[221,37,221,40],[233,24,233,26],[233,28,233,30],[233,32,233,34],[233,16,233,18],[239,1,239,6],[256,13,256,18],[256,19,256,41],[233,1,233,6],[237,7,237,14],[233,7,233,14],[247,1,247,4],[247,7,247,16],[247,17,247,20],[239,7,239,14],[243,17,243,20],[235,5,235,8],[247,37,247,40],[244,7,244,16],[244,17,244,20],[244,37,244,40],[246,7,246,16],[246,17,246,20],[246,37,246,40],[233,20,233,22],[237,1,237,6],[258,1,258,43],[260,1,260,43],[262,1,262,43],[249,7,249,16],[249,17,249,20],[249,37,249,40],[250,1,250,4],[250,7,250,16],[250,17,250,20],[250,37,250,40],[243,37,243,40],[307,37,307,40],[310,1,310,49],[306,17,306,20],[306,37,306,40],[17,1,17,56],[19,1,19,56],[21,1,21,56],[30,1,30,56],[24,0,24,52],[32,1,32,56],[193,17,193,20],[193,37,193,40],[168,17,168,20],[168,37,168,40],[169,7,169,16],[169,17,169,20],[169,37,169,40],[179,8,179,10],[179,11,179,14],[179,32,179,34],[271,9,271,17],[271,18,271,21],[271,22,271,30],[271,31,271,34],[312,14,312,17],[313,14,313,17],[314,14,314,17],[311,14,311,17],[307,7,307,16],[307,17,307,20],[311,24,311,27],[312,24,312,27],[313,24,313,27],[314,24,314,27],[311,19,311,22],[312,19,312,22],[313,19,313,22],[314,19,314,22],[316,14,316,17],[316,19,316,22],[316,24,316,27],[319,14,319,17],[319,19,319,22],[319,24,319,27],[322,37,322,40],[323,7,323,16],[323,17,323,20],[323,37,323,40],[320,14,320,17],[320,19,320,22],[322,17,322,20],[320,24,320,28],[326,37,326,40],[327,7,327,16],[327,17,327,20],[327,37,327,40],[324,7,324,16],[324,17,324,20],[326,7,326,16],[326,17,326,20],[337,1,337,49],[332,7,332,16],[332,17,332,20],[336,1,336,49],[330,7,330,16],[330,17,330,20],[330,37,330,40],[331,7,331,16],[331,17,331,20],[331,37,331,40],[267,96,267,99],[269,12,269,31],[270,9,270,17],[270,18,270,21],[270,22,270,30],[270,31,270,34],[273,9,273,17],[273,18,273,21],[273,22,273,30],[273,31,273,34],[272,9,272,17],[272,18,272,21],[272,22,272,30],[272,31,272,34],[275,9,275,17],[275,18,275,21],[275,22,275,30],[275,31,275,34],[274,9,274,17],[274,18,274,21],[274,22,274,30],[274,31,274,34],[277,9,277,17],[277,18,277,21],[277,22,277,30],[277,31,277,34],[276,9,276,17],[276,18,276,21],[276,22,276,30],[276,31,276,34],[279,22,279,30],[279,31,279,34],[278,9,278,17],[278,18,278,21],[278,22,278,30],[278,31,278,34],[280,9,280,17],[280,18,280,21],[280,22,280,30],[280,31,280,34],[265,53,265,56],[298,53,298,56],[1,53,1,56],[24,53,24,56],[36,53,36,56],[69,53,69,56],[141,53,141,56],[196,53,196,56],[296,1,296,56],[34,1,34,56],[281,9,281,17],[281,18,281,21],[281,22,281,30],[281,31,281,34],[284,9,284,17],[284,18,284,21],[284,22,284,30],[284,31,284,34],[283,9,283,17],[283,18,283,21],[283,22,283,30],[283,31,283,34],[279,9,279,17],[279,18,279,21]]}
[]
[{"$f":"'18'!A76:BA76+1","v":92}]
[]
[]
[null,"19","Zeitliche Abgrenzung"]
[null,"19.1","Vier Formen von Rechnungsabgrenzungsposten"]
[]
[null,"Insgesamt sind vier Fallkonstellationen zu unterscheiden, in denen die Zahlung und die Ertrags- bzw.\ndie Aufwandswirkung eines Vorganges in verschiedenen Perioden liegen:\nAntizipative („vorwegnehmende“) Posten sind Fälle, in denen die Zahlung erst im neuen Jahr erfolgt, aber schon im alten Geschäftsjahr vorweggenommen wird. Man unterscheidet:\n"]
[]
[null,"1. Antizipativer Passivposten (sonstige Verbindlichkeiten): \nWir bezahlen eine Verbindlichkeit, die dem alten Geschäftsjahr zuzuordnen ist, erst im neuen Geschäftsjahr, zum Beispiel Löhne, SV-Schulden usw. antizipativer Passivposten sind bei den sonstige Verbindlichkeiten zu buchen, wenn sich nicht ohnehin schon gebucht worden sind. Eingangsrechnungen sind beispielsweise Nachzahlungen, aber keine antizipativen Passivposten, weil sie bereits bei Eingang gebucht wurden.\n"]
[]
[null,"2. Antizipativer Aktivposten (sonstige Vermögensgegenstände/Forderungen): \nUns wird eine Forderung, die dem alten Geschäftsjahr angehört, nachschüssig, d. h., erst im neuen Jahr bezahlt. Antizipativative Aktivposten sind ebenfalls nur zu buchen, wenn dies nicht ohnehin schon geschehen ist. Ausgangsrechnungen beispielsweise werden bei Rechnungslegung verbucht und führen daher nicht mehr zu antizipativen Passivposten, obwohl zweifelsfrei eine Nachzahlung vorliegt, die auch ins folgende Geschäftsjahr reichen kann.\n"]
[]
[null,"Transistorische („hinübergehende“) Posten sind Fälle, in denen die Zahlung schon im alten Jahr vorgenommen wird, aber teilweise oder ganz dem neuen Jahr angehört, also in dieses „mitgenommen“ werden muß. Man unterscheidet:\n"]
[]
[null,"3. Transitorischer Aktivposten (ARAP): \nWir bezahlen eine Rechnung vorschüssig, z.B. zahlen wir einen Versicherungsbeitrag für das Folgejahr schon im alten Geschäftsjahr. Der dem neuen Jahr angehörende Betrag oder Teilbetrag ist am Ende des alten Jahres über die aktiven Rechnungsabgrenzungsposten auszubuchen, so dass er nicht GuV-wirksam wird, und bei Eröffnung des neuen Jahres in das jeweilige Aufwandskonto zurückzubuchen.\n"]
[]
[null,"4. Transitorischer Passivposten (PRAP): \nUns wird vorschüssig eine Forderung bezahlt, beispielsweise geht die Miete vom Mieter für Januar bereits im Dezember bei uns ein. Der dem alten Wirtschaftsjahr angehörende Betrag oder Teilbetrag ist über die passiven Rechnungsabgrenzungsposten aus der GuV-Rechnung des alten\nJahres fernzuhalten, und aus dieser am Beginn des Folgejahres in das Ertragskonto vorzutragen."]
[]
[null,"Während bei den transitorischen Rechnungsabgrenzungsposten ein zuvor in voller Höhe erfolgswirksam verbuchter Zahlungsvorgang hinsichtlich seiner Erfolgswirksamkeit ganz oder teilweise neutralisiert wird, werden bei den antizipativen Rechnungsabgrenzungsposten die der Zahlung im neuen Geschäftsjahr vorausgehenden Erfolgswirkungen im Rahmen der vorbereitenden Abschlussbuchungen erstmals erfasst.\n"]
[]
[null,"Für transitorische Rechnungsabgrenzungsposten sieht das Bilanzrecht gesonderte Aktiv- und Passivposten vor, die ohne Vermögensgegenstand oder Schuld zu sein, in den Jahresabschluss aufgenommen werden dürfen, sofern es sich um vorschüssige Zahlungen für Aufwendungen bzw. Erträge für eine bestimmte Zeit nach dem Bilanzstichtag handelt (§ 250, Abs. 2 HGB; § 5 Abs. 5 EStG). Sie werden als aktive bzw. passive Rechnungsabgrenzungsposten ausgewiesen. Antizipative Rechnungsabgrenzungsposten sind dagegen unter den Posten „Sonstige Forderungen“\nbzw. „Sonstige Verbindlichkeiten“ ohne gesonderte Erwähnung auszuweisen.\n"]
[]
[]
[{"$f":"A2+1","v":93}]
[]
[null,"19.2","Verbuchung von Rechnungsabgrenzungsposten (RAP)"]
[]
[null,"Ziel: periodengerechte Erfolgsermittlung"]
[]
[null,"Die Buchungen der antizipativen Aktivposten\nWir erhalten einen Zinsertrag von 600 € für das alte Jahr von einem Darlehensschuldner erst im Folgejahr. Zum Ende des alten Jahres ist der Betrag als Sonstige Forderung auszuweisen:\n\nSonstige Forderungen ................................... 600\nan Zinserträge ..................................................... 600\n\nBei Eingang der Summe kann auf normale Weise der\nZahlungseingang gegen die Forderung abgerechnet werden:\n\nBank ............................................................ 600\nan Sonstige Forderungen .................................... 600\n"]
[]
[null,"Die Buchungen der antizipativen Passivposten\nWir haben Büromaterial im Wert von 1.000 € erhalten, aber die Rechnung steht zum Jahresende noch aus. Hier wäre die Buchung:\n\nBüroaufwendungen .................................... 1.000\nan Sonstige Verbindlichkeiten ......................... 1.000\n(oder alternativ: Rückstellung für ausstehende Rechnungen ...1.000)\nMan beachte, dass noch keine Rechnung vorliegt, und daher auch der Ausweis der Vorsteuer unzulässig wäre! Geht die Rechnung des Lieferanten im Folgejahr ein, so wäre zu buchen:\n\nSonstige Verbindlichkeiten ........................ 1.000\nVorsteuer ...................................................... 190\nan Bank........................................................... 1.190\n\nDie Zahlung dieser Rechnung stellt sich dann auf die übliche Art und Weise dar.\n"]
[]
[null,"Die Buchungen der transistorischen Aktivposten\nWir zahlen am 1. April eine Versicherungsprämie in Höhe von 1.200 € für ein Jahr im voraus. Das wäre (ohne Berücksichtigung der Sollstellung) zu buchen:\n\nVersicherungsaufwand ............................... 1.200\nan Bank    ............................................................ 1.200\n\nAm Jahresende ist der Betrag, der in das Folgejahr vorausgezahlt wurde, abzugrenzen:\n\nAktive Rechnungsabgrenzung (ARAP) ...................... 300\nan Versicherungsaufwand.............................................. 300"]
[]
[{"$f":"A25+1","v":94}]
[]
[null,"Auf diese Art ist der Teilbetrag von 300 € für die Monate Januar bis März des Folgejahres aus dem alten Jahresabschluss entfernt worden. Nach Wiedereröffnung der Buchführung im Folgejahr wird diese Position aufgelöst:\n\nVersicherungsaufwand .................................. 300\nan Aktive Rechnungsabgrenzung   ....................... 300\n\nInsgesamt wurden nunmehr 900 € in das alte Jahr gerechnet und 300 € dem neuen Jahr zugeordnet.\n"]
[]
[null,"Die Buchungen der transitorischen Passivposten\nWir haben von einem Mieter am 1. Oktober die Miete für ein Jahr im voraus erhalten. Das wäre (ohne Berücksichtigung der Sollstellung) zu buchen:\nBank ......................................................... 2.400\nan Mieterträge    .................................................. 2.400\n\nAm Jahresende müssen neun Monate abgegrenzt werden, weil diese dem neuen Jahr angehören. Hierzu ist der Betrag von 1.800 € als passive Rechnungsabgrenzung der alten GuV-Rechnung zu entziehen:\nMieterträge ................................................. 1.800\nan Passive Rechnungsabgrenzung (PRAP)................... 1.800\nNach Wiedereröffnung der Buchführung im Folgejahr könnte nunmehr der abgegrenzte Betrag in die Buchhaltung des neuen Jahres eingebracht werden:\nPassive Rechnungsabgrenzung .................. 1.800\nan Mieterträge    .................................................. 1.800\n"]
[]
[]
[null,"19.3","Übungsfälle zur Abgrenzung sonstiger Erträge / Aufwendungen"]
[null,null,"(abzugrenzende Bilanz-Posten)"]
[]
[]
[null,"Beispiel 1:"]
[]
[null,"Die Hundesteuer für den Wachkampfhund Idefix für das Jahr 2011 \nwird erst am 04.01.2012 fällig:  200 €."]
[]
[null,"AUFWAND"]
[null,null,null,null,null,null,null,null,null,null,null,"Bezahlung"]
[]
[null,"31.12.2011",null,null,null,null,null,null,null,null,null,"04.01.2012",null,null,null,null,null,null,null,null,null,null,null,null,null,null,null,null,null,null,null,null,null,null,null,null,null,null,null,null,"Zeit"]
[]
[]
[]
[]
[null,"Buchungssatz:",null,null,null,null,null,"Soll",null,null,null,null,null,null,null,null,null,{"$f":"SUM(R61:U61)","v":200},null,null,null,null,null,"Haben",null,null,null,null,null,null,null,null,null,null,null,null,null,{"$f":"SUM(AL61:AO61)","v":200}]
[null,"AUFWAND 2011",null,null,null,null,null,"sonst.betr. Aufwendungen",null,null,null,null,null,null,null,null,null,200,null,null,null,"an",null,"sonst.Verblk.",null,null,null,null,null,null,null,null,null,null,null,null,null,{"$f":"R61","v":200}]
[]
[null,"Bezahlung 2012",null,null,null,null,null,{"$f":"X61","v":"sonst.Verblk."},null,null,null,null,null,null,null,null,null,{"$f":"AL61","v":200},null,null,null,"an",null,"Bank",null,null,null,null,null,null,null,null,null,null,null,null,null,{"$f":"R63","v":200}]
[]
[]
[null,"=> Gewinnminderung in 2011"]
[]
[]
[]
[{"$f":"A37+1","v":95}]
[]
[null,"Beispiel 2:"]
[]
[null,"Unser Mieter muss uns im Januar 2012 noch die Dezembermiete für 2011 bezahlen: 900 €."]
[]
[null,"ERTRAG"]
[null,null,null,null,null,null,null,null,null,null,null,"Bezahlung"]
[]
[null,{"$f":"B55","v":"31.12.2011"},null,null,null,null,null,null,null,null,null,"04.01.2012",null,null,null,null,null,null,null,null,null,null,null,null,null,null,null,null,null,null,null,null,null,null,null,null,null,null,null,null,"Zeit"]
[]
[]
[null,"Buchungssatz:",null,null,null,null,null,"Soll",null,null,null,null,null,null,null,null,null,{"$f":"SUM(R83:U83)","v":900},null,null,null,null,null,"Haben",null,null,null,null,null,null,null,null,null,null,null,null,null,{"$f":"SUM(AL83:AO83)","v":900}]
[null,"ERTRAG 2011",null,null,null,null,null,"Sonst. Forderungen",null,null,null,null,null,null,null,null,null,900,null,null,null,"an",null,"Mietertrag",null,null,null,null,null,null,null,null,null,null,null,null,null,{"$f":"R83","v":900}]
[]
[null,{"$f":"B63","v":"Bezahlung 2012"},null,null,null,null,null,"Bank",null,null,null,null,null,null,null,null,null,{"$f":"AL83","v":900},null,null,null,"an",null,"Sonst. Forderung",null,null,null,null,null,null,null,null,null,null,null,null,null,{"$f":"R85","v":900}]
[]
[null,"=> Gewinnerhöhung in 2011"]
[]
[]
[null,"Ein- und Auszahlung (CASH) ist jeweils im Folge-Jahr (= 2012) \nErfolgsauswirkung ist noch im laufenden Jahr (= 2011)"]
[]
[]
[null,"Beispiel 3:"]
[]
[null,"Interessanter wird das Problem, wenn z.B. im Beispiel 1 die Hundesteuer (gesamt: 200 €) für den Zeitraum vom 01.07.2011 bis zum 30.06.2012 erst am 30.06.2012 bezahlt werden müsste. Dann würde die sonst. Verbindlichkeit am 31.12.2011 betragen:\n"]
[]
[null,"AUFWAND"]
[]
[]
[null,"2011-07-01",null,null,null,null,null,null,"2012-06-30",null,null,null,null,null,null,null,null,null,null,null,null,null,null,null,null,null,null,null,null,null,null,null,null,null,null,null,null,null,null,null,"Zeit"]
[null,null,null,null,null,"2011-12-31"]
[]
[null,"6 Monate",null,null,null,null,null,"6 Monate"]
[]
[null,{"$f":"200/12*6","v":100},null,null,null,null,null,{"$f":"200/12*6","v":100}]
[]
[]
[]
[null,"Buchungssatz:",null,null,null,null,null,"Soll",null,null,null,null,null,null,null,null,null,{"$f":"SUM(R110:U110)","v":100},null,null,null,null,null,"Haben",null,null,null,null,null,null,null,null,null,null,null,null,null,{"$f":"SUM(AL110:AO110)","v":100}]
[null,"Aufwand 2011",null,null,null,null,null,"Sonst. betr. Aufwendungen",null,null,null,null,null,null,null,null,null,100,null,null,null,"an",null,"Sonst. Verblk.",null,null,null,null,null,null,null,null,null,null,null,null,null,{"$f":"R110","v":100}]
[]
[null,"Bezahlung",null,null,null,null,null,{"$f":"X110","v":"Sonst. Verblk."},null,null,null,null,null,null,null,null,null,{"$f":"B105","v":100},null,null,null,"an",null,"Bank",null,null,null,null,null,null,null,null,null,null,null,null,null,{"$f":"H105+B105","v":200}]
[null,"2012-06-30",null,null,null,null,null,{"$f":"H110","v":"Sonst. betr. Aufwendungen"},null,null,null,null,null,null,null,null,null,{"$f":"H105","v":100}]
[]
[]
[]
[]
[]
[null,"Beispiel 4:"]
[]
[null,"Analog könnte unser Mieter Ende Januar 2012 eine Miete für die drei vorausgegangenen Monate Nov./2011, Dez./2011 und Jan./2012 von insg. 2.700 € überweisen. Dann würde die sonst. Forderung betragen:\n"]
[]
[null,"ERTRAG"]
[]
[]
[null,"11 und 12/2011",null,null,null,null,null,null,null,null,null,"01/2012",null,null,null,null,null,null,null,null,null,null,null,null,null,null,null,null,null,null,null,null,null,null,null,null,null,null,null,null,"Zeit"]
[null,null,null,null,null,{"$f":"F101","v":"2011-12-31"}]
[]
[null,"2 Monate",null,null,null,null,null,"1 Monat"]
[]
[null,{"$f":"2700/3*2","v":1800},null,null,null,null,null,{"$f":"2700/3","v":900}]
[]
[]
[]
[null,"Buchungssatz:"]
[null,"Ertrag 2011",null,null,null,null,null,"Sonst. Forderungen",null,null,null,null,null,null,null,null,null,{"$f":"B131","v":1800},null,null,null,"an",null,"Mietertrag",null,null,null,null,null,null,null,null,null,null,null,null,null,{"$f":"B131","v":1800}]
[]
[null,"Bezahlung",null,null,null,null,null,"Bank",null,null,null,null,null,null,null,null,null,{"$f":"H131+B131","v":2700},null,null,null,"an",null,{"$f":"H136","v":"Sonst. Forderungen"},null,null,null,null,null,null,null,null,null,null,null,null,null,{"$f":"R136","v":1800}]
[null,"Ende 01.2012",null,null,null,null,null,null,null,null,null,null,null,null,null,null,null,null,null,null,null,null,null,{"$f":"X136","v":"Mietertrag"},null,null,null,null,null,null,null,null,null,null,null,null,null,{"$f":"H131","v":900}]
[]
[]
[{"$f":"A70+1","v":96}]
[]
[]
[]
[null,"Sonstige Forderungen / Verbindlichkeiten (BILANZ-Posten)"]
[]
[null,"Beispiel 1:"]
[]
[null,"Am 21.12.2011 überweisen wir den IHK-Beitrag für das Jahr 2012 im voraus: 2.400 €.\n"]
[]
[null,null,null,null,null,null,null,null,null,null,null,"Aufwand"]
[null,"Bezahlung"]
[]
[null,"2011-12-21",null,null,null,null,null,null,null,null,null,"2012",null,null,null,null,null,null,null,null,null,null,null,null,null,null,null,null,null,null,null,null,null,null,null,null,null,null,null,null,"Zeit"]
[]
[]
[]
[null,"Buchungssatz:"]
[null,"Bezahlung 2011",null,null,null,null,null,"IHK Beitrag (Aufwand)",null,null,null,null,null,null,null,null,null,2400,null,null,null,"an",null,"Bank",null,null,null,null,null,null,null,null,null,null,null,null,null,{"$f":"R160","v":2400},null,null,null,null,null,"(1)"]
[]
[null,"Abgrenzung",null,null,null,null,null,"Sonst. Forderung",null,null,null,null,null,null,null,null,null,{"$f":"AL160","v":2400},null,null,null,"an",null,{"$f":"H160","v":"IHK Beitrag (Aufwand)"},null,null,null,null,null,null,null,null,null,null,null,null,null,{"$f":"R160","v":2400}]
[null,"2011-12-31"]
[]
[null,"Aufwand",null,null,null,null,null,{"$f":"H160","v":"IHK Beitrag (Aufwand)"},null,null,null,null,null,null,null,null,null,{"$f":"R162","v":2400},null,null,null,"an",null,{"$f":"H162","v":"Sonst. Forderung"},null,null,null,null,null,null,null,null,null,null,null,null,null,{"$f":"R162","v":2400}]
[null,"2012"]
[]
[]
[null,"richtiger Buchungssatz 2011:"]
[null,"Bezahlung 2011",null,null,null,null,null,{"$f":"X165","v":"Sonst. Forderung"},null,null,null,null,null,null,null,null,null,2400,null,null,null,"an",null,"Bank",null,null,null,null,null,null,null,null,null,null,null,null,null,{"$f":"R170","v":2400},null,null,null,null,null,"(1)"]
[]
[]
[null,"Beispiel 2:"]
[]
[null,"Wir erhalten die Januarmiete für das Jahr 2012 von 400 € am 28.12.2011 im voraus."]
[]
[null,null,null,null,null,null,null,null,null,null,null,"Ertrag"]
[null,"Bezahlung"]
[]
[null,"2011-12-28",null,null,null,null,null,null,null,null,null,{"$f":"L155","v":"2012"},null,null,null,null,null,null,null,null,null,null,null,null,null,null,null,null,null,null,null,null,null,null,null,null,null,null,null,null,"Zeit"]
[]
[]
[]
[null,"Buchungssatz:"]
[null,{"$f":"B160","v":"Bezahlung 2011"},null,null,null,null,null,"Bank",null,null,null,null,null,null,null,null,null,400,null,null,null,"an",null,"Mietertrag",null,null,null,null,null,null,null,null,null,null,null,null,null,{"$f":"R185","v":400},null,null,null,null,null,"(falsch!)"]
[]
[null,"Abgrenzung",null,null,null,null,null,{"$f":"X185","v":"Mietertrag"},null,null,null,null,null,null,null,null,null,{"$f":"AL185","v":400},null,null,null,"an",null,"Sonst. Verbindlk.",null,null,null,null,null,null,null,null,null,null,null,null,null,{"$f":"R185","v":400}]
[null,{"$f":"B163","v":"2011-12-31"}]
[]
[null,"Ertrag",null,null,null,null,null,{"$f":"X187","v":"Sonst. Verbindlk."},null,null,null,null,null,null,null,null,null,{"$f":"R187","v":400},null,null,null,"an",null,{"$f":"H187","v":"Mietertrag"},null,null,null,null,null,null,null,null,null,null,null,null,null,{"$f":"R187","v":400}]
[null,{"$f":"B166","v":"2012"}]
[]
[null,"richtiger Buchungssatz:"]
[null,{"$f":"B185","v":"Bezahlung 2011"},null,null,null,null,null,"Bank",null,null,null,null,null,null,null,null,null,400,null,null,null,"an",null,{"$f":"X187","v":"Sonst. Verbindlk."},null,null,null,null,null,null,null,null,null,null,null,null,null,{"$f":"R194","v":400},null,null,null,null,null,"(richtig!)"]
[]
[]
[{"$f":"A142+1","v":97}]
[]
[null,"Beispiel 3:"]
[]
[null,"Der IHK-Beitrag (Euro 2.400) wird schon im März 2011 für einen Zeitraum vom 01.04.2011 bis zum 31.03.2012 vorausbezahlt worden wäre."]
[]
[null,"Aufwand"]
[]
[]
[null,"01.04.2011",null,null,null,null,null,null,"2012-03-31",null,null,null,null,null,null,null,null,null,null,null,null,null,null,null,null,null,null,null,null,null,null,null,null,null,null,null,null,null,null,null,"Zeit"]
[null,"Bezahlung"]
[null,null,null,null,null,{"$f":"F127","v":"2011-12-31"}]
[]
[null,"9 Monate",null,null,null,null,null,"3 Monat"]
[]
[null,{"$f":"2400/12*9","v":1800},null,null,null,null,null,{"$f":"2400/12*3","v":600}]
[]
[]
[]
[null,"Buchungssatz:"]
[null,{"$f":"B194","v":"Bezahlung 2011"},null,null,null,null,null,"IHK-Beitrag",null,null,null,null,null,null,null,null,null,{"$f":"B212+H212","v":2400},null,null,null,"an",null,"Bank",null,null,null,null,null,null,null,null,null,null,null,null,null,{"$f":"R217","v":2400}]
[]
[null,"Abgrenzung",null,null,null,null,null,"ARAP",null,null,null,null,null,null,null,null,null,{"$f":"H212","v":600},null,null,null,"an",null,{"$f":"H217","v":"IHK-Beitrag"},null,null,null,null,null,null,null,null,null,null,null,null,null,{"$f":"H212","v":600}]
[null,{"$f":"B188","v":"2011-12-31"},null,null,null,null,null,"(aktiver Rechnungsabgr.Posten)"]
[]
[null,"Aufwand",null,null,null,null,null,{"$f":"X219","v":"IHK-Beitrag"},null,null,null,null,null,null,null,null,null,{"$f":"AL219","v":600},null,null,null,"an",null,{"$f":"H219","v":"ARAP"},null,null,null,null,null,null,null,null,null,null,null,null,null,{"$f":"R222","v":600}]
[null,{"$f":"B191","v":"2012"}]
[]
[]
[]
[null,"Beispiel 4:"]
[]
[null,"Unser Mieter überweist schon am 01.12.2011 für die drei darauf folgenden Monate Dez./2011, Jan./2012 und Febr./2012 insgesamt 1.200 € Miete.\n"]
[]
[null,"Ertrag"]
[]
[]
[null,"12/2011",null,null,null,null,null,"01 + 02 / 2012",null,null,null,null,null,null,null,null,null,null,null,null,null,null,null,null,null,null,null,null,null,null,null,null,null,null,null,null,null,null,null,null,"Zeit"]
[null,"Bezahlung"]
[null,null,null,null,null,{"$f":"F208","v":"2011-12-31"}]
[]
[null,"1 Monate",null,null,null,null,null,"2 Monat"]
[]
[null,{"$f":"1200/3","v":400},null,null,null,null,null,{"$f":"1200/3*2","v":800}]
[]
[]
[]
[null,"Buchungssatz:"]
[null,{"$f":"B217","v":"Bezahlung 2011"},null,null,null,null,null,"Bank",null,null,null,null,null,null,null,null,null,{"$f":"B240+H240","v":1200},null,null,null,"an",null,"Mietertrag",null,null,null,null,null,null,null,null,null,null,null,null,null,{"$f":"R245","v":1200}]
[]
[null,"Abgrenzung",null,null,null,null,null,{"$f":"X245","v":"Mietertrag"},null,null,null,null,null,null,null,null,null,{"$f":"H240","v":800},null,null,null,"an",null,"PRAP",null,null,null,null,null,null,null,null,null,null,null,null,null,{"$f":"H240","v":800}]
[null,{"$f":"B220","v":"2011-12-31"}]
[]
[null,"Ertrag",null,null,null,null,null,{"$f":"X247","v":"PRAP"},null,null,null,null,null,null,null,null,null,{"$f":"AL247","v":800},null,null,null,"an",null,{"$f":"H247","v":"Mietertrag"},null,null,null,null,null,null,null,null,null,null,null,null,null,{"$f":"R250","v":800}]
[null,{"$f":"B223","v":"2012"}]
[]
[]
[]
[null,"Abgrenzung:"]
[]
[null,"Ein- / Auszahlung",null,null,null,null,null,null,null,null,null,null,null,"<=>",null,null,null,null,null,"Erfolgsauswirkung"]
[]
[null,"Wer etwas im voraus bezahlt hat, hat das Recht, im neuen Jahr die Leistung zu erhalten. Analog ist der, dem man etwas schon im voraus bezahlt hat, auch verpflichtet, im Folgejahr die Leistung zu erbringen."]
[]
[null,"Aktive Rechnungsabgrenzung (ARAP)\n = Leistungs FORDERUNG (Aktivum)"]
[]
[null,"Passive Rechnungsabgrenzung (PRAP)\n = Leistungs VERPFLICHTUNG (Passivum)"]
[]
[]
[{"$f":"A197+1","v":98}]
[]
[null,null,null,null,null,null,null,null,"Bilanzausweis",null,null,null,null,null,null,null,null,null,null,null,null,null,null,null,null,null,null,null,null,null,null,null,null,null,null,null,null,null,null,null,null,null,null,null,null,null,null,null,null,null,null,null,null,null,null,null,null,null,null,null,null,null,null,null,null,null,null,null,null,null,null,null,null,null,null,null,null,null,null,null,null,null,null,null,null,null,null,null,null,null,null,null,null,null,null,null,{"$f":"#REF!-#REF!","v":{"$error":"#REF!"}}]
[]
[null,null,null,null,null,null,null,null,null,null,"Aktiva",null,"Schlussbilanz 31.12.",null,null,null,null,null,null,null,null,null,null,null,null,null,null,null,null,null,null,null,"Passiva"]
[null,null,null,null,null,null,null,null,null,"Anlagevermögen",null,null,null,null,null,null,null,null,null,null,null,null,"Eigenkapital"]
[]
["zunehmende",null,null,null,null,null,null,null,null,null,null,null,null,null,null,null,null,null,null,null,null,null,null,null,null,null,null,null,null,null,null,null,null,null,null,null,null,"abnehmende"]
["Liquidität",null,null,null,null,null,null,null,null,null,null,null,null,null,null,null,null,null,null,null,null,null,null,null,null,null,null,null,null,null,null,null,null,null,null,null,null,"Fristigkeit"]
[]
["Mittel-",null,null,null,null,null,null,null,null,null,null,null,null,null,null,null,null,null,null,null,null,null,null,null,null,null,null,null,null,null,null,null,null,null,null,null,null,"Mittel-"]
["verwendung",null,null,null,null,null,null,null,null,null,null,null,null,null,null,null,null,null,null,null,null,null,null,null,null,null,null,null,null,null,null,null,null,null,null,null,null,"herkunft"]
[null,null,null,null,null,null,null,null,null,"Umlaufvermögen",null,null,null,null,null,null,null,null,null,null,null,null,"Fremdkapital"]
[null,null,null,null,null,null,null,null,null,null,null,null,null,null,null,null,null,null,null,null,null,null,"Rückstellungen"]
[null,null,null,null,null,null,null,null,null,null,null,null,null,null,null,null,null,null,null,null,null,null,"Verbindlichkeiten"]
[]
[]
[null,null,null,null,null,null,null,null,null,"Aktiver Rechnungsposten",null,null,null,null,null,null,null,null,null,null,null,null,"Passiver Rechnungsabg. Posten"]
[]
[]
[]
[]
[]
[null,"19.4","Rückstellungen"]
[]
[null,"Definition der Rückstellungen\nRückstellungen sind ein Sonderfall von bilanziell auszuweisenden Verbindlichkeiten für Aufwendungen des abzuschließenden Geschäftsjahres, die dem Grunde nach feststehen, deren Höhe und/oder Fälligkeitszeit jedoch noch unbekannt sind. Hauptunterscheidungsmerkmal von den herkömmlichen Verbindlichkeiten ist also die Ungewißheit von Höhe und Zeit; ist auch die Zahlungspflicht dem Grunde nach ungewiß, so entstehen Eventualverbindlichkeiten. Je nach dem Grad der Ungewißheit unterscheidet man Verbindlichkeiten von Rückstellungen und Eventualverbindlichkeiten. Nur die Eventualverbindlichkeiten sind außerbilanziell, d. h., in einem zusätzlichen Vermerk „unter der Bilanz“ anzugeben; die restlichen Positionsarten sind zu passivieren.\n"]
[]
[null,"Hauptregelungsquelle ist im Handelsrecht § 249 HGB und im Steuerrecht § 5 Abs. 4, 4a, 4b EStG. Die steuer- und die handelsrechtlichen Regelungen sind einander mit der Bilanzrechtsmodernisierung weitgehend angeglichen worden:\nNach der Art der Verpflichtung unterscheidet man:\n1. Rückstellungen für rechtliche Verpflichtungen (wie etwa Pensions-, Steuer-, Garantierückstellungen),\n2. Rückstellungen für drohende Verluste aus schwebenden Geschäften,\n3. Rückstellungen für wirtschaftliche Verpflichtungen (sogenannte Kulanzrückstellungen),\n4. Aufwandsrückstellungen.\n"]
[]
[null,"Rückstellungen sind im Handelsrecht aufgrund § 249 Abs. 1 HGB für ungewisse Verbindlichkeiten und für drohende Verluste aus schwebenden Geschäften zu bilden. Ferner sind sie zulässig für\n1. im Geschäftsjahr unterlassene Aufwendungen für Instandhaltung, die im folgenden Geschäftsjahr innerhalb von drei Monaten nachgeholt werden,\n2. im Geschäftsjahr unterlassene Aufwendungen für Abraumbeseitigung, die im folgenden Geschäftsjahr nachgeholt werden,\n3. Gewährleistungen, die ohne rechtliche Verpflichtung erbracht werden. Ferner waren seit 1986 Aufwandsrückstellungen zugelassen. Diese wurden erst durch die Bilanzrechtsmodernisierung\nab 2009/2010 auch handelsrechtlich untersagt. Steuerrechtlich sind sie schon länger verboten."]
[]
[null,"Rückstellungen für ungewisse Verbindlichkeiten\nDie klassische Rückstellungsart für rechtlich bereits begründete Schulden, deren Höhe und/oder Fälligkeit noch nicht endgültig bekannt ist. Für sie besteht eine generelle Passivierungspflicht. Beispiele sind Steuerrückstellungen, Pensionsrückstellungen, Prozessrückstellungen.\n"]
[]
[{"$f":"A266+1","v":99}]
[]
[null,"Rückstellungen für unterlassene Instandhaltung\nDiese sind eine Form der Aufwandsrückstellungen, die weniger wegen eines vollständigen Schulden-ausweises (nach dem Grundsatz der Vollständigkeit) als mehr zur Periodenabgrenzung der Aufwands-kategorien (nach dem Grundsatz der Periodenabgrenzung) gebildet werden (§ 249 Abs. 1 Nr. 1 HGB). Rückstellungen für unterlassene Instandhaltungen sind nach § 249 Abs. 1 Nr. 1 HGB verpflichtend zu bilden, wenn diese im folgenden Geschäftsjahr innerhalb von drei Monaten nachgeholt und abgeschlossen werden."]
[]
[null,"Beispiel 1:"]
[null,"Nach einem Sturm Mitte Dezember 2012 sind einige Sonnenschutzjalousien schadhaft. Die Reparatur soll erst im März 2013 ausgeführt werden. Es wird mit einem Aufwand von ca. 1.000 € gerechnet.\n"]
[null,"Da aber weder die Höhe noch der Zeitpunkt der Zahlung feststehen, bilden wir am 31.12.2012 eine RÜCKSTELLUNG."]
[]
[null,"Buchungssatz:"]
[null,"Bildung der",null,null,null,null,null,"Reparaturaufwand",null,null,null,null,null,null,null,null,null,1000,null,null,null,"an",null,"sonst. Rückstellung",null,null,null,null,null,null,null,null,null,null,null,null,null,{"$f":"R308","v":1000}]
[null,"Rückstellung 2012"]
[]
[null,"Die Reparaturrechnung des Handwerkers lautet auf "]
[null,null,null,null,null,null,null,null,null,null,null,null,null,null,"Variante 1",null,null,null,null,"Variante 2",null,null,null,null,"Variante 3"]
[null,null,null,null,null,null,null,null,null,null,null,null,"Entgelt",null,1000,null,null,null,null,960,null,null,null,null,1001]
[null,null,null,null,null,null,null,null,null,null,null,null,"+Umsatzsteuer 19%",null,{"$f":"O313*19%","v":190},null,null,null,null,{"$f":"T313*19%","v":182.4},null,null,null,null,{"$f":"Y313*19%","v":190.19},null,null,null,"(= Vorsteuer: Durchlaufender Posten)"]
[null,null,null,null,null,null,null,null,null,null,null,null,"= brutto",null,{"$f":"O313*1.19","v":1190},null,null,null,null,{"$f":"T313*1.19","v":1142.3999999999999},null,null,null,null,{"$f":"Y313*1.19","v":1191.19}]
[]
[null,null,null,null,null,null,null,null,null,null,null,null,"Rückstellung zum 31.12.2012",null,1000,null,null,null,null,{"$f":"O317","v":1000},null,null,null,null,{"$f":"O317","v":1000}]
[]
[]
[null,null,null,null,null,null,null,null,null,null,null,null,"= Differenz",null,{"$f":"O317-O313","v":0},null,null,null,null,{"$f":"T317-T313","v":40},null,null,null,null,{"$f":"Y317-Y313","v":-1}]
[null,null,null,null,null,null,null,null,null,null,null,null,null,null,"identisch",null,null,null,null,"zu viel",null,null,null,null,"zu wenig"]
[]
[null,"Buchungssatz:"]
[null,"I. Auflösung 2013",null,null,null,null,null,{"$f":"X308","v":"sonst. Rückstellung"},null,null,null,null,null,null,null,null,null,{"$f":"AL308","v":1000},null,null,null,"an",null,"Bank",null,null,null,null,null,null,null,null,null,null,null,null,null,{"$f":"O315","v":1190}]
[null,null,null,null,null,null,null,"Vorsteuer",null,null,null,null,null,null,null,null,null,{"$f":"O314","v":190}]
[]
[null,"II. Auflösung 2013",null,null,null,null,null,{"$f":"X308","v":"sonst. Rückstellung"},null,null,null,null,null,null,null,null,null,{"$f":"AL308","v":1000},null,null,null,"an",null,"Bank",null,null,null,null,null,null,null,null,null,null,null,null,null,{"$f":"T315","v":1142.3999999999999}]
[null,null,null,null,null,null,null,"Vorsteuer",null,null,null,null,null,null,null,null,null,{"$f":"T314","v":182.4},null,null,null,null,null,"Ertrag aus Aufl. Rückstellung",null,null,null,null,null,null,null,null,null,null,null,null,null,{"$f":"T320","v":40}]
[]
[]
[null,"III. Auflösung 2013",null,null,null,null,null,{"$f":"X308","v":"sonst. Rückstellung"},null,null,null,null,null,null,null,null,null,{"$f":"AL308","v":1000},null,null,null,"an",null,"Bank",null,null,null,null,null,null,null,null,null,null,null,null,null,{"$f":"Y315","v":1191.19}]
[null,null,null,null,null,null,null,{"$f":"H325","v":"Vorsteuer"},null,null,null,null,null,null,null,null,null,{"$f":"Y314","v":190.19}]
[null,null,null,null,null,null,null,"Reparaturaufwand",null,null,null,null,null,null,null,null,null,{"$f":"-Y320","v":1}]
[]
[]
[null,"Rückstellungen bildet man für Aufwendungen bzw. Verbindlichkeiten des laufenden Jahrs, die dem Grunde nach feststehen, deren genaue Höhe und Fälligkeitstermin aber noch unbekannt sind.\nRückstellungen sind also F R E M D  k a p i t a l .\n\n"]
[null,"Weitere Beispiele:"]
[null,"- Schwebendes Gerichtsverfahren\n- Unterlassene Reparaturen\n- Garantieverpflichtungen\n- Kosten für die Entsorgung (Kernkraftwerk)\n- Pensionszusagen für Mitarbeiter (oft beträchtliche Summen)\n"]

{"sheet":"20","index":31,"n_rows":89,"n_cols":38,"rows_kept":89,"cut":false,"hidden":false,"merged":[[82,17,82,20],[82,37,82,40],[73,17,73,20],[73,37,73,40],[79,1,79,42],[81,17,81,20],[81,37,81,40],[83,17,83,20],[83,37,83,40],[89,17,89,20],[89,37,89,40],[87,17,87,20],[87,37,87,40],[88,17,88,20],[88,37,88,40],[72,17,72,20],[72,37,72,40],[52,17,52,20],[52,37,52,40],[60,1,60,42],[61,17,61,20],[61,37,61,40],[62,17,62,20],[62,37,62,40],[63,17,63,20],[63,37,63,40],[69,1,69,42],[71,17,71,20],[71,37,71,40],[44,17,44,20],[44,37,44,40],[50,17,50,20],[50,37,50,40],[51,17,51,20],[51,37,51,40],[47,17,47,20],[47,37,47,40],[43,17,43,20],[43,37,43,40],[14,1,14,56],[16,0,16,52],[18,1,18,56],[31,1,31,42],[34,1,34,42],[36,1,37,6],[36,11,36,21],[36,23,37,28],[38,14,38,17],[39,14,39,17],[40,14,40,17],[42,17,42,20],[42,37,42,40],[1,53,1,56],[16,53,16,56],[26,53,26,56],[20,1,20,56],[22,1,22,56],[24,1,24,56],[26,0,26,52],[8,1,8,56],[10,1,10,56],[12,1,12,56],[1,0,1,52]]}
[]
[{"$f":"'19'!A299:BA299+1","v":100}]
[]
[]
[null,"20","Wertberichtigung von Forderungen"]
[]
[null,"20.1","Bewertung von Forderungen"]
[]
[null,"Forderungen sind Ansprüche gegenüber anderen Rechtspersonen auf Geld- oder Sachleistungen. Langfristige Forderungen sind in der Bilanz in entsprechenden Positionen des Anlagevermögens ausgewiesen, im Umlaufvermögen unter dem Posten „Forderungen und sonstige Vermögensgegenstände“. Dieser wiederum ist unterteilt in „Forderungen aus Lieferungen und Leistungen“, „Forderungen gegen verbunden Unternehmen“, „Forderungen gegen Unternehmen, mit denen ein Beteiligungsverhältnis besteht“ und „Sonstige Vermögensgegenstände“, wobei Forderungen auch in der letzten Position vorkommen. Zweifelhafte Forderungen (sogenannte Dubiose) sind solche, deren Eingang aus objektiven Gründen (etwa gegen den Leistungspflichtigen eingeleitetes Insolvenzverfahren) als nicht sicher gilt. Sie sind bilanziell jedoch nicht gesondert darzustellen. Entsprechende Wertberichtigungen werden deshalb bei den jeweiligen Bilanzposten direkt abgesetzt. Diese Methode ist handelsrechtlich geboten, steuerrechtlich aber als „Teilwertabschreibung“ eingeschränkt.\n"]
[]
[null,"Die Bewertung der Forderungen geschieht grundsätzlich mit dem Nennwert, sofern davon ausgegangen werden kann, dass die Forderung vollständig eingeht. Zweifelhafte Forderungen sind mit ihrem wahrscheinlichen Wert anzusetzen, uneinbringliche Forderungen sind auszubuchen. Sind Erkenntnisse vorhanden, wonach an einem vollständigen Forderungseingang zu zweifeln ist, so sind nach Handelsrecht Abschreibungen auf Forderungen vorzunehmen (strenges Niederstwertprinzip). Die Abschreibungen können grundsätzlich direkt oder indirekt vorgenommen werden. Forderungen sind grundsätzlich einzeln zu bewerten; es können aber auch Kategorien von Risikoklassen gebildet werden, auf deren Bestand ein pauschaler Abschlag genommen wird. Die Abschreibungen sind vom Nettobetrag der Forderungen zu berechnen; erst im Falle der Uneinbringlichkeit ist eine Entgeltänderung gegeben, die zu einer Korrektur der Umsatzsteuer berechtigt.\n"]
[]
[null,"Aufgrund des Einzelwertprinzips sind Forderungen regelmäßig einzeln zu bewerten, sofern dies möglich ist. Dies wird regelmäßig bei Großforderungen der Fall sein. Die damit verbundene Bewertungsbuchung ist die Einzelbewertung oder Einzelwertberichtigung. Erfahren wir, dass ein Kunde Insolvenz angemeldet hat, oder besteht sonst ernsthafter Grund zu der Annahme, dass die Forderung gegen einen Kunden nicht mehr oder nicht mehr vollständig eingehen wird, so ist die Forderung gegen diesen Kunden zunächst von den übrigen Forderungen abzusondern:\n\nZweifelhafte Forderungen (Bestandskonto) .......................... 1.190\n     AN Forderungen aus LuL (Bestandskonto)      ................................. 1.190\n\nAuf diese Weise wird dem Einzelwertgrundsatz genügt, denn die zweifelhafte Forderung ist aufgrund ihrer Eigenart jetzt buchhalterisch von den übrigen Forderungen abgegrenzt. Teilt uns der Insolvenzverwalter mit, dass voraussichtlich 80% der Forderung ausfallen werden, so ist zu buchen:\n"]
[]
[null,"Abschreibung auf Forderungen  (Aufwand) ..................... 800\n    AN Einzelwertberichtigung (Bestandskonto)  .................................. 800\n\nDiese Buchung ist eine indirekte teilweise Abschreibung der Forderung. Nur die indirekte Abschreibung ist in diesem Falle zulässig, weil die tatsächliche (endgültige) Höhe des Forderungsausfalles zu diesem Zeitpunkt noch unbekannt ist, also keine bilanzielle Wertminderung vorgenommen werden darf.\n"]
[]
[{"$f":"A2+1","v":101}]
[]
[null,"Man beachte, dass die Abschreibung auf den Nettowert der Forderung stattzufinden hat. Bei einer Bruttosumme i. H. v. 1.190 Euro beträgt der Nettowert 1.000 Euro. Hierauf wurde die Abschreibung i. H. v. 80% gerechnet. Beträgt bei Abschluss des Insolvenzverfahrens der tatsächliche Ausfall die erwarteten 80%, so ist dies so zu buchen:\n\nEinzelwertberichtigung (Bestandskonto)................................. 800\nBank   ................................................................................... 238\nUmsatzsteuer......................................................................... 152\nAN Zweifelhafte Forderungen (Bestandskonto) .............................. 1.190\n"]
[]
[null,"Ist der wirkliche Forderungsausfall jedoch mit 90% festgestellt worden, d. h., ist er noch höher als zunächst angenommen, so ist der Unterschiedsbetrag als außerordentlicher oder periodenfremder Aufwand zu buchen. Das sieht folgendermaßen aus:\nEinzelwertberichtigung (Bestandskonto)........................... 800\nBank ................................................................................... 119\nUmsatzsteuer .................................................................... 171\nsonstiger betrieblicher Aufwand ....................................... 100\nAN Zweifelhafte Forderungen (Bestandskonto).............................. 1.190\n"]
[]
[null,"Die Pauschalwertberichtigung\nDie vorstehend demonstrierte Methode der Einzelwertberichtigung setzt voraus, daß die Bonität und Zahlungswilligkeit jedes einzelnen Kunden individuell bewertet werden kann. In Zeiten von Basel II ist das zwar immer häufiger der Fall, aber für das allgemeine Ausfallrisiko sowie Kleinforderungen ist (und bleibt) es dennoch unmöglich. Hierfür besteht ein Vereinfachungsverfahren, das als Pauschalwertberichtigung bekannt ist."]
[]
[null,"Der erwartete Ausfallbetrag ist zunächst abzugrenzen mit der Buchung:\nAbschreibung auf Forderungen (Aufwand) ................ 10.000\nAN Pauschalwertberichtigung (PWB = Bestandskonto)............... 10.000\n\nZu jedem Periodenwechsel ist die Pauschalwertberichtigung neu festzusetzen. Ist sie zu erhöhen, so geschieht dies mit dem oben dargestellten Buchungssatz. Ist sie aber zu senken, so ist zu buchen:\nPauschalwertberichtigung (PWB = Bestandskonto)........ 2.000\nAN sonstige betriebliche Erträge (Erfolgskonto => GuV!)    ........................... 2.000\n"]
[]
[{"$f":"A17+1","v":102}]
[]
[]
[null,"20.2","Übung zu Forderungsausfällen"]
[]
[null,"Von unserem Kunden Knapp hören wir, dass er bei anderen Lieferern seine Zahlungen eingestellt hat. Wir haben heute am 01.04.2013 noch 11.900 € von ihm zu fordern."]
[]
[]
[null,"    Verkauf"]
[]
[null,"Unternehmer",null,null,null,null,null,null,null,null,null,"Verkauf fertiges Produkt",null,null,null,null,null,null,null,null,null,null,null,"Kunde"]
[]
[null,null,null,null,null,null,null,null,null,null,null,null,"Entgelt",null,10000]
[null,null,null,null,null,null,null,null,null,null,null,null,"+Umsatzsteuer 19%",null,{"$f":"O39*19%","v":1900}]
[null,null,null,null,null,null,null,null,null,null,null,null,"=Verkaufspreis",null,{"$f":"O39*1.19","v":11900}]
[]
[null,"Buchungssatz:",null,null,null,null,null,"Soll",null,null,null,null,null,null,null,null,null,{"$f":"SUM(R44:U50)","v":23800},null,null,null,null,null,"Haben",null,null,null,null,null,null,null,null,null,null,null,null,null,{"$f":"SUM(AL44:AO50)","v":23800}]
[null,"1. Verkauf",null,null,null,null,null,"Ford. a. LuL",null,null,null,null,null,null,null,null,null,{"$f":"O41","v":11900},null,null,null,"an",null,"Umsatzerlöse",null,null,null,null,null,null,null,null,null,null,null,null,null,{"$f":"O39","v":10000}]
[null,null,null,null,null,null,null,null,null,null,null,null,null,null,null,null,null,null,null,null,null,null,null,"Umsatzsteuer",null,null,null,null,null,null,null,null,null,null,null,null,null,{"$f":"O40","v":1900}]
[]
[null,"=> Gewinnerhöhung"]
[null,null,null,null,null,null,null,"Zweifelhafte Forderungen",null,null,null,null,null,null,null,null,null,{"$f":"R44","v":11900},null,null,null,"an",null,{"$f":"H44","v":"Ford. a. LuL"},null,null,null,null,null,null,null,null,null,null,null,null,null,{"$f":"R48","v":11900}]
[null,"=> Gewinnneutral"]
[]
[null,"Buchungssatz:",null,null,null,null,null,"Soll",null,null,null,null,null,null,null,null,null,{"$f":"SUM(R52:U54)","v":11900},null,null,null,null,null,"Haben",null,null,null,null,null,null,null,null,null,null,null,null,null,{"$f":"SUM(AL52:AO54)","v":11900}]
[null,"2. Abschreibung",null,null,null,null,null,"Abschreibung Ford.",null,null,null,null,null,null,null,null,null,{"$f":"O39","v":10000},null,null,null,"an",null,{"$f":"H44","v":"Ford. a. LuL"},null,null,null,null,null,null,null,null,null,null,null,null,null,{"$f":"R44","v":11900}]
[null,null,null,null,null,null,null,"Umsatzsteuer (Storno)",null,null,null,null,null,null,null,null,null,{"$f":"AL45","v":1900},null,null,null,null,null,"bzw. Zweifelhafte Forderungen"]
[]
[]
[null,"=> Gewinnminderung"]
[]
[]
[null,"Fallfortsetzung"]
[]
[null,"Wider Erwarten überweist Knapp am 24.12.2013 11.900 €."]
[null,"Buchungssatz:",null,null,null,null,null,"Soll",null,null,null,null,null,null,null,null,null,{"$f":"SUM(R63:U64)","v":11900},null,null,null,null,null,"Haben",null,null,null,null,null,null,null,null,null,null,null,null,null,{"$f":"SUM(AL63:AO64)","v":11900}]
[null,"3. Bezahlung",null,null,null,null,null,"Bank",null,null,null,null,null,null,null,null,null,{"$f":"O41","v":11900},null,null,null,"an",null,"Erlöse / Erträge",null,null,null,null,null,null,null,null,null,null,null,null,null,{"$f":"O39","v":10000}]
[null,null,null,null,null,null,null,null,null,null,null,null,null,null,null,null,null,null,null,null,null,null,null,"Umsatzsteuer",null,null,null,null,null,null,null,null,null,null,null,null,null,{"$f":"O40","v":1900}]
[]
[null,"=> Gewinnerhöhung"]
[]
[null,"Fallfortsetzung"]
[]
[null,"Ein gegen Knapp im Sommer eröffnetes Insolvenzverfahren wird am 11.11.2013 mangels Masse eingestellt.\n"]
[]
[null,"Buchungssatz:",null,null,null,null,null,"Soll",null,null,null,null,null,null,null,null,null,{"$f":"SUM(R73:U75)","v":11900},null,null,null,null,null,"Haben",null,null,null,null,null,null,null,null,null,null,null,null,null,{"$f":"SUM(AL73:AO75)","v":11900}]
[null,"Abschreibung",null,null,null,null,null,"Abschreibung Ford.",null,null,null,null,null,null,null,null,null,{"$f":"R52","v":10000},null,null,null,"an",null,{"$f":"X52","v":"Ford. a. LuL"},null,null,null,null,null,null,null,null,null,null,null,null,null,{"$f":"AL52","v":11900}]
[null,null,null,null,null,null,null,"Umsatzsteuer (Storno)",null,null,null,null,null,null,null,null,null,{"$f":"R53","v":1900}]
[]
[null,"=> Gewinnminderung"]
[]
[null,"Fallfortsetzung:"]
[]
[null,"Aus dem Insolvenzverfahren erhalten wir am 06.12.2011 eine Insolvenzquote von 20 % überwiesen."]
[]
[null,"Buchungssatz:",null,null,null,null,null,"Soll",null,null,null,null,null,null,null,null,null,{"$f":"SUM(R83:U85)","v":9520},null,null,null,null,null,"Haben",null,null,null,null,null,null,null,null,null,null,null,null,null,{"$f":"SUM(AL83:AO85)","v":9520}]
[null,"2. Abschreibung",null,null,null,null,null,"Abschreibung Ford.",null,null,null,null,null,null,null,null,null,{"$f":"O39*80%","v":8000},null,null,null,"an",null,{"$f":"H44","v":"Ford. a. LuL"},null,null,null,null,null,null,null,null,null,null,null,null,null,{"$f":"O41*80%","v":9520}]
[null,null,null,null,null,null,null,"Umsatzsteuer (Storno)",null,null,null,null,null,null,null,null,null,{"$f":"O40*80%","v":1520}]
[]
[null,"=> Gewinnminderung"]
[]
[null,"Buchungssatz:",null,null,null,null,null,"Soll",null,null,null,null,null,null,null,null,null,{"$f":"SUM(R89:U91)","v":2380},null,null,null,null,null,"Haben",null,null,null,null,null,null,null,null,null,null,null,null,null,{"$f":"SUM(AL89:AO91)","v":2380}]
[null,"3. Restzahlung",null,null,null,null,null,"Bank",null,null,null,null,null,null,null,null,null,{"$f":"O41*20%","v":2380},null,null,null,"an",null,{"$f":"H44","v":"Ford. a. LuL"},null,null,null,null,null,null,null,null,null,null,null,null,null,{"$f":"O41*20%","v":2380}]

{"sheet":"21 Übungen","index":32,"n_rows":610,"n_cols":39,"rows_kept":610,"cut":false,"hidden":false,"merged":[[606,17,606,23],[608,17,608,20],[608,37,608,40],[609,17,609,23],[604,17,604,20],[604,37,604,40],[591,1,591,2],[591,3,591,6],[591,8,591,11],[591,12,591,16],[591,18,591,22],[591,24,591,28],[592,12,592,16],[598,1,598,42],[600,17,600,20],[600,37,600,40],[601,17,601,20],[601,37,601,40],[602,37,602,40],[603,17,603,20],[603,37,603,40],[605,37,605,40],[577,1,577,42],[578,7,578,16],[578,17,578,20],[578,37,578,40],[579,7,579,16],[579,17,579,20],[579,37,579,40],[580,37,580,40],[589,1,589,2],[589,3,589,6],[589,8,589,11],[589,12,589,16],[589,18,589,22],[589,24,589,28],[582,7,582,16],[582,17,582,20],[582,37,582,40],[583,7,583,16],[583,17,583,20],[583,37,583,40],[584,37,584,40],[539,22,539,30],[539,31,539,34],[540,18,540,21],[540,31,540,34],[571,1,571,42],[572,1,572,42],[573,1,573,42],[574,1,574,42],[575,1,575,42],[558,1,558,42],[560,7,560,16],[560,17,560,20],[560,37,560,40],[561,7,561,16],[561,17,561,20],[561,37,561,40],[569,17,569,23],[564,7,564,16],[564,17,564,20],[564,37,564,40],[565,7,565,16],[565,17,565,20],[566,37,566,40],[567,37,567,40],[549,17,549,23],[551,1,551,42],[552,7,552,16],[552,17,552,20],[552,37,552,40],[553,7,553,16],[553,17,553,20],[553,37,553,40],[556,17,556,23],[544,1,544,42],[545,7,545,16],[545,17,545,20],[545,37,545,40],[546,7,546,16],[546,17,546,20],[546,37,546,40],[535,12,535,31],[536,9,536,17],[536,18,536,21],[536,22,536,30],[536,31,536,34],[537,18,537,21],[537,31,537,34],[538,18,538,21],[538,31,538,34],[542,9,542,17],[542,18,542,21],[542,22,542,30],[542,31,542,34],[541,18,541,21],[541,31,541,34],[540,9,540,17],[539,18,539,21],[525,14,525,17],[528,1,528,42],[529,7,529,16],[529,17,529,20],[529,37,529,40],[530,7,530,16],[530,17,530,20],[530,37,530,40],[532,7,532,16],[532,17,532,20],[532,37,532,40],[513,1,513,42],[515,14,515,17],[516,14,516,17],[517,14,517,17],[519,14,519,17],[520,14,520,17],[521,14,521,17],[523,14,523,17],[524,26,524,30],[524,14,524,17],[505,7,505,16],[505,17,505,20],[505,37,505,40],[508,17,508,23],[510,1,510,42],[511,7,511,16],[511,17,511,20],[511,37,511,40],[497,29,497,37],[498,29,498,37],[498,38,498,46],[499,2,499,19],[499,29,499,37],[499,38,499,46],[501,1,501,42],[503,1,503,42],[504,7,504,16],[504,17,504,20],[504,37,504,40],[494,29,494,37],[494,38,494,46],[495,29,495,37],[495,38,495,46],[496,29,496,37],[496,38,496,46],[484,7,484,16],[484,17,484,20],[484,37,484,40],[486,17,486,23],[488,1,488,42],[490,1,490,42],[491,29,491,37],[491,38,491,46],[492,2,492,19],[492,29,492,37],[492,38,492,46],[477,17,477,20],[477,37,477,40],[478,17,478,23],[480,1,480,42],[481,7,481,16],[481,17,481,20],[481,37,481,40],[482,7,482,16],[482,17,482,20],[482,37,482,40],[471,17,471,20],[471,37,471,40],[472,17,472,23],[469,17,469,20],[469,37,469,40],[474,1,474,42],[475,17,475,20],[475,37,475,40],[463,17,463,20],[463,37,463,40],[464,17,464,20],[464,37,464,40],[465,17,465,23],[467,1,467,42],[468,17,468,20],[468,37,468,40],[458,7,458,16],[458,17,458,20],[458,37,458,40],[459,7,459,16],[459,17,459,20],[459,37,459,40],[462,1,462,42],[450,1,450,42],[451,7,451,16],[451,17,451,20],[451,37,451,40],[452,1,452,16],[452,17,452,20],[452,37,452,40],[454,17,454,23],[456,1,456,42],[247,5,247,15],[448,1,448,42],[373,18,373,21],[381,1,381,42],[395,36,395,41],[396,9,396,17],[396,22,396,30],[409,0,409,8],[409,22,409,30],[409,31,409,34],[418,0,418,8],[418,22,418,30],[418,31,418,34],[423,18,423,21],[423,31,423,34],[424,18,424,21],[424,31,424,34],[425,18,425,21],[425,31,425,34],[426,18,426,21],[426,31,426,34],[379,1,379,42],[374,31,374,34],[397,22,397,30],[439,1,439,42],[441,1,441,42],[444,1,444,42],[446,1,446,42],[366,9,366,17],[366,18,366,21],[366,22,366,30],[367,9,367,17],[367,18,367,21],[367,22,367,30],[368,31,368,34],[369,31,369,34],[370,31,370,34],[375,9,375,17],[375,18,375,21],[368,18,368,21],[369,18,369,21],[370,18,370,21],[371,18,371,21],[375,22,375,30],[375,31,375,34],[372,22,372,30],[374,9,374,17],[374,18,374,21],[374,22,374,30],[371,31,371,34],[373,31,373,34],[362,18,362,21],[363,18,363,21],[364,18,364,21],[365,18,365,21],[362,31,362,34],[363,31,363,34],[364,31,364,34],[365,31,365,34],[367,31,367,34],[366,31,366,34],[372,31,372,34],[372,9,372,17],[372,18,372,21],[350,1,350,42],[352,1,352,42],[353,1,353,42],[355,1,355,42],[360,12,360,31],[361,9,361,17],[361,18,361,21],[361,22,361,30],[361,31,361,34],[358,12,358,31],[359,12,359,31],[255,49,255,54],[256,49,256,54],[144,17,144,23],[142,7,142,16],[142,17,142,20],[142,37,142,40],[143,7,143,16],[143,17,143,20],[143,37,143,40],[255,37,255,40],[247,17,247,20],[247,37,247,40],[248,17,248,23],[253,17,253,20],[253,37,253,40],[254,17,254,20],[254,37,254,40],[237,17,237,20],[237,37,237,40],[239,17,239,23],[240,17,240,20],[240,37,240,40],[238,37,238,40],[233,17,233,20],[345,17,345,23],[344,17,344,23],[257,49,257,54],[258,49,258,54],[114,43,114,47],[115,43,115,47],[116,43,116,47],[117,43,117,47],[253,49,253,54],[254,49,254,54],[339,17,339,23],[341,1,341,42],[342,17,342,20],[342,37,342,40],[343,17,343,20],[343,37,343,40],[335,17,335,20],[335,37,335,40],[336,7,336,16],[336,17,336,20],[336,37,336,40],[338,17,338,23],[330,9,330,17],[330,18,330,21],[330,22,330,30],[330,31,330,34],[333,1,333,42],[334,1,334,42],[328,9,328,17],[328,18,328,21],[328,22,328,30],[328,31,328,34],[329,9,329,17],[329,18,329,21],[329,22,329,30],[329,31,329,34],[326,9,326,17],[326,18,326,21],[326,22,326,30],[326,31,326,34],[327,9,327,17],[327,18,327,21],[327,22,327,30],[327,31,327,34],[317,1,317,42],[318,1,318,41],[320,1,320,41],[321,1,321,41],[324,12,324,31],[325,9,325,17],[325,18,325,21],[325,22,325,30],[325,31,325,34],[308,1,308,42],[309,17,309,20],[309,37,309,40],[319,1,319,41],[310,17,310,20],[310,37,310,40],[311,17,311,20],[311,37,311,40],[312,1,312,42],[313,1,313,41],[302,17,302,20],[302,37,302,40],[303,17,303,20],[303,37,303,40],[305,17,305,23],[304,17,304,20],[304,37,304,40],[295,1,295,17],[295,18,295,24],[296,1,296,17],[296,18,296,24],[301,17,301,20],[301,37,301,40],[299,1,299,42],[292,1,292,17],[292,18,292,24],[293,1,293,17],[293,18,293,24],[294,1,294,17],[294,18,294,24],[288,1,288,17],[288,18,288,24],[289,1,289,17],[289,18,289,24],[291,1,291,17],[291,18,291,24],[285,1,285,17],[285,18,285,24],[286,1,286,17],[286,18,286,24],[287,1,287,17],[287,18,287,24],[278,14,278,17],[279,14,279,17],[280,14,280,17],[278,26,278,30],[284,1,284,17],[284,18,284,24],[270,14,270,17],[271,14,271,17],[272,14,272,17],[274,14,274,17],[275,14,275,17],[276,14,276,17],[283,1,283,42],[260,17,260,23],[263,17,263,20],[263,37,263,40],[264,17,264,20],[264,37,264,40],[266,17,266,23],[265,37,265,40],[256,17,256,23],[255,17,255,20],[258,17,258,20],[258,37,258,40],[259,17,259,20],[259,37,259,40],[233,37,233,40],[234,17,234,20],[234,37,234,40],[236,17,236,20],[236,37,236,40],[235,17,235,23],[224,17,224,20],[224,37,224,40],[223,17,223,20],[226,17,226,20],[226,37,226,40],[227,17,227,20],[227,37,227,40],[218,37,218,40],[219,17,219,20],[219,37,219,40],[220,37,220,40],[220,17,220,20],[40,37,40,40],[217,1,217,42],[21,37,21,40],[77,1,77,16],[37,1,37,42],[52,1,52,42],[59,1,59,42],[69,1,69,42],[39,7,39,16],[39,17,39,20],[39,37,39,40],[40,7,40,16],[40,17,40,20],[124,7,124,16],[124,17,124,20],[124,37,124,40],[125,17,125,23],[77,17,77,20],[77,37,77,40],[3,1,3,42],[12,1,12,42],[19,1,19,42],[28,1,28,42],[9,17,9,23],[14,37,14,40],[15,7,15,16],[15,17,15,20],[15,37,15,40],[14,7,14,16],[14,17,14,20],[21,7,21,16],[24,17,24,23],[4,7,4,16],[4,17,4,20],[4,37,4,40],[5,7,5,16],[5,17,5,20],[5,37,5,40],[17,17,17,23],[79,17,79,23],[81,7,81,16],[81,17,81,20],[231,1,231,42],[189,37,189,40],[190,17,190,20],[190,37,190,40],[191,37,191,40],[194,17,194,20],[194,37,194,40],[222,17,222,20],[222,37,222,40],[197,27,197,34],[81,37,81,40],[82,7,82,16],[87,7,87,16],[87,17,87,20],[87,37,87,40],[85,17,85,23],[82,17,82,20],[82,37,82,40],[218,17,218,20],[92,1,92,42],[99,1,99,42],[241,1,241,42],[251,1,251,42],[268,1,268,42],[243,17,243,20],[243,37,243,40],[245,17,245,23],[246,17,246,20],[21,17,21,20],[6,7,6,16],[6,17,6,20],[6,37,6,40],[7,7,7,16],[7,17,7,20],[7,37,7,40],[22,7,22,16],[22,17,22,20],[22,37,22,40],[246,37,246,40],[244,17,244,20],[185,1,185,42],[31,7,31,16],[31,17,31,20],[31,37,31,40],[33,17,33,23],[30,7,30,16],[30,17,30,20],[30,37,30,40],[49,17,49,23],[47,37,47,40],[42,17,42,23],[45,7,45,16],[45,17,45,20],[45,37,45,40],[46,7,46,16],[46,17,46,20],[46,37,46,40],[62,7,62,16],[62,17,62,20],[62,37,62,40],[54,7,54,16],[54,17,54,20],[54,37,54,40],[60,1,60,42],[56,17,56,23],[63,7,63,16],[63,17,63,20],[63,37,63,40],[66,17,66,23],[64,7,64,16],[64,17,64,20],[64,37,64,40],[72,17,72,23],[76,7,76,16],[76,17,76,20],[76,37,76,40],[75,1,75,42],[70,7,70,16],[70,17,70,20],[70,37,70,40],[90,17,90,23],[94,7,94,16],[83,7,83,16],[83,17,83,20],[83,37,83,40],[95,1,95,16],[94,17,94,20],[94,37,94,40],[95,17,95,20],[95,37,95,40],[88,7,88,16],[88,17,88,20],[88,37,88,40],[93,7,93,16],[93,17,93,20],[93,37,93,40],[104,17,104,23],[106,7,106,16],[106,17,106,20],[106,37,106,40],[97,17,97,23],[101,7,101,16],[101,17,101,20],[101,37,101,40],[102,7,102,16],[102,17,102,20],[102,37,102,40],[107,7,107,16],[107,17,107,20],[107,37,107,40],[111,17,111,23],[108,37,108,40],[109,37,109,40],[110,37,110,40],[114,7,114,16],[114,17,114,20],[114,37,114,40],[113,1,113,42],[115,7,115,16],[115,17,115,20],[115,37,115,40],[119,17,119,23],[123,7,123,16],[123,17,123,20],[123,37,123,40],[122,1,122,42],[116,17,116,23],[118,7,118,16],[118,17,118,20],[118,37,118,40],[126,37,126,40],[127,7,127,16],[127,17,127,20],[127,37,127,40],[126,7,126,16],[126,17,126,20],[130,7,130,16],[130,17,130,20],[130,37,130,40],[134,17,134,23],[139,7,139,16],[139,17,139,20],[139,37,139,40],[137,1,137,42],[131,17,131,23],[128,17,128,23],[129,7,129,16],[129,17,129,20],[129,37,129,40],[132,7,132,16],[132,17,132,20],[132,37,132,40],[133,7,133,16],[133,17,133,20],[133,37,133,40],[146,7,146,16],[146,17,146,20],[146,37,146,40],[147,7,147,16],[147,17,147,20],[147,37,147,40],[140,7,140,16],[140,17,140,20],[140,37,140,40],[141,17,141,23],[162,37,162,40],[163,17,163,23],[165,7,165,16],[165,17,165,20],[165,37,165,40],[148,17,148,23],[152,7,152,16],[152,17,152,20],[152,37,152,40],[150,1,150,42],[176,9,176,17],[176,18,176,21],[176,22,176,30],[176,31,176,34],[187,37,187,40],[153,37,153,40],[154,37,154,40],[155,17,155,23],[157,7,157,16],[157,17,157,20],[166,37,166,40],[167,17,167,23],[174,12,174,31],[175,9,175,17],[175,18,175,21],[175,22,175,30],[175,31,175,34],[171,1,171,42],[157,37,157,40],[158,37,158,40],[159,17,159,23],[161,7,161,16],[161,17,161,20],[161,37,161,40],[181,9,181,17],[181,18,181,21],[181,22,181,30],[181,31,181,34],[187,17,187,20],[177,9,177,17],[177,18,177,21],[177,22,177,30],[177,31,177,34],[178,9,178,17],[178,18,178,21],[178,22,178,30],[178,31,178,34],[180,9,180,17],[180,18,180,21],[180,22,180,30],[180,31,180,34],[179,9,179,17],[179,18,179,21],[179,22,179,30],[179,31,179,34],[199,14,199,17],[199,19,199,22],[199,27,199,34],[188,17,188,20],[199,35,199,42],[192,17,192,23],[195,17,195,23],[197,14,197,17],[197,19,197,22],[198,14,198,17],[198,19,198,22],[198,27,198,34],[188,37,188,40],[208,17,208,20],[208,37,208,40],[204,17,204,20],[204,37,204,40],[203,17,203,20],[200,35,200,42],[202,17,202,20],[202,37,202,40],[203,37,203,40],[206,1,206,42],[209,37,209,40],[209,17,209,20],[210,37,210,40],[215,17,215,23],[211,17,211,23],[213,17,213,20],[213,37,213,40],[214,37,214,40],[214,17,214,20],[396,44,396,47],[384,1,384,42],[386,1,386,42],[390,22,390,30],[390,31,390,34],[390,44,390,47],[391,44,391,47],[392,36,392,41],[393,36,393,41],[394,36,394,41],[396,31,396,34],[397,44,397,47],[398,44,398,47],[399,36,399,41],[400,36,400,41],[402,36,402,41],[403,36,403,41],[401,36,401,41],[404,36,404,41],[405,0,405,8],[405,22,405,30],[405,31,405,34],[405,44,405,47],[397,31,397,34],[406,0,406,28],[406,42,406,47],[411,36,411,41],[412,0,412,8],[412,22,412,30],[412,31,412,34],[412,44,412,47],[407,0,407,8],[407,22,407,30],[407,31,407,34],[407,44,407,47],[408,44,408,47],[406,36,406,41],[409,44,409,47],[413,0,413,8],[413,22,413,30],[413,31,413,34],[413,44,413,47],[414,44,414,47],[415,36,415,41],[410,44,410,47],[417,0,417,28],[417,42,417,47],[418,44,418,47],[416,0,416,8],[416,22,416,30],[416,31,416,34],[421,12,421,31],[422,9,422,17],[422,18,422,21],[422,22,422,30],[422,31,422,34],[419,42,419,47],[419,36,419,41],[416,44,416,47],[417,36,417,41],[427,9,427,17],[427,18,427,21],[427,22,427,30],[427,31,427,34],[428,9,428,17],[428,18,428,21],[428,22,428,30],[428,31,428,34],[429,18,429,21],[429,31,429,34],[430,18,430,21],[430,31,430,34],[431,18,431,21],[431,31,431,34],[432,18,432,21],[432,31,432,34],[433,9,433,17],[433,18,433,21],[433,22,433,30],[433,31,433,34],[434,18,434,21],[434,31,434,34],[434,9,434,17],[435,9,435,17],[435,18,435,21],[435,22,435,30],[435,31,435,34],[436,9,436,17],[436,18,436,21],[436,22,436,30],[436,31,436,34]]}
[]
[null,"21","Übungsaufgaben aus ehemaligen Klausuren"]
[]
[null,"1.) Wir gewähren einem Kunden eine Umsatzrückvergütung (Bonus) von brutto\n 1.999,20 €.\n"]
[null,"Ausgangs-BS",null,null,null,null,null,"Ford. a. LuL",null,null,null,null,null,null,null,null,null,null,null,null,null,"an",null,"Umsatzerlöse"]
[null,null,null,null,null,null,null,null,null,null,null,null,null,null,null,null,null,null,null,null,null,null,null,"Ust"]
[null,"Buchungssatz:",null,null,null,null,null,"Gewährte Nachlässe",null,null,null,null,null,null,null,null,null,{"$f":"1999.2/1.19","v":1680},null,null,null,"an",null,"Forderungen LuL",null,null,null,null,null,null,null,null,null,null,null,null,null,{"$f":"R7+R8","v":1999.2}]
[null,null,null,null,null,null,null,"USt",null,null,null,null,null,null,null,null,null,{"$f":"R7*0.19","v":319.2}]
[]
[null,"=> Gewinnminderung",null,null,null,null,null,null,null,null,null,null,null,null,null,null,null,{"$f":"R7","v":1680}]
[]
[]
[null,"2.) Überweisung der Grundsteuer für das Betriebsgebäude (1.400 €) und das Wohnhaus des Unternehmers (470 €)."]
[]
[null,"Buchungssatz:",null,null,null,null,null,"Grundsteuer (Aufwand)",null,null,null,null,null,null,null,null,null,1400,null,null,null,"an",null,"Bank",null,null,null,null,null,null,null,null,null,null,null,null,null,{"$f":"R15+R16","v":1870}]
[null,null,null,null,null,null,null,"Privatentnahme",null,null,null,null,null,null,null,null,null,470]
[]
[null,"=> Gewinnminderung",null,null,null,null,null,null,null,null,null,null,null,null,null,null,null,{"$f":"R15","v":1400}]
[]
[null,"3.) Für ein Hypothekendarlehen werden am Monatsende 7.600 € Annuität abgebucht. Davon sind 3.600 € Zinsen, der Rest ist Darlehenstilgung."]
[]
[null,"Buchungssatz:",null,null,null,null,null,"Darlehen",null,null,null,null,null,null,null,null,null,{"$f":"7600-3600","v":4000},null,null,null,"an",null,"Bank",null,null,null,null,null,null,null,null,null,null,null,null,null,{"$f":"R22+R23","v":7600}]
[null,null,null,null,null,null,null,"Zinsaufwand",null,null,null,null,null,null,null,null,null,3600]
[]
[null,"=> Gewinnminderung",null,null,null,null,null,null,null,null,null,null,null,null,null,null,null,{"$f":"R23","v":3600}]
[]
[]
[]
[null,"4.) Ein Lieferer geht auf unseren Wunsch ein, den Rest einer heute fälligen Verbindlichkeit über 49.980 € nach unserer heutigen Teilzahlung (Bank) von 15.000 € in ein Darlehen umzuwandeln."]
[]
[null,"Buchungssatz:",null,null,null,null,null,"Verbindlichkeit LuL",null,null,null,null,null,null,null,null,null,49980,null,null,null,"an",null,"Bank",null,null,null,null,null,null,null,null,null,null,null,null,null,15000]
[null,null,null,null,null,null,null,null,null,null,null,null,null,null,null,null,null,null,null,null,null,null,null,"Darlehen",null,null,null,null,null,null,null,null,null,null,null,null,null,{"$f":"R31-AL31","v":34980}]
[]
[null,"=> Gewinnauswirkung",null,null,null,null,null,null,null,null,null,null,null,null,null,null,null,0]
[]
[]
[]
[null,"5.) Handelswareneinkauf netto 40.000 zuzügl. 19 % USt: Die Hälfte wird sofort unter Abzug von 3 % Skonto bezahlt, der Rest geht auf Ziel."]
[]
[null,"Buchungssatz:",null,null,null,null,null,"Handelsware/Vorräte",null,null,null,null,null,null,null,null,null,40000,null,null,null,"an",null,"Verblk. LuL",null,null,null,null,null,null,null,null,null,null,null,null,null,{"$f":"R40+R41","v":47600}]
[null,"Lieferung",null,null,null,null,null,"Vorsteuer",null,null,null,null,null,null,null,null,null,{"$f":"R40*0.19","v":7600}]
[]
[null,"=> Gewinnauswirkung",null,null,null,null,null,null,null,null,null,null,null,null,null,null,null,0]
[]
[]
[null,"Buchungssatz:",null,null,null,null,null,{"$f":"X40","v":"Verblk. LuL"},null,null,null,null,null,null,null,null,null,{"$f":"AL40*0.5","v":23800},null,null,null,"an",null,"Bank",null,null,null,null,null,null,null,null,null,null,null,null,null,{"$f":"AL40*0.5*0.97","v":23086}]
[null,"Teilzahlung",null,null,null,null,null,null,null,null,null,null,null,null,null,null,null,null,null,null,null,null,null,"Handelswaren (erh. Skonto)",null,null,null,null,null,null,null,null,null,null,null,null,null,{"$f":"R46*0.03/1.19","v":600}]
[null,null,null,null,null,null,null,null,null,null,null,null,null,null,null,null,null,null,null,null,null,null,null,{"$f":"H41","v":"Vorsteuer"},null,null,null,null,null,null,null,null,null,null,null,null,null,{"$f":"AL47*0.19","v":114}]
[]
[null,"=> Gewinnauswirkung",null,null,null,null,null,null,null,null,null,null,null,null,null,null,null,0]
[]
[]
[null,"6.) Bilanzielle lineare Abschreibung eines Fabrikgebäudes, AHK: 2 Mio. €. Grundstücksanteil: 40 %. Nutzungsdauer: 25 Jahre."]
[]
[null,"Buchungssatz:",null,null,null,null,null,"Abschreibung",null,null,null,null,null,null,null,null,null,{"$f":"2000000*0.6/25","v":48000},null,null,null,"an",null,"Gebäude",null,null,null,null,null,null,null,null,null,null,null,null,null,{"$f":"R55","v":48000}]
[]
[null,"=> Gewinnminderung",null,null,null,null,null,null,null,null,null,null,null,null,null,null,null,{"$f":"R55","v":48000}]
[]
[]
[null,"7.) Barzahlung des Steuerberaterhonorars:  3.600 € zuzügl. 19 % USt. Davon sind 15% für die Einkommensteuererklärung (Est) des Unternehmers."]
[null,"Der Steuerberater (StB) gewährt uns bei Bezahlung 3% Skonto."]
[]
[null,"Buchungssatz:",null,null,null,null,null,"Aufwand StB",null,null,null,null,null,null,null,null,null,{"$f":"3600*0.85*0.97","v":2968.2},null,null,null,"an",null,"Kasse",null,null,null,null,null,null,null,null,null,null,null,null,null,{"$f":"3600*1.19*0.97","v":4155.4799999999996}]
[null,null,null,null,null,null,null,"Vorsteuer",null,null,null,null,null,null,null,null,null,563.96]
[null,null,null,null,null,null,null,"Privatentnahme (Est)",null,null,null,null,null,null,null,null,null,623.32000000000005]
[]
[null,"=> Gewinnminderung",null,null,null,null,null,null,null,null,null,null,null,null,null,null,null,{"$f":"R63","v":2968.2}]
[]
[]
[null,"8.) In der Kasse wird bei Prüfung ein Überschuss von 6,66 € festgestellt."]
[null,"Buchungssatz:",null,null,null,null,null,"Kasse",null,null,null,null,null,null,null,null,null,6.66,null,null,null,"an",null,"sonst. Ertrag",null,null,null,null,null,null,null,null,null,null,null,null,null,{"$f":"R71","v":6.66}]
[]
[null,"=> Gewinnerhöhung",null,null,null,null,null,null,null,null,null,null,null,null,null,null,null,{"$f":"AL71","v":6.66}]
[]
[]
[null,"9.) Kunde Windig stellt seine Zahlungen ein. Unsere Forderung beläuft sich auf 16.660 €.\nWir erhalten von Windig 10 % unserer Forderung. Den Rest betrachten wir als für immer vom Winde verweht.\nÜberraschend lässt uns Windig 2 Jahre später zum weiteren Forderungsausgleich 1.000 € zukommen, die er noch auftreiben konnte.\n"]
[null,"Buchungssatz:",null,null,null,null,null,"Zweifelhafte Ford.",null,null,null,null,null,null,null,null,null,16660,null,null,null,"an",null,"(Einwandfreie) Forderungen",null,null,null,null,null,null,null,null,null,null,null,null,null,{"$f":"R77","v":16660}]
[null,"Umbuchung zweifelhafte Forderungen"]
[]
[null,"=> Gewinnauswirkung",null,null,null,null,null,null,null,null,null,null,null,null,null,null,null,0,null,null,null,null,null,null,"(lediglich Aktivtausch in der Bilanz)"]
[]
[null,"Buchungssatz:",null,null,null,null,null,"Bank",null,null,null,null,null,null,null,null,null,{"$f":"AL77*0.1","v":1666},null,null,null,"an",null,{"$f":"H77","v":"Zweifelhafte Ford."},null,null,null,null,null,null,null,null,null,null,null,null,null,{"$f":"R77","v":16660}]
[null,"Forderungsausfall",null,null,null,null,null,"Abschreibung Ford.",null,null,null,null,null,null,null,null,null,{"$f":"AL77*0.9/1.19","v":12600}]
[null,null,null,null,null,null,null,"USt",null,null,null,null,null,null,null,null,null,{"$f":"R83*0.19","v":2394}]
[]
[null,"=> Gewinnminderung",null,null,null,null,null,null,null,null,null,null,null,null,null,null,null,{"$f":"R83","v":12600}]
[]
[null,"Buchungssatz:",null,null,null,null,null,"Bank oder Kasse",null,null,null,null,null,null,null,null,null,1000,null,null,null,"an",null,"periodenfremde Erträge",null,null,null,null,null,null,null,null,null,null,null,null,null,{"$f":"1000/1.19","v":840.3361344537816}]
[null,"Forderungseingang",null,null,null,null,null,null,null,null,null,null,null,null,null,null,null,null,null,null,null,null,null,"Ust",null,null,null,null,null,null,null,null,null,null,null,null,null,{"$f":"AL88*19%","v":159.66386554621852}]
[]
[null,"=> Gewinnerhöhung",null,null,null,null,null,null,null,null,null,null,null,null,null,null,null,{"$f":"AL88","v":840.3361344537816}]
[]
[null,"10.) Ein MES (Materialentnahmeschein) für Schmiermittel über 158 € wurde versehentlich mit 185 € verbucht."]
[null,"Ausgang-BS:",null,null,null,null,null,{"$f":"X95","v":"Betriebsstoffaufwand"},null,null,null,null,null,null,null,null,null,185,null,null,null,"an",null,{"$f":"H95","v":"Betriebsstoffe"},null,null,null,null,null,null,null,null,null,null,null,null,null,{"$f":"R94","v":185}]
[null,"Buchungssatz:",null,null,null,null,null,"Betriebsstoffe",null,null,null,null,null,null,null,null,null,{"$f":"185-158","v":27},null,null,null,"an",null,"Betriebsstoffaufwand",null,null,null,null,null,null,null,null,null,null,null,null,null,{"$f":"R95","v":27}]
[null,"Korrektur"]
[]
[null,"=> Gewinnerhöhung",null,null,null,null,null,null,null,null,null,null,null,null,null,null,null,{"$f":"AL95","v":27}]
[]
[null,"11.) Wir erhalten eine Handwerkerreparaturrechnung über 10.353 €. Wegen einer Nachlässigkeit bei der Ausführung der Arbeiten kürzen wir den Rechnungsbetrag um  595 €. Gleichzeitig liefern wir dem Handwerker fertige Erzeugnisse über  1.100 € zuzügl. 19 % USt. Der Rest wird überwiesen."]
[]
[null,"Buchungssatz:",null,null,null,null,null,"Instandhaltungaufw.",null,null,null,null,null,null,null,null,null,{"$f":"10353/1.19","v":8700},null,null,null,"an",null,"Verblk. a. LuL",null,null,null,null,null,null,null,null,null,null,null,null,null,{"$f":"R102+R103","v":10353}]
[null,"Verbindlichkeit",null,null,null,null,null,"Vorsteuer",null,null,null,null,null,null,null,null,null,{"$f":"R102*0.19","v":1653}]
[]
[null,"=> Gewinnauswirkung",null,null,null,null,null,null,null,null,null,null,null,null,null,null,null,{"$f":"-R102","v":-8700}]
[]
[null,"Buchungssatz:",null,null,null,null,null,{"$f":"X102","v":"Verblk. a. LuL"},null,null,null,null,null,null,null,null,null,{"$f":"AL102","v":10353},null,null,null,"an",null,"Bank",null,null,null,null,null,null,null,null,null,null,null,null,null,{"$f":"AL102-595-(1100*1.19)","v":8449}]
[null,"Bezahlung",null,null,null,null,null,null,null,null,null,null,null,null,null,null,null,null,null,null,null,null,null,"Umsatzerlöse",null,null,null,null,null,null,null,null,null,null,null,null,null,1100]
[null,null,null,null,null,null,null,null,null,null,null,null,null,null,null,null,null,null,null,null,null,null,null,"Ust",null,null,null,null,null,null,null,null,null,null,null,null,null,{"$f":"AL108*0.19","v":209}]
[null,null,null,null,null,null,null,null,null,null,null,null,null,null,null,null,null,null,null,null,null,null,null,{"$f":"H102","v":"Instandhaltungaufw."},null,null,null,null,null,null,null,null,null,null,null,null,null,{"$f":"595/1.19","v":500}]
[null,null,null,null,null,null,null,null,null,null,null,null,null,null,null,null,null,null,null,null,null,null,null,"Vorsteuer",null,null,null,null,null,null,null,null,null,null,null,null,null,{"$f":"AL110*0.19","v":95}]
[null,"=> Gewinnauswirkung",null,null,null,null,null,null,null,null,null,null,null,null,null,null,null,{"$f":"AL108+AL110","v":1600}]
[]
[null,"12.) Bei einer nachträglichen Kontrolle entdecken wir, dass eine schon bezahlte Rohstoffrechnung über 20.230 € wegen eines Rechenfehlers um 1.190 € zu hoch ist. Der  Lieferer erteilt uns eine Gutschrift. Ein Viertel dieser Rohstoffe geht in die Fertigung gegen MES (Materialentnahmeschein). \n"]
[null,"Buchungssatz:",null,null,null,null,null,"Bank",null,null,null,null,null,null,null,null,null,1190,null,null,null,"an",null,"Rohstoffe",null,null,null,null,null,null,null,null,null,null,null,null,null,{"$f":"R115/1.19","v":1000}]
[null,null,null,null,null,null,null,null,null,null,null,null,null,null,null,null,null,null,null,null,null,null,null,"Vorsteuer",null,null,null,null,null,null,null,null,null,null,null,null,null,{"$f":"AL115*0.19","v":190}]
[null,"=> Gewinnauswirkung",null,null,null,null,null,null,null,null,null,null,null,null,null,null,null,0]
[]
[null,"Buchungssatz:",null,null,null,null,null,"Rohstoffverbrauch",null,null,null,null,null,null,null,null,null,{"$f":"((20230-1190)/1.19)*0.25","v":4000},null,null,null,"an",null,"Rohstoffe",null,null,null,null,null,null,null,null,null,null,null,null,null,{"$f":"R119","v":4000}]
[null,"=> Gewinnauswirkung",null,null,null,null,null,null,null,null,null,null,null,null,null,null,null,{"$f":"-R119","v":-4000}]
[]
[]
[null,"13.) Kauf einer DV-Anlage über 88.000 € Listenpreis zuzügl. 19 % USt auf Ziel. Die Montage erfolgt durch eigene Arbeitskräfte: 1.500 €. Die Frachtkosten belaufen  sich auf 714 € einschließlich USt und werden sofort bar bezahlt. 70 % der Rechnung werden mit Scheck bezahlt, der Rest bar.\n"]
[null,"Buchungssatz:",null,null,null,null,null,"BGA",null,null,null,null,null,null,null,null,null,88000,null,null,null,"an",null,"Verblk. a. LuL",null,null,null,null,null,null,null,null,null,null,null,null,null,{"$f":"R124+R125","v":104720}]
[null,"Anschaffung",null,null,null,null,null,"Vorsteuer",null,null,null,null,null,null,null,null,null,{"$f":"R124*0.19","v":16720}]
[null,"=> Gewinnauswirkung",null,null,null,null,null,null,null,null,null,null,null,null,null,null,null,0]
[null,"Buchungssatz:",null,null,null,null,null,"BGA",null,null,null,null,null,null,null,null,null,{"$f":"714/1.19","v":600},null,null,null,"an",null,"Kasse",null,null,null,null,null,null,null,null,null,null,null,null,null,{"$f":"R127+R128","v":714}]
[null,"Anschaffung-NK",null,null,null,null,null,"Vorsteuer",null,null,null,null,null,null,null,null,null,{"$f":"R127*0.19","v":114}]
[null,"=> Gewinnauswirkung",null,null,null,null,null,null,null,null,null,null,null,null,null,null,null,0]
[null,"Buchungssatz:",null,null,null,null,null,"BGA",null,null,null,null,null,null,null,null,null,1500,null,null,null,"an",null,"akt. Eigenleistungen",null,null,null,null,null,null,null,null,null,null,null,null,null,{"$f":"R130+R131","v":1500}]
[null,"Eigenleistungen"]
[null,"=> Gewinnerhöhung",null,null,null,null,null,null,null,null,null,null,null,null,null,null,null,{"$f":"AL130","v":1500}]
[null,"Buchungssatz:",null,null,null,null,null,{"$f":"X124","v":"Verblk. a. LuL"},null,null,null,null,null,null,null,null,null,{"$f":"AL124","v":104720},null,null,null,"an",null,"Bank",null,null,null,null,null,null,null,null,null,null,null,null,null,{"$f":"R133*0.7","v":73304}]
[null,"Bezahlung",null,null,null,null,null,null,null,null,null,null,null,null,null,null,null,null,null,null,null,null,null,"Kasse",null,null,null,null,null,null,null,null,null,null,null,null,null,{"$f":"R133*0.3","v":31416}]
[null,"=> Gewinnauswirkung",null,null,null,null,null,null,null,null,null,null,null,null,null,null,null,0]
[]
[]
[null,"14.) Für ein Bankdarlehen wird die Dezemberannuität über 1.800 € (Tilgungsanteil 700 €)  von der Hausbank erst im Januar des Folgejahrs vom Girokonto abgebucht. Buchen Sie am 31.12. und im ...Januar des Folgejahrs."]
[]
[null,"Buchungssatz:",null,null,null,null,null,"Zinsaufwand",null,null,null,null,null,null,null,null,null,1100,null,null,null,"an",null,"sonst. Verblk.",null,null,null,null,null,null,null,null,null,null,null,null,null,{"$f":"R140","v":1100}]
[null,"Zinsen 2008"]
[null,"=> Gewinnauswirkung",null,null,null,null,null,null,null,null,null,null,null,null,null,null,null,{"$f":"-R140","v":-1100}]
[null,"Buchungssatz:",null,null,null,null,null,"Darlehen",null,null,null,null,null,null,null,null,null,700,null,null,null,"an",null,{"$f":"X140","v":"sonst. Verblk."},null,null,null,null,null,null,null,null,null,null,null,null,null,{"$f":"R143","v":700}]
[]
[null,"=> Gewinnauswirkung",null,null,null,null,null,null,null,null,null,null,null,null,null,null,null,0]
[]
[null,"Buchungssatz:",null,null,null,null,null,{"$f":"X140","v":"sonst. Verblk."},null,null,null,null,null,null,null,null,null,1800,null,null,null,"an",null,"Bank",null,null,null,null,null,null,null,null,null,null,null,null,null,1800]
[null,"Bezahlung 2009"]
[null,"=> Gewinnauswirkung",null,null,null,null,null,null,null,null,null,null,null,null,null,null,null,0]
[]
[null,"15.) Unsere Bank schickt uns folgenden Auszug:\nScheck für ER Nr. 4711 abzügl. 2 % Skonto 3.731,84 € (Soll) \nLiefererbonus  833,00 € (Haben)\nBar 1.000,00 € (Soll)\nKontoführungsgebühr 85,60 € (Soll)"]
[]
[null,"Buchungssatz:",null,null,null,null,null,"Verblk. a. LuL",null,null,null,null,null,null,null,null,null,{"$f":"3731.84/0.98","v":3808},null,null,null,"an",null,"Bank",null,null,null,null,null,null,null,null,null,null,null,null,null,3731.84]
[null,null,null,null,null,null,null,null,null,null,null,null,null,null,null,null,null,null,null,null,null,null,null,"erhaltene Skonti",null,null,null,null,null,null,null,null,null,null,null,null,null,{"$f":"R153*0.02/1.19","v":64}]
[null,null,null,null,null,null,null,null,null,null,null,null,null,null,null,null,null,null,null,null,null,null,null,"Vorsteuer",null,null,null,null,null,null,null,null,null,null,null,null,null,{"$f":"AL154*0.19","v":12.16}]
[null,"=> Gewinnauswirkung",null,null,null,null,null,null,null,null,null,null,null,null,null,null,null,0]
[]
[null,"Buchungssatz:",null,null,null,null,null,"Bank",null,null,null,null,null,null,null,null,null,833,null,null,null,"an",null,"erhaltene Boni",null,null,null,null,null,null,null,null,null,null,null,null,null,{"$f":"R158/1.19","v":700}]
[null,"Lieferboni",null,null,null,null,null,null,null,null,null,null,null,null,null,null,null,null,null,null,null,null,null,"Vorsteuer",null,null,null,null,null,null,null,null,null,null,null,null,null,{"$f":"AL158*0.19","v":133}]
[null,"=> Gewinnauswirkung",null,null,null,null,null,null,null,null,null,null,null,null,null,null,null,0]
[]
[null,"Buchungssatz:",null,null,null,null,null,"Kasse",null,null,null,null,null,null,null,null,null,1000,null,null,null,"an",null,"Bank",null,null,null,null,null,null,null,null,null,null,null,null,null,{"$f":"R162","v":1000}]
[null,"Bar"]
[null,"=> Gewinnauswirkung",null,null,null,null,null,null,null,null,null,null,null,null,null,null,null,0]
[]
[null,"Buchungssatz:",null,null,null,null,null,"NK Geldverkehr",null,null,null,null,null,null,null,null,null,85.6,null,null,null,"an",null,"Bank",null,null,null,null,null,null,null,null,null,null,null,null,null,{"$f":"R166","v":85.6}]
[null,"Gebühren"]
[null,"=> Gewinnauswirkung",null,null,null,null,null,null,null,null,null,null,null,null,null,null,null,{"$f":"-R166","v":-85.6}]
[]
[]
[]
[null,"16.) Erstellen Sie für die Fa. Albert Abele e. K. aus folgenden Angaben eine G+V - Rechnung in T-Konten-Form und schließen Sie das T-Konto ab. Die Reihenfolge auf der Soll- und Habenseite ist beliebig. Vorsicht: Sie benötigen nicht alle angegebenen   Informationen. Alle Beträge verstehen sich gegebenenfalls ohne USt. Die Dezemberpacht für einen verpachteten Parkplatz (500 €) steht noch aus.\nAufnahme eines Kredits 90.000 €, Löhne und Gehältern 70.000 €, Vorschuss an Mitarbeiter 2.000 €, Bildung einer Rückstellung (Prozesskosten) 15.000 €, Kauf von Heizöl auf Ziel 10.000 €, Umsatzsteuer-Zahllast 12.000 €, Privateinlage 26.000 €, Verkauf von Erzeugnissen 60.000 €, Zinsgutschrift auf dem Bankkonto 11.000 €, Minderbestand an Fertigerzeugnissen 14.000 €, Kauf eines PKW 80.000 €, Reparatur eines LKW 2.000 €"]
[]
[]
[null,null,null,null,null,null,null,null,null,"Aufwendungen",null,null,"Gewinn- und Verlustrechnung",null,null,null,null,null,null,null,null,null,null,null,null,null,null,null,null,null,null,null,"Ertrag"]
[null,null,null,null,null,null,null,null,null,"Löhne Gehälter",null,null,null,null,null,null,null,null,70000,null,null,null,"Umsatzerlöse",null,null,null,null,null,null,null,null,60000]
[null,null,null,null,null,null,null,null,null,"Prozesskosten",null,null,null,null,null,null,null,null,15000,null,null,null,"Zinserträge",null,null,null,null,null,null,null,null,11000]
[null,null,null,null,null,null,null,null,null,"Bestandsminderung",null,null,null,null,null,null,null,null,14000,null,null,null,"Pachterträge",null,null,null,null,null,null,null,null,500]
[null,null,null,null,null,null,null,null,null,"Reparaturkosten",null,null,null,null,null,null,null,null,2000,null,null,null,"Verlust",null,null,null,null,null,null,null,null,{"$f":"S182-AF176-AF177-AF178","v":29500}]
[]
[]
[null,null,null,null,null,null,null,null,null,null,null,null,null,null,null,null,null,null,{"$f":"SUM(S176:V181)","v":101000},null,null,null,null,null,null,null,null,null,null,null,null,{"$f":"SUM(AF176:AI181)","v":101000}]
[]
[null,null,null,null,null,null,null,null,null,null,null,null,null,null,null,null,null,null,"Hinweis: Darstellung in der Praxis: Staffelform"]
[]
[null,"17.) Für die Angestellte Angela März liegen zur Gehaltsabrechnung für den Monat Dezember 01 folgende unvollständigen Werte vor: Bruttogehalt 2.950 €, Vorschussverrechnung 400 €, Auszahlung 1.254 €, Lohn- und Kirchensteuer mit Solidaritätszuschlag 681 € Verbuchen Sie die Gehaltsauszahlung einschließlich Arbeitgeberanteil.\nWie hoch war der enthaltene Solidaritätszuschlag? Rechenweg zeigen.\nZur Geburt ihres ersten Kindes erhält Frau März vom Arbeitgeber lohnsteuerfrei ein  Kinderbettchen, wofür Hausmeister Müller im Baby-Shop 324,80 € bar bezahlt hat.\n"]
[]
[null,"Buchungssatz:"]
[null,"1. Gehalts-",null,null,null,null,null,"Gehälter",null,null,null,null,null,null,null,null,null,2950,null,null,null,"an",null,"Ford. a. Mitarbeiter",null,null,null,null,null,null,null,null,null,null,null,null,null,400]
[null,"    abrechnung",null,null,null,null,null,null,null,null,null,null,null,null,null,null,null,null,null,null,null,null,null,"Verblk. an SV",null,null,null,null,null,null,null,null,null,null,null,null,null,615]
[null,null,null,null,null,null,null,null,null,null,null,null,null,null,null,null,null,null,null,null,null,null,null,"Verblk. an Finanzamt",null,null,null,null,null,null,null,null,null,null,null,null,null,681]
[null,null,null,null,null,null,null,null,null,null,null,null,null,null,null,null,null,null,null,null,null,null,null,"Bank",null,null,null,null,null,null,null,null,null,null,null,null,null,{"$f":"R189-AL189-AL190-AL191","v":1254}]
[null,"=> Gewinnauswirkung",null,null,null,null,null,null,null,null,null,null,null,null,null,null,null,{"$f":"-R189","v":-2950}]
[]
[null,"2. AG-Anteil",null,null,null,null,null,"Sozialkosten",null,null,null,null,null,null,null,null,null,{"$f":"AL190","v":615},null,null,null,"an",null,{"$f":"X190","v":"Verblk. an SV"},null,null,null,null,null,null,null,null,null,null,null,null,null,{"$f":"R195","v":615}]
[null,"=> Gewinnauswirkung",null,null,null,null,null,null,null,null,null,null,null,null,null,null,null,{"$f":"-R195","v":-615}]
[]
[null,"Lohnsteuer",null,null,null,null,null,null,null,null,null,null,null,null,1,null,null,null,null,null,null,null,null,null,null,null,null,{"$f":"AJ200-AB199-AB200","v":600}]
[null,"Kirchensteuer",null,null,null,null,null,null,null,null,null,null,null,null,0.08,null,null,null,"x ",{"$f":"AB198","v":600},null,null,null,null,null,null,null,{"$f":"AJ200/AJ201*O199","v":48}]
[null,"Solidaritätszuschlag",null,null,null,null,null,null,null,null,null,null,null,null,5.5E-2,null,null,null,"x ",{"$f":"AB198","v":600},null,null,null,null,null,null,null,{"$f":"AJ200/AJ201*O200","v":33},null,null,null,null,null,null,null,{"$f":"AL191","v":681}]
[null,null,null,null,null,null,null,null,null,null,null,null,null,null,null,null,null,null,null,null,null,null,null,null,null,null,null,null,null,null,null,null,null,null,"=",{"$f":"O198+O199+O200","v":1.135}]
[]
[null,"Zuwendung",null,null,null,null,null,"freiwillige Sozialkosten",null,null,null,null,null,null,null,null,null,{"$f":"AL203/1.19","v":272.94117647058823},null,null,null,"an",null,"Kasse",null,null,null,null,null,null,null,null,null,null,null,null,null,{"$f":"324.8","v":324.8}]
[null,null,null,null,null,null,null,"Vorsteuer",null,null,null,null,null,null,null,null,null,{"$f":"R203*0.19","v":51.858823529411765}]
[]
[]
[null,"18.) Eine im Dezember 2008 notwendig gewordene Maschinenreparatur (geschätzter Wert  damals 8.000 €) wurde nicht mehr ausgeführt. Für die Reparatur berechnet uns die Fa.  Lothar Tüftel am 28.01.2009 einschließlich USt 8.925 €."]
[]
[null,"Buchungssatz:"]
[null,"1. Rückstellung",null,null,null,null,null,"Reparaturaufw.",null,null,null,null,null,null,null,null,null,8000,null,null,null,"an",null,"Rückstellung",null,null,null,null,null,null,null,null,null,null,null,null,null,{"$f":"R210","v":8000}]
[null,"    Bildung 2008"]
[null,"=> Gewinnauswirkung",null,null,null,null,null,null,null,null,null,null,null,null,null,null,null,{"$f":"-R210","v":-8000}]
[]
[null,"2. Rückstellung",null,null,null,null,null,{"$f":"X210","v":"Rückstellung"},null,null,null,null,null,null,null,null,null,8000,null,null,null,"an",null,"Verblk. a. LuL",null,null,null,null,null,null,null,null,null,null,null,null,null,8925]
[null,"    Auflösung 2009",null,null,null,null,null,"Vorsteuer",null,null,null,null,null,null,null,null,null,{"$f":"AL214/1.19*0.19","v":1425},null,null,null,null,null,"Ertrag a. Auflösung RSt",null,null,null,null,null,null,null,null,null,null,null,null,null,{"$f":"-(AL214-R214-R215)","v":500}]
[null,"=> Gewinnerhöhung",null,null,null,null,null,null,null,null,null,null,null,null,null,null,null,{"$f":"AL215","v":500}]
[]
[null,"19.) Wir kaufen Baumwollstoffe:\nDie Eingangsrechnung beläuft sich auf 30.000 € zuzügl. USt, wobei uns 20 % Rabatt  gewährt werden.\nFracht (30 €) und Transportversicherung (10 €) werden jeweils bar bezahlt. Die  genannten Beträge sind netto.\nWegen eines Qualitätsmangels erhalten wir auf die Stoffe 5 % Nachlass.\n"]
[null,"Buchungssatz:"]
[null,"Einkauf",null,null,null,null,null,"Rohstoffe",null,null,null,null,null,null,null,null,null,{"$f":"30000*0.8","v":24000},null,null,null,"an",null,"Verblk. a. LuL",null,null,null,null,null,null,null,null,null,null,null,null,null,{"$f":"R220+R221","v":28560}]
[null,null,null,null,null,null,null,"Vorsteuer",null,null,null,null,null,null,null,null,null,{"$f":"R220*0.19","v":4560}]
[]
[null,"ANK",null,null,null,null,null,"Bezugskosten (ANK)",null,null,null,null,null,null,null,null,null,30,null,null,null,"an",null,"Kasse",null,null,null,null,null,null,null,null,null,null,null,null,null,{"$f":"R223+R224+R225","v":45.7}]
[null,null,null,null,null,null,null,"Bezugskosten (ohne VSt)",null,null,null,null,null,null,null,null,null,10]
[null,null,null,null,null,null,null,"Vorsteuer",null,null,null,null,null,null,null,null,null,{"$f":"R223*0.19","v":5.7}]
[]
[null,"Preisnachlass",null,null,null,null,null,{"$f":"X220","v":"Verblk. a. LuL"},null,null,null,null,null,null,null,null,null,{"$f":"AL220*0.05","v":1428},null,null,null,"an",null,"Erhaltene Nachlasse",null,null,null,null,null,null,null,null,null,null,null,null,null,{"$f":"R227/1.19","v":1200}]
[null,null,null,null,null,null,null,null,null,null,null,null,null,null,null,null,null,null,null,null,null,null,null,"Vorsteuer",null,null,null,null,null,null,null,null,null,null,null,null,null,{"$f":"AL227*0.19","v":228}]
["=> Minderung AK Rohstoffe: 1.200 Euro"]
[]
[]
[null,"20.) Ein Teil der Büroräume der KG sowie Gerhard Fischers Wohnhaus werden mit neuen  Gardinen aus eigener Fertigung ausgestattet. Die jeweiligen Nettowerte lauten:\n  - Büroräume 12.000 €           \n  - Wohnhaus   7.000 €"]
[]
[null,"Buchungssatz:"]
[null,"Eigenleistung",null,null,null,null,null,"BGA",null,null,null,null,null,null,null,null,null,12000,null,null,null,"an",null,"aktivierte Eigenleistungen",null,null,null,null,null,null,null,null,null,null,null,null,null,{"$f":"R235+R237","v":12000}]
[null,"=> Gewinnerhöhung",null,null,null,null,null,null,null,null,null,null,null,null,null,null,null,{"$f":"AL235","v":12000}]
[]
[null,"Privat",null,null,null,null,null,"Privatentnahme",null,null,null,null,null,null,null,null,null,{"$f":"AL238+AL239","v":8330},null,null,null,"an",null,"Wertabgabe / Eigenverbrauch",null,null,null,null,null,null,null,null,null,null,null,null,null,7000]
[null,null,null,null,null,null,null,null,null,null,null,null,null,null,null,null,null,null,null,null,null,null,null,"USt",null,null,null,null,null,null,null,null,null,null,null,null,null,{"$f":"AL238*0.19","v":1330}]
[null,"=> Gewinnerhöhung",null,null,null,null,null,null,null,null,null,null,null,null,null,null,null,{"$f":"AL238","v":7000}]
[]
[null,"21.) Im Mai 2012 wurde ein Nachbargrundstück für 250.000 € gekauft. Die Grund- erwerbsteuer betrug 5 %. Ferner wurde die Grundsteuer mit 700 € bezahlt. Das  Grundstück wurde von einem Tiefbauunternehmen planiert, dies kostete 10.000 €  zzgl. USt. Alle Zahlungen erfolgten per Bank."]
[]
[null,"Anschaffung",null,null,null,null,null,"Grundstück",null,null,null,null,null,null,null,null,null,{"$f":"250000+(250000*0.05)+10000","v":272500},null,null,null,"an",null,"Bank",null,null,null,null,null,null,null,null,null,null,null,null,null,{"$f":"R244+R245","v":274400}]
[null,null,null,null,null,null,null,"Vorsteuer",null,null,null,null,null,null,null,null,null,{"$f":"10000*0.19","v":1900}]
[null,"=> Gewinnauswirkung",null,null,null,null,null,null,null,null,null,null,null,null,null,null,null,0]
[]
[null,"Aufwand",null,null,null,"Grundsteuer (Aufwand)",null,null,null,null,null,null,null,null,null,null,null,700,null,null,null,"an",null,"Bank",null,null,null,null,null,null,null,null,null,null,null,null,null,{"$f":"R248","v":700}]
[null,"=> Gewinnauswirkung",null,null,null,null,null,null,null,null,null,null,null,null,null,null,null,{"$f":"-R248","v":-700}]
[]
[]
[null,"22.) Im November 2008 wurden bei Fa. Holzinger 20 Bürostühle bestellt. Holzinger liefert  irrtümlich 30 Stühle und berechnet für diese 30 Stühle einschließlich USt 4.998 €.  Die Nutzungsdauer der Stühle beträgt 10 Jahre.\nBuchen Sie den Rechnungseingang für die tatsächlich gelieferten 30 Stühle.\nWir senden 10 Stühle zurück und erhalten dafür eine Gutschrift.\nWir bezahlen die Rechnung unter Abzug von 2 % Skonto."]
[]
[null,"Buchungssatz:",null,null,null,null,null,null,null,null,null,null,null,null,null,null,null,{"$f":"4998/1.19/30","v":140},null,null,null,"Euro pro Stuhl!"]
[null,"AK < 150 Euro",null,null,null,null,null,"GWG (Sofortaufwand)",null,null,null,null,null,null,null,null,null,{"$f":"4998/1.19","v":4200},null,null,null,"an",null,"Verblk. A. LuL",null,null,null,null,null,null,null,null,null,null,null,null,null,{"$f":"R255+R256","v":4998}]
[null,null,null,null,null,null,null,"Vorsteuer",null,null,null,null,null,null,null,null,null,{"$f":"4998/1.19*0.19","v":798}]
[null,"=> Gewinnauswirkung",null,null,null,null,null,null,null,null,null,null,null,null,null,null,null,{"$f":"-R255","v":-4200}]
[]
[null,"Rücklieferung",null,null,null,null,null,{"$f":"X255","v":"Verblk. A. LuL"},null,null,null,null,null,null,null,null,null,{"$f":"AL259+AL260","v":1666},null,null,null,"an",null,{"$f":"H255","v":"GWG (Sofortaufwand)"},null,null,null,null,null,null,null,null,null,null,null,null,null,{"$f":"10*140","v":1400}]
[null,null,null,null,null,null,null,null,null,null,null,null,null,null,null,null,null,null,null,null,null,null,null,{"$f":"H256","v":"Vorsteuer"},null,null,null,null,null,null,null,null,null,null,null,null,null,{"$f":"AL259*0.19","v":266}]
[null,"=> Gewinnauswirkung",null,null,null,null,null,null,null,null,null,null,null,null,null,null,null,{"$f":"+AL259","v":1400}]
[]
[]
[null,"Bezahlung",null,null,null,null,null,{"$f":"H259","v":"Verblk. A. LuL"},null,null,null,null,null,null,null,null,null,{"$f":"AL255-R259","v":3332},null,null,null,"an",null,{"$f":"X259","v":"GWG (Sofortaufwand)"},null,null,null,null,null,null,null,null,null,null,null,null,null,{"$f":"(R255-AL259)*0.02","v":56}]
[null,null,null,null,null,null,null,null,null,null,null,null,null,null,null,null,null,null,null,null,null,null,null,"Vorsteuer",null,null,null,null,null,null,null,null,null,null,null,null,null,{"$f":"AL264*0.19","v":10.64}]
[null,null,null,null,null,null,null,null,null,null,null,null,null,null,null,null,null,null,null,null,null,null,null,"Bank",null,null,null,null,null,null,null,null,null,null,null,null,null,{"$f":"R264-AL264-AL265","v":3265.36}]
[null,"=> Gewinnauswirkung",null,null,null,null,null,null,null,null,null,null,null,null,null,null,null,{"$f":"+AL264","v":56}]
[]
[null,"23.) Im November 01 wird die Umsatzsteuerzahllast des Oktobers in Höhe von 98.800 €  überwiesen. Wie hoch waren die USt-pflichtigen Verkäufe im Oktober, wenn sich die  USt-pflichtigen Einkäufe auf 680.000 € beliefen?"]
[]
[null,null,null,null,null,null,null,null,null,null,null,null,"Umsatzsteuer",null,"x"]
[null,null,null,null,null,null,null,null,null,null,null,null,"./. Vorsteuer",null,"x"]
[null,null,null,null,null,null,null,null,null,null,null,null,"= Zahllast",null,98800]
[]
[null,null,null,null,null,null,null,null,null,null,null,null,"Umsatzsteuer",null,"x"]
[null,null,null,null,null,null,null,null,null,null,null,null,"./. Vorsteuer",null,{"$f":"680000*0.19","v":129200},null,null,null,null,"= 680.000 x 19%"]
[null,null,null,null,null,null,null,null,null,null,null,null,"= Zahllast",null,98800]
[]
[null,null,null,null,null,null,null,null,null,null,null,null,"Umsatzsteuer",null,{"$f":"O281+O280","v":228000},null,null,null,null,"= 228.000 / 0,19",null,null,null,null,"=>",null,{"$f":"228000/0.19","v":1200000}]
[null,null,null,null,null,null,null,null,null,null,null,null,"./. Vorsteuer",null,{"$f":"680000*0.19","v":129200},null,null,null,null,"= 680.000 x 19%"]
[null,null,null,null,null,null,null,null,null,null,null,null,"= Zahllast",null,98800]
[]
[]
[null,"24.) Das Eigenkapital der Gerhard Fischer KG beträgt nach anfänglichen 7.600.000 € trotz  eines Verlustes von 112.000 € und monatlicher Privatentnahmen von Herrn Fischer in  Höhe von je 4.800 € am Jahresende 7.700.000 €. Berechnen und erklären Sie die  Differenz."]
[null,"Eigenkapital zum 31.12.20XX",null,null,null,null,null,null,null,null,null,null,null,null,null,null,null,null,7700000]
["-","Eigenkapital zum 01.01.20XX",null,null,null,null,null,null,null,null,null,null,null,null,null,null,null,null,7600000]
["=","Eigenkapitalveränderung",null,null,null,null,null,null,null,null,null,null,null,null,null,null,null,null,{"$f":"S285-S286","v":100000}]
["-","Privateinlagen (z. B. bar)",null,null,null,null,null,null,null,null,null,null,null,null,null,null,null,null,"?"]
["+","Privatentnahmen (z. B. PKW)",null,null,null,null,null,null,null,null,null,null,null,null,null,null,null,null,{"$f":"4800*12","v":57600}]
["=","Verlust",null,null,null,null,null,null,null,null,null,null,null,null,null,null,null,null,-112000]
[]
[null,{"$f":"B285","v":"Eigenkapital zum 31.12.20XX"},null,null,null,null,null,null,null,null,null,null,null,null,null,null,null,null,7700000]
["-",{"$f":"B286","v":"Eigenkapital zum 01.01.20XX"},null,null,null,null,null,null,null,null,null,null,null,null,null,null,null,null,7600000]
["=","Eigenkapitalveränderung",null,null,null,null,null,null,null,null,null,null,null,null,null,null,null,null,{"$f":"S292-S293","v":100000}]
["-","Privateinlagen (z. B. bar)",null,null,null,null,null,null,null,null,null,null,null,null,null,null,null,null,269600]
["+","Privatentnahmen (z. B. PKW)",null,null,null,null,null,null,null,null,null,null,null,null,null,null,null,null,{"$f":"4800*12","v":57600}]
["=","Gewinn (oder Verlust)",null,null,null,null,null,null,null,null,null,null,null,null,null,null,null,null,{"$f":"S294-S295+S296","v":-112000}]
[]
[]
[null,"25.) Kunde Osterwald überweist von unserer Forderung über 33.320  € nur 40 % vom  Rechnungsbetrag und teilt uns mit, dass er zahlungsunfähig sei. Daraufhin erlassen wir  ihm den Restbetrag."]
[]
[null,"Buchungssatz:"]
[null,"Forderungs-",null,null,null,null,null,"Bank",null,null,null,null,null,null,null,null,null,{"$f":"33320*0.4","v":13328},null,null,null,"an",null,"Ford. a. LuL",null,null,null,null,null,null,null,null,null,null,null,null,null,{"$f":"R303+R304+R305","v":33320}]
[null,"ausfall",null,null,null,null,null,"Forderungsverlust",null,null,null,null,null,null,null,null,null,{"$f":"33320/1.19*0.6","v":16800}]
[null,null,null,null,null,null,null,"USt",null,null,null,null,null,null,null,null,null,{"$f":"R304*0.19","v":3192}]
[null,"=> Gewinnauswirkung",null,null,null,null,null,null,null,null,null,null,null,null,null,null,null,{"$f":"-R304","v":-16800}]
[]
[]
[null,"26.) Folgender Buchungssatz liegt uns vor:"]
[null,null,null,null,null,null,null,"Bank",null,null,null,null,null,null,null,null,null,{"$f":"AL310+AL311+AL312","v":59500},null,null,null,"an",null,"Maschinen",null,null,null,null,null,null,null,null,null,null,null,null,null,40000]
[null,null,null,null,null,null,null,null,null,null,null,null,null,null,null,null,null,null,null,null,null,null,null,"Umsatzsteuer",null,null,null,null,null,null,null,null,null,null,null,null,null,{"$f":"50000*0.19","v":9500}]
[null,null,null,null,null,null,null,null,null,null,null,null,null,null,null,null,null,null,null,null,null,null,null,"sonst. betr. Ertrag",null,null,null,null,null,null,null,null,null,null,null,null,null,10000]
[null,"Welcher Sachverhalt liegt hier zu Grunde?"]
[null,"=> Verkauf einer Maschine mit Buchgewinn"]
[null,"Erlös ./. Restbuchwert = Buchgewinn"]
[null,"50.000 ./. 40.000 = 10.000"]
[]
[null,"Wie wirkt sich der Buchungssatz auf das AV / UV / EK / FK aus?"]
[null,"=> AV: - 40.000 (Restbuchwert Maschine)"]
[null,"=> UV: + 59.500 (Bankzugang)"]
[null,"=> EK: Gewinnerhöhung + 10.000"]
[null,"=> FK: USt-Verblk. +9.500"]
[]
[]
[null,null,null,null,null,null,null,null,null,"Aktiva",null,null,"Bilanz zum 31.12.2008",null,null,null,null,null,null,null,null,null,null,null,null,null,null,null,null,null,null,null,null,null,"Passiva"]
[null,null,null,null,null,null,null,null,null,"AV",null,null,null,null,null,null,null,null,-40000,null,null,null,"EK",null,null,null,null,null,null,null,null,10000]
[]
[null,null,null,null,null,null,null,null,null,"UV",null,null,null,null,null,null,null,null,59500,null,null,null,"FK",null,null,null,null,null,null,null,null,9500]
[]
[]
[null,null,null,null,null,null,null,null,"Veränderung","Bilanzsumme",null,null,null,null,null,null,null,null,{"$f":"SUM(S326:V330)","v":19500},null,null,null,"Bilanzsumme",null,null,null,null,null,null,null,null,{"$f":"SUM(AF326:AI330)","v":19500}]
[]
[]
[null,"27.) Kreuzen Sie an, ob folgende Aussagen jeweils richtig oder falsch sind. Falsche Aussagen stellen Sie bitte verbal richtig. Achten Sie auf Exaktheit und Vollständigkeit. "]
[null,"a.) Die Einstellung von Rückstellungen erhöht den Aufwand"]
[null,"Bsp. Buchungssatz:"]
[null,"Einstellung RSt",null,null,null,null,null,"Reparaturaufwand 2008",null,null,null,null,null,null,null,null,null,10000,null,null,null,"an",null,"Rückstellung",null,null,null,null,null,null,null,null,null,null,null,null,null,{"$f":"R337","v":10000}]
[]
[null,"=> Gewinnauswirkung",null,null,null,null,null,null,null,null,null,null,null,null,null,null,null,{"$f":"-R337","v":-10000}]
[null,"Aussage:",null,null,null,null,null,null,null,null,null,null,null,null,null,null,null,"richtig"]
[]
[null,"b.) Privatentnahmen mindern den Gewinn."]
[null,"Buchungssatz:"]
[null,"Privatentnahme",null,null,null,null,null,"Privatentnahme",null,null,null,null,null,null,null,null,null,10000,null,null,null,"an",null,"Kasse",null,null,null,null,null,null,null,null,null,null,null,null,null,{"$f":"R344","v":10000}]
[null,"=> Gewinnauswirkung",null,null,null,null,null,null,null,null,null,null,null,null,null,null,null,{"$f":"-W343","v":0}]
[null,"Aussage:",null,null,null,null,null,null,null,null,null,null,null,null,null,null,null,"FALSCH"]
[null,"Privatentnahmen sind erfolgsneutral"]
[null,"Privatentnahmen mindern das Eigenkapital"]
[]
[]
[null,"28.) Sie haben als Assistent der Geschäftsleitung den Jahresabschluss vorbereitet, aber kurz vor Beendigung Ihrer Arbeit einen schweren Festplattencrash erlebt. Natürlich bestand keine Sicherungskopie, wie leichtsinnig. Nach dem Totalabsturz bleiben nur die folgenden Daten aus dem totalen Daten-Overkill zurück:"]
[]
[null,"Bankguthaben....................................................50\nRoh-, Hilfs- und Betriebsstoffe.........................150\nUmsatzerlöse .................................................1.250\nBeteiligung X-AG .............................................300\nKapital Gesellschafter Heinze ..........................500\nLohn- und Gehaltsaufwend...............................360\nDarlehensverbindlichkeiten ...............................750\nMaschinen und Anlagen ...................................440\nBetriebs- und Geschäftsausstattung .................200\nWarenlager .....................................................200\nWarenentnahmen ............................................610\nForderungen aus LuL ......................................360\nBestandsmehrungen .........................................60\nKapital Stiller Gesellschafter ............................150"]
[null,"Grundstücke und Gebäude ............................... 820\nBestandsminderungen......................................... 20\nSonstige kurzfr. Forderungen ........................... 100\nKasse .................................................................. 10\nMaterialaufwand .............................................. 425\nVerbindlichkeiten aus L&L .............................. 200\nKapital Kommanditisten .................................. 170\nErhaltene Anzahlungen ...................................... 80\nGewerbesteuer .................................................. 190\nKapital Gesellschafter Bohlen ............................ 500\nWechselverbindlichkeiten ................................. 100\nKreditzusage an Konzerntochter ...................... 600\nSteuerverbindlichkeiten .................................... 120\nSonstige kurzfr. Verbindlichkeiten ..................... 60"]
[]
[null,"1. Stellen Sie eine ordnungsgemäße Bilanz auf, indem Sie die einzelnen Posten den Aktiva und den Passiva richtig zuordnen. Scheiden Sie dabei insbesondere überflüssige Positionen aus.\n2. Erläutern Sie in wenigen Worten, wie Sie den Posten „Kreditzusage an Konzerntochter“\nbuchhalterisch behandeln. Begründen Sie Ihre Ansicht!\n3. Erläutern Sie in wenigen Worten, ob im Moment des Kaufes von Waren oder Rohstoffen eine\nAufwandsbuchung entsteht. Begründen Sie Ihre Ansicht!"]
[]
[]
[null,null,null,null,null,null,null,null,null,null,null,null,"Heinze & Bohlen OHG"]
[null,null,null,null,null,null,null,null,null,null,null,null,"(Personengesellschaft)"]
[null,null,null,null,null,null,null,null,null,"Aktiva",null,null,"Bilanz zum 31.12.20XX",null,null,null,null,null,null,null,null,null,null,null,null,null,null,null,null,null,null,null,null,null,"Passiva"]
[null,null,null,null,null,null,null,null,null,"AV",null,null,null,null,null,null,null,null,null,null,null,null,"EK"]
[null,null,null,null,null,null,null,null,null,"Grundstücke und Gebäude",null,null,null,null,null,null,null,null,820,null,null,null,"Kapital Heinze",null,null,null,null,null,null,null,null,500]
[null,null,null,null,null,null,null,null,null,"Maschinen und Anlagen",null,null,null,null,null,null,null,null,440,null,null,null,"Kapital Bohlen",null,null,null,null,null,null,null,null,500]
[null,null,null,null,null,null,null,null,null,"Betriebs-und Geschäftsausstattung",null,null,null,null,null,null,null,null,200,null,null,null,"Kapital Kommanditisten",null,null,null,null,null,null,null,null,170]
[null,null,null,null,null,null,null,null,null,"Beteiligung",null,null,null,null,null,null,null,null,300,null,null,null,"Kapital Stiller Gesellschafter",null,null,null,null,null,null,null,null,150]
[]
[null,null,null,null,null,null,null,null,null,"UV",null,null,null,null,null,null,null,null,null,null,null,null,"FK"]
[null,null,null,null,null,null,null,null,null,"Roh-,Hilfs-,Betriebsstoffe",null,null,null,null,null,null,null,null,150,null,null,null,"Darlehen",null,null,null,null,null,null,null,null,750]
[null,null,null,null,null,null,null,null,null,"Waren",null,null,null,null,null,null,null,null,200,null,null,null,"Verbindlichkeiten LuL",null,null,null,null,null,null,null,null,200]
[null,null,null,null,null,null,null,null,null,"Forderungen LuL",null,null,null,null,null,null,null,null,360,null,null,null,"erhaltene Anzahlungen",null,null,null,null,null,null,null,null,80]
[null,null,null,null,null,null,null,null,null,"sonstige Forderungen",null,null,null,null,null,null,null,null,100,null,null,null,"Wechselverbindlichkeiten",null,null,null,null,null,null,null,null,100]
[null,null,null,null,null,null,null,null,null,"Bank",null,null,null,null,null,null,null,null,50,null,null,null,"Steuerverbindlichkeiten",null,null,null,null,null,null,null,null,120]
[null,null,null,null,null,null,null,null,null,"Kasse",null,null,null,null,null,null,null,null,10,null,null,null,"sonstige Verbindlichkeiten",null,null,null,null,null,null,null,null,60]
[]
[null,null,null,null,null,null,null,null,null,"Bilanzsumme",null,null,null,null,null,null,null,null,{"$f":"SUM(S362:V375)","v":2630},null,null,null,"Bilanzsumme",null,null,null,null,null,null,null,null,{"$f":"SUM(AF362:AI375)","v":2630}]
[]
[]
[]
[null,"2. Die Kreditzusage wird überhaupt nicht gebucht, da es sich nur um eine Zusage, nicht aber um ein abgeschlossenes Geschäft handelt. Es wäre außerbilanziell als eine Eventualforderung darzustellen. Diese dürfen weder in IAS 37 noch im Rahmen des HGB bilanziert werden (Vorsichtsprinzip).\n3. Beim Kauf von Waren oder Material aller Art muss aktiviert werden. Dies ist kein Aufwand, weil nichts verbraucht wurde. Der Kauf ist lediglich ein Aktivtausch (bei Barzahlung) oder eine\nBilanzverlängerung (bei Rechnungseingang). Der Aufwand entsteht erst durch Entnahme/Verbrauch!"]
[]
[null,"Hinweis: Der Kauf und die Entnahme von Waren bzw. Material wird in der Praxis oft anders \ngemacht, d. h. ein Aufwand wird sogleich beim Kauf gebucht. Dies ist eigentlich nicht richtig, da beim reinen Kauf noch kein Aufwand entsteht (Ausnahme: Just-In-Time-Lieferungen), erst beim Verbrauch!"]
[]
[]
[null,"30.) Es liegen zum 31.12.20XX die folgenden Inventurblätter eines Unternehmens vor. Ermitteln Sie das Eigenkapital / Reinvermögen und erstellen Sie in Anlehnung an § 266 HGB eine Bilanz."]
[]
[null,"Guthaben bei Banken ............................................................................ 23.900,– €\nSchulden aus Lieferungen und Leistungen (LuL)................................ 18.500,– €\nBebaute Grundstücke ............................................................................ 10.000,– €\nGeschäftsbauten..................................................................................... 52.200,– €\nDarlehensschuld gegenüber Commerzbank....................................... 35.000,– €\nKassenbestand ........................................................................................ 7.600,– €\nLKW....................................................................................................... 16.400,– €\nPKW....................................................................................................... 16.400,– €\nSonst. Betriebs- u. Geschäftsausstattung (BGA) .............................. 10.800,– €\nForderungen aus Lieferungen und Leistungen (LuL) ........................ 21.100,– €\nWaren ..................................................................................................... 35.700,– €"]
[]
["Lösung: Inventar:"]
[]
["A. Anlagevermögen"]
[null,"I. Sachanlagevermögen (Buchwerte)"]
[null,null,"1. Grundstück und Gebäude",null,null,null,null,null,null,null,null,null,null,null,null,null,null,null,null,null,null,null,null,null,null,null,null,null,null,null,null,null,null,null,null,null,{"$f":"10000+52200","v":62200}]
[null,null,"2. Fuhrpark",null,null,null,null,null,null,null,null,null,null,null,null,null,null,null,null,null,null,null,null,null,null,null,null,null,null,null,null,null,null,null,null,null,{"$f":"16400+16400","v":32800}]
[null,null,"3. Maschinen",null,null,null,null,null,null,null,null,null,null,null,null,null,null,null,null,null,null,null,null,null,null,null,null,null,null,null,null,null,null,null,null,null,0]
[null,null,"4. Betriebs- und Geschäftsausstattung",null,null,null,null,null,null,null,null,null,null,null,null,null,null,null,null,null,null,null,null,null,null,null,null,null,null,null,null,null,null,null,null,null,10800]
[]
["B. Umlaufvermögen"]
[null,"I. Sachanlagevermögen (Buchwerte)"]
[null,null,"1. Roh-, Hilfs- und Betriebsstoffe",null,null,null,null,null,null,null,null,null,null,null,null,null,null,null,null,null,null,null,null,null,null,null,null,null,null,null,null,null,null,null,null,null,0]
[null,null,"2. Unfertige und fertige Erzeugnisse",null,null,null,null,null,null,null,null,null,null,null,null,null,null,null,null,null,null,null,null,null,null,null,null,null,null,null,null,null,null,null,null,null,0]
[null,null,"3. Waren",null,null,null,null,null,null,null,null,null,null,null,null,null,null,null,null,null,null,null,null,null,null,null,null,null,null,null,null,null,null,null,null,null,35700]
[null,null,"4. Forderungen aus Lieferungen und Leistungen",null,null,null,null,null,null,null,null,null,null,null,null,null,null,null,null,null,null,null,null,null,null,null,null,null,null,null,null,null,null,null,null,null,21100]
[null,null,"5. Bank(guthaben)",null,null,null,null,null,null,null,null,null,null,null,null,null,null,null,null,null,null,null,null,null,null,null,null,null,null,null,null,null,null,null,null,null,23900]
[null,null,"6. Kasse",null,null,null,null,null,null,null,null,null,null,null,null,null,null,null,null,null,null,null,null,null,null,null,null,null,null,null,null,null,null,null,null,null,7600]
[]
["= Summe des Vermögens",null,null,null,null,null,null,null,null,null,null,null,null,null,null,null,null,null,null,null,null,null,null,null,null,null,null,null,null,null,null,null,null,null,null,null,{"$f":"SUM(AK393:AP405)","v":194100},null,{"$f":"SUM(AK393:AP405)","v":194100}]
[]
["C: Schulden/Verbindlichkeiten  (Fremdkapital)"]
[]
[null,"I.  Langfristige Schulden"]
[null,null,"1. Darlehen bei Commerzbank",null,null,null,null,null,null,null,null,null,null,null,null,null,null,null,null,null,null,null,null,null,null,null,null,null,null,null,null,null,null,null,null,null,-35000]
[]
[]
[null,"II.  kurzfristige Schulden"]
[null,null,"1. Verbindlichkeiten aus Lieferungen u. Leistungen ",null,null,null,null,null,null,null,null,null,null,null,null,null,null,null,null,null,null,null,null,null,null,null,null,null,null,null,null,null,null,null,null,null,-18500]
[]
["= Summe der Schulden",null,null,null,null,null,null,null,null,null,null,null,null,null,null,null,null,null,null,null,null,null,null,null,null,null,null,null,null,null,null,null,null,null,null,null,{"$f":"SUM(AK412:AO416)","v":-53500},null,{"$f":"SUM(AK405:AP416)","v":342300}]
[]
["Vermögen - Schulden = Eigenkapital bzw. Reinvermögen",null,null,null,null,null,null,null,null,null,null,null,null,null,null,null,null,null,null,null,null,null,null,null,null,null,null,null,null,null,null,null,null,null,null,null,{"$f":"AK418+AK407","v":140600}]
[]
[null,null,null,null,null,null,null,null,null,"Aktiva",null,null,"Bilanz zum 31.12.20XX",null,null,null,null,null,null,null,null,null,null,null,null,null,null,null,null,null,null,null,null,null,"Passiva"]
[null,null,null,null,null,null,null,null,null,"AV",null,null,null,null,null,null,null,null,null,null,null,null,"EK",null,null,null,null,null,null,null,null,{"$f":"AK420","v":140600}]
[null,null,null,null,null,null,null,null,null,{"$f":"C393","v":"1. Grundstück und Gebäude"},null,null,null,null,null,null,null,null,{"$f":"AK393","v":62200}]
[null,null,null,null,null,null,null,null,null,{"$f":"C394","v":"2. Fuhrpark"},null,null,null,null,null,null,null,null,{"$f":"AK394","v":32800}]
[null,null,null,null,null,null,null,null,null,{"$f":"C395","v":"3. Maschinen"},null,null,null,null,null,null,null,null,{"$f":"AK395","v":0}]
[null,null,null,null,null,null,null,null,null,{"$f":"C396","v":"4. Betriebs- und Geschäftsausstattung"},null,null,null,null,null,null,null,null,{"$f":"AK396","v":10800}]
[]
[null,null,null,null,null,null,null,null,null,"UV",null,null,null,null,null,null,null,null,null,null,null,null,"FK"]
[null,null,null,null,null,null,null,null,null,{"$f":"C400","v":"1. Roh-, Hilfs- und Betriebsstoffe"},null,null,null,null,null,null,null,null,{"$f":"AK400","v":0},null,null,null,{"$f":"B411","v":"I.  Langfristige Schulden"}]
[null,null,null,null,null,null,null,null,null,"2. Unfertige und fertige Erzeugnisse",null,null,null,null,null,null,null,null,0,null,null,null,null,{"$f":"C412","v":"1. Darlehen bei Commerzbank"},null,null,null,null,null,null,null,{"$f":"-AK412","v":35000}]
[null,null,null,null,null,null,null,null,null,"3. Waren",null,null,null,null,null,null,null,null,35700]
[null,null,null,null,null,null,null,null,null,"4. Forderungen aus Lieferungen und Leistungen",null,null,null,null,null,null,null,null,21100,null,null,null,{"$f":"B415","v":"II.  kurzfristige Schulden"}]
[null,null,null,null,null,null,null,null,null,"5. Bank(guthaben)",null,null,null,null,null,null,null,null,23900,null,null,null,{"$f":"C416","v":"1. Verbindlichkeiten aus Lieferungen u. Leistungen "},null,null,null,null,null,null,null,null,{"$f":"-AK416","v":18500}]
[null,null,null,null,null,null,null,null,null,"6. Kasse",null,null,null,null,null,null,null,null,7600]
[]
[null,null,null,null,null,null,null,null,null,"Bilanzsumme",null,null,null,null,null,null,null,null,{"$f":"SUM(S423:V436)","v":194100},null,null,null,"Bilanzsumme",null,null,null,null,null,null,null,null,{"$f":"SUM(AF423:AI436)","v":194100}]
[]
[]
[null,"31.) Welche Geschäftsvorfälle liegen folgenden Buchungssätzen zugrunde?"]
[]
[null,"1. Kasse an Bank 800,–\n2. Darlehen an Bank 5.000,–\n3. Personalaufwand an Bank 70.000,–\n4. Bank an Zinserträge 500,–\n5. BGA an Verbindlichkeiten aus LuL 1.000,–\n6. Bank an Forderungen aus LuL 14.000,–\n7. Zinsaufwand an Bank 130,–\n8. Bank an Darlehen 100.000,–\n9. Bank an Mieterträge 20.000,–\n10. Forderungen aus LuL an Umsatzerlöse 15.000,–\n11. Bank an Wertpapiere 5.000,–\n12. Versicherungsaufwand an Kasse 5.000,–"]
[]
[]
[null,"32.) a) Stellen Sie die Eröffnungsbilanz auf. \nb) Tragen Sie die Anfangsbestände auf den Konten vor.\nc) Bilden Sie die Buchungssätze.\nd) Buchen Sie die Geschäftsvorfälle auf die Konten.\ne) Schließen Sie die Konten ab.\nf) Stellen Sie die Bilanz auf zum 31.12.20..\ng) Ermitteln Sie den Erfolg auch durch Eigenkapitalvergleich. Privateinlagen und -entnahmen hat sie nicht getätigt!"]
[]
[null,"Die Unternehmerin Naidoo hat durch Inventur folgende Bestände ermittelt:\nGrund und Boden bebaut 110.000,– €\nGeschäftsbauten 260.000,– €\nBetriebs- und Geschäftsausstattung 30.000,– €\nWaren 65.000,– €\nForderungen aus LuL 80.000,– €\nBankguthaben 15.000,– €\nPostgiroguthaben 2.000,– €\nKasse 3.000,– €\nEigenkapital ????\nDarlehensverbindlichkeiten 180.000,– €\nVerbindlichkeiten aus LuL 35.000,– €"]
[]
[null,"Folgende Geschäftsvorfälle fallen an:\n1. Kauf eines Fotokopiergerätes auf Ziel 5.000,– €\n2. Mietzahlung durch Banküberweisung 500,– €\n3. Darlehenstilgung durch Banküberweisung 6.000,– €\n4. Lohnzahlung bar 1.100,– €\n5. Postgiroüberweisung an Lieferer wegen Verbindlichkeiten aus LuL 1.000,– €\n6. Banklastschrift für Darlehenszinsen 250,– €\n7. Banküberweisung für Telefongebühren 600,– €\n8. Barzahlung für Briefmarken 100,– €\n9. Banküberweisung eines Kunden zum Ausgleich unserer Forderung aus LuL 4.000,– €\n10. Zinsgutschrift der Bank 300,– €"]
[]
[null,"33.) Wir erfahren, dass der Debitor XY GmbH in finanzielle Schwierigkeiten geraten ist und Insolvenz anmeldet. Es steht noch ein Rechnungsbetrag von 144.800 € aus."]
[null,"Buchungssatz:",null,null,null,null,null,"Zweifelhafte Ford.",null,null,null,null,null,null,null,null,null,144800,null,null,null,"an",null,"(Einwandfreie) Forderungen",null,null,null,null,null,null,null,null,null,null,null,null,null,{"$f":"R452","v":144800}]
[null,"Umbuchung zweifelhafte Forderungen"]
[]
[null,"=> Gewinnauswirkung",null,null,null,null,null,null,null,null,null,null,null,null,null,null,null,0,null,null,null,null,null,null,"(lediglich Aktivtausch in der Bilanz)"]
[]
[null,"34a.) Wir verkaufen der Y-OHG Haushaltswaren. Rechnungsbetrag 95.200 €."]
[]
[null,"Buchungssatz:",null,null,null,null,null,"Ford. a. LuL",null,null,null,null,null,null,null,null,null,95200,null,null,null,"an",null,"Umsatzerlöse",null,null,null,null,null,null,null,null,null,null,null,null,null,{"$f":"R459/1.19","v":80000}]
[null,null,null,null,null,null,null,null,null,null,null,null,null,null,null,null,null,null,null,null,null,null,null,"Ust",null,null,null,null,null,null,null,null,null,null,null,null,null,{"$f":"AL459*0.19","v":15200}]
[]
[]
[null,"34b.) Für den Transport beauftragen wir eine Spedition. Diese stellt uns eine Rechnung in Höhe von 1.200 € netto aus."]
[null,"Buchungssatz:",null,null,null,null,null,"Transport/Frachtkosten",null,null,null,null,null,null,null,null,null,1200,null,null,null,"an",null,"Verbindlkt. LuL oder Bank",null,null,null,null,null,null,null,null,null,null,null,null,null,{"$f":"R464+R465","v":1428}]
[null,null,null,null,null,null,null,"Vorsteuer",null,null,null,null,null,null,null,null,null,{"$f":"R464*0.19","v":228}]
[null,"=> Gewinnauswirkung",null,null,null,null,null,null,null,null,null,null,null,null,null,null,null,{"$f":"-R464","v":-1200}]
[]
[null,"34c.) Der Kunde Y-OHG aus 34a.) überweist uns den Rechnungsbetrag unter Abzug von 3% Skonto."]
[null,"Buchungssatz:",null,null,null,null,null,"Bank",null,null,null,null,null,null,null,null,null,{"$f":"R459*0.97","v":92344},null,null,null,"an",null,{"$f":"H459","v":"Ford. a. LuL"},null,null,null,null,null,null,null,null,null,null,null,null,null,{"$f":"R459","v":95200}]
[null,null,null,null,null,null,null,"gewährte Skonto",null,null,null,null,null,null,null,null,null,{"$f":"AL459*0.03","v":2400}]
[null,null,null,null,null,null,null,"(Erlösschmälerung = Unterkonto der Umsatzerlöse!)"]
[null,null,null,null,null,null,null,"Umsatzsteuer",null,null,null,null,null,null,null,null,null,{"$f":"R470*0.19","v":456}]
[null,"=> Gewinnauswirkung",null,null,null,null,null,null,null,null,null,null,null,null,null,null,null,{"$f":"-R470","v":-2400}]
[]
[null,"34d.) Wenige Tage später ruft der Kunde Y-OHG an und reklamiert die Warensendung. Wir erlassen ihm 5% von seiner Zahlung und überweisen ihm den Betrag per Bank."]
[null,"Buchungssatz:",null,null,null,null,null,"Gewährte Nachlässe",null,null,null,null,null,null,null,null,null,{"$f":"R469/1.19*0.05","v":3880},null,null,null,"an",null,"Bank",null,null,null,null,null,null,null,null,null,null,null,null,null,{"$f":"R476+R478","v":4617.2}]
[null,null,null,null,null,null,null,"(Erlösschmälerung = Unterkonto der Umsatzerlöse!)"]
[null,null,null,null,null,null,null,"Umsatzsteuer",null,null,null,null,null,null,null,null,null,{"$f":"R476*0.19","v":737.2}]
[null,"=> Gewinnauswirkung",null,null,null,null,null,null,null,null,null,null,null,null,null,null,null,{"$f":"-R476","v":-3880}]
[]
[null,"35.) Der Insolvenzverwalter überweist uns 37.700 € aus 33.) der Rest ist uneinbringlich."]
[null,"Buchungssatz:",null,null,null,null,null,"Bank",null,null,null,null,null,null,null,null,null,37700,null,null,null,"an",null,{"$f":"H452","v":"Zweifelhafte Ford."},null,null,null,null,null,null,null,null,null,null,null,null,null,{"$f":"R482+R483+R485","v":144800}]
[null,"Forderungsausfall",null,null,null,null,null,"Forderungsverlust",null,null,null,null,null,null,null,null,null,{"$f":"(R452-R482)/1.19","v":90000}]
[null,null,null,null,null,null,null,"(Forderungsausfall = Aufwand!)"]
[null,null,null,null,null,null,null,"USt",null,null,null,null,null,null,null,null,null,{"$f":"R483*0.19","v":17100}]
[]
[null,"=> Gewinnminderung",null,null,null,null,null,null,null,null,null,null,null,null,null,null,null,{"$f":"-R483","v":-90000}]
[]
[null,"36.) Die Y-KG kauft am 30.7.XX eine Maschine zum Listenpreis von 15.000 €. Der Hersteller gewährt einen Sonderrabatt von 20%. Für den Transport stellt uns der Hersteller 1.500.- € netto in Rechnung. Für den Transport schließen wir eine Transportver¬sicherung in Höhe von 500.- € ab. Unsere firmeneigenen Arbeiter erstellen ein Fundament, das für den Aufbau notwendig ist und für das wir Herstellungskosten in Höhe von 4.000 € ansetzen."]
[]
[null,"a.) Berechnen Sie nachvollziehbar die AHK für diese Maschine!"]
[null,null,null,null,null,null,null,null,null,null,null,null,null,null,null,null,null,null,null,null,null,null,null,null,null,null,null,null,null,"netto"]
[null,null,"Anschaffungspreis lt. Liste",null,null,null,null,null,null,null,null,null,null,null,null,null,null,null,null,null,null,null,null,null,null,null,null,null,null,15000]
[null,"+","Anschaffungsneben“kosten“/Herstellungskosten"]
[null,null,"• Transportkosten (direkt zurechenbar!)",null,null,null,null,null,null,null,null,null,null,null,null,null,null,null,null,null,null,null,null,null,null,null,null,null,null,1500]
[null,null,"• Transportversicherung (direkt zurechenbar)",null,null,null,null,null,null,null,null,null,null,null,null,null,null,null,null,null,null,null,null,null,null,null,null,null,null,500]
[null,null,"• aktivierte Eigenleistungen",null,null,null,null,null,null,null,null,null,null,null,null,null,null,null,null,null,null,null,null,null,null,null,null,null,null,4000]
[null,"-","Anschaffungs“kosten“minderungen"]
[null,null,"Preisnachlass (Rabatt wird gleich abgezogen!)",null,null,null,null,null,null,null,null,null,null,null,null,null,null,null,null,null,null,null,null,null,null,null,null,null,null,{"$f":"-AD493*0.2","v":-3000}]
[null,"=","Anschaffungskosten",null,null,null,null,null,null,null,null,null,null,null,null,null,null,null,null,null,null,null,null,null,null,null,null,null,null,{"$f":"SUM(AD493:AL499)","v":18000}]
[]
[null,"davon Sofortaufwand: 0,00 Euro (nicht in Aufgabenstellung enthalten!)"]
[]
[null,"b.) Buchen Sie den Zugang der Maschine zum 30.7.20XX:"]
[null,"Buchungssatz:",null,null,null,null,null,"Maschine",null,null,null,null,null,null,null,null,null,{"$f":"AD500","v":18000},null,null,null,"an",null,"Verbindlk. LuL",null,null,null,null,null,null,null,null,null,null,null,null,null,{"$f":"R505+R506-AL506","v":16565}]
[null,"Anschaffung",null,null,null,null,null,"Vorsteuer",null,null,null,null,null,null,null,null,null,{"$f":"(AD493+AD499+AD495)*0.19","v":2565},null,null,null,null,null,"akt. Eigenleistungen",null,null,null,null,null,null,null,null,null,null,null,null,null,{"$f":"AD497","v":4000}]
[null,null,null,null,null,null,null,"(nicht auf Transportversicherung!)"]
[]
[null,"=> Gewinnerhöhung",null,null,null,null,null,null,null,null,null,null,null,null,null,null,null,{"$f":"AL506","v":4000}]
[]
[null,"c.) Die Maschine unterliegt einer betriebsbedingen Nutzungsdauer von 9 Jahren. Schreiben Sie die Maschine zum 31.12.20XX ab!"]
[null,"Buchungssatz:",null,null,null,null,null,"Abschreibung",null,null,null,null,null,null,null,null,null,{"$f":"AD500/9/12*6","v":1000},null,null,null,"an",null,{"$f":"H505","v":"Maschine"},null,null,null,null,null,null,null,null,null,null,null,null,null,{"$f":"R512+R513-AL513","v":1000}]
[]
[null,"37.) Die X-GmbH hatte im November XX eine Umsatzsteuerzahllast von 1,216 Mio. €. Die Inlandsumsätze betrugen 9,6 Mio. €. Bei allen Ein- und Verkäufen: Steuersatz 19%. Wie hoch waren die Einkäufe im November 20XX?"]
[]
[null,null,null,null,null,null,null,null,null,null,null,null,"Umsatzsteuer",null,"x"]
[null,null,null,null,null,null,null,null,null,null,null,null,"./. Vorsteuer",null,"x"]
[null,null,null,null,null,null,null,null,null,null,null,null,"= Zahllast",null,1216]
[]
[null,null,null,null,null,null,null,null,null,null,null,null,"Umsatzsteuer",null,{"$f":"9600*0.19","v":1824},null,null,null,null,"= 9.600 x 19%"]
[null,null,null,null,null,null,null,null,null,null,null,null,"./. Vorsteuer",null,"x"]
[null,null,null,null,null,null,null,null,null,null,null,null,"= Zahllast",null,{"$f":"O518","v":1216}]
[]
[null,null,null,null,null,null,null,null,null,null,null,null,"Umsatzsteuer",null,{"$f":"O520","v":1824}]
[null,null,null,null,null,null,null,null,null,null,null,null,"./. Vorsteuer",null,{"$f":"-O524+O526","v":-608},null,null,null,null,"= 608/19%x100%",null,null,null,null,"=>",null,{"$f":"608/19*100","v":3200},null,null,null,null,"Mio. Euro Eingangsnettoumsätze"]
[null,null,null,null,null,null,null,null,null,null,null,null,"= Zahllast",null,{"$f":"O522","v":1216}]
[]
[]
[null,"38.) Gesellschafter X entnahm im lfd. Jahr jeweils monatlich einen Be¬trag von 10.000 €.  Mitte des Jahres machte er eine Einlage von 70.000 €. Bilden Sie den Buchungssatz für den Abschluss der Privatkonten von X. Berechnen Sie nachvollziehbar den Schlussbestand des Eigenkapitalkontos, wenn der Anfangsbestand des Kontos Eigenkapital bei 2 Mio. € liegt und der Gewinn 350.000 € beträgt!\n"]
[null,"Buchungssatz:",null,null,null,null,null,"Eigenkapital",null,null,null,null,null,null,null,null,null,{"$f":"120000-70000","v":50000},null,null,null,"an",null,"Privatentnahme X",null,null,null,null,null,null,null,null,null,null,null,null,null,120000]
[null,null,null,null,null,null,null,"Privateinlage X",null,null,null,null,null,null,null,null,null,70000]
[null,"oder alternativer"]
[null,"Buchungssatz:",null,null,null,null,null,"Eigenkapital",null,null,null,null,null,null,null,null,null,{"$f":"120000-70000","v":50000},null,null,null,"an",null,"Privat X",null,null,null,null,null,null,null,null,null,null,null,null,null,{"$f":"R533","v":50000}]
[]
[]
[null,null,null,null,null,null,null,null,null,"Soll",null,null,"Eigenkapital",null,null,null,null,null,null,null,null,null,null,null,null,null,null,null,null,null,null,null,null,null,"Haben"]
[null,null,null,null,null,null,null,null,null,"Minderungen/Abgänge",null,null,null,null,null,null,null,null,null,null,null,null,"Anfangsbestand",null,null,null,null,null,null,null,null,2000000]
[null,null,null,null,null,null,null,null,null,"Privatentnahmen",null,null,null,null,null,null,null,null,{"$f":"120000","v":120000}]
[null,null,null,null,null,null,null,null,null,"Verlust"]
[null,null,null,null,null,null,null,null,null,null,null,null,null,null,null,null,null,null,null,null,null,null,"Mehrung/Zugänge"]
[null,null,null,null,null,null,null,null,null,"Endbestand",null,null,null,null,null,null,null,null,{"$f":"AF543-S538-S539","v":2300000},null,null,null,"Privateinlagen",null,null,null,null,null,null,null,null,70000]
[null,null,null,null,null,null,null,null,null,"Abschluss in Schlussbilanz!",null,null,null,null,null,null,null,null,null,null,null,null,"Gewinn",null,null,null,null,null,null,null,null,350000]
[null,null,null,null,null,null,null,null,null,null,null,null,null,null,null,null,null,null,{"$f":"SUM(S537:V542)","v":2420000},null,null,null,null,null,null,null,null,null,null,null,null,{"$f":"SUM(AF537:AI542)","v":2420000}]
[]
[null,"39.) Wir kaufen 1 Palette Kopier- und Druckerpapier. Rechnungsbetrag 1.428 €."]
[null,"Buchungssatz:",null,null,null,null,null,"Büromaterial",null,null,null,null,null,null,null,null,null,{"$f":"AL546/1.19","v":1200},null,null,null,"an",null,"Verbindlk. LuL oder Bank",null,null,null,null,null,null,null,null,null,null,null,null,null,1428]
[null,"Anschaffung",null,null,null,null,null,"Vorsteuer",null,null,null,null,null,null,null,null,null,{"$f":"R546*0.19","v":228}]
[null,null,null,null,null,null,null,"(Büromaterial = Aufwand!)"]
[]
[null,"=> Gewinnminderung",null,null,null,null,null,null,null,null,null,null,null,null,null,null,null,{"$f":"-R546","v":-1200}]
[]
[null,"40.) Eine vorhandene Maschine wird erweitert um ein neues elektronisches Steuerungsmodul. Einkaufspreis netto 2.000 €."]
[null,"Buchungssatz:",null,null,null,null,null,"Maschine",null,null,null,null,null,null,null,null,null,{"$f":"AL553/1.19","v":2000},null,null,null,"an",null,"Verbindlk. LuL oder Bank",null,null,null,null,null,null,null,null,null,null,null,null,null,{"$f":"2000*1.19","v":2380}]
[null,"Anschaffung",null,null,null,null,null,"Vorsteuer",null,null,null,null,null,null,null,null,null,{"$f":"R553*0.19","v":380}]
[null,null,null,null,null,null,null,"(nachträgliche Anschaffungskosten: kein Aufwand!)"]
[]
[null,"=> Gewinnauswirkung",null,null,null,null,null,null,null,null,null,null,null,null,null,null,null,0]
[]
[null,"41.) Die Z-OHG verkauft ein gebrauchtes Fahrzeug für netto 5.000 € und erhält einen Bankscheck. Der Verkaufspreis netto liegt 1.000 € unter dem Buchwert."]
[null,"Alternative kurz:"]
[null,"Buchungssatz:",null,null,null,null,null,"Bank",null,null,null,null,null,null,null,null,null,{"$f":"5000*1.19","v":5950},null,null,null,"an",null,"Fuhrpark (Restbuchwert)",null,null,null,null,null,null,null,null,null,null,null,null,null,6000]
[null,"Anlagenabgang",null,null,null,null,null,"Buchverlust a. PKW-Abgang",null,null,null,null,null,null,null,null,null,1000,null,null,null,null,null,"Umsatzsteuer",null,null,null,null,null,null,null,null,null,null,null,null,null,{"$f":"R561/1.19*0.19","v":950}]
[null,null,null,null,null,null,null,"(Buchverlust = Aufwand!)"]
[null,"Alternative lang:"]
[null,"Buchungssatz:",null,null,null,null,null,"Bank",null,null,null,null,null,null,null,null,null,{"$f":"5000*1.19","v":5950},null,null,null,"an",null,"Fuhrpark (Restbuchwert)",null,null,null,null,null,null,null,null,null,null,null,null,null,6000]
[null,"Anlagenabgang",null,null,null,null,null,"Restbuchwert a. PKW-Abgang",null,null,null,null,null,null,null,null,null,6000,null,null,null,null,null,"(Restbuchwert = Abgang vom Bestandskonto Fuhrpark!)"]
[null,null,null,null,null,null,null,"(Restbuchwert = Aufwand!)",null,null,null,null,null,null,null,null,null,null,null,null,null,null,null,"Umsatzsteuer",null,null,null,null,null,null,null,null,null,null,null,null,null,{"$f":"R565/1.19*0.19","v":950}]
[null,null,null,null,null,null,null,null,null,null,null,null,null,null,null,null,null,null,null,null,null,null,null,"Erlöse a. Anlagenabgang",null,null,null,null,null,null,null,null,null,null,null,null,null,5000]
[null,null,null,null,null,null,null,null,null,null,null,null,null,null,null,null,null,null,null,null,null,null,null,"(Erlös = Ertrag!)"]
[null,"=> Gewinnauswirkung",null,null,null,null,null,null,null,null,null,null,null,null,null,null,null,{"$f":"-R562","v":-1000}]
[]
[null,"42.) Ordnen Sie folgende Angaben in folgende Kategorien ein: \naktivierungspflichtigen Ausgaben, Aufwendungen und Erträge."]
[null,"Verkaufsprovision, GWG zwischen 0 und 150 €, Grunderwerbsteuer, Zinszahlung für ein in Anspruch genommenes Darlehen, Maklergebühr für den Kauf einer Immobilie, Abriss eines alten Hauses auf einem neu gekauften Grundstück, Grundsteuer\naktivierte Eigenleistungen, Bestandsveränderungen auf der „Haben-Seite“, Lohnkosten einer beauftragten Werkstatt (nachträglicher Einbau einer Klimaan¬lage in den Firmen-Lkw für 6.000 €), Reparatur (durch Vertragswerkstatt) einer defekten Klimaanlage im Firmen-LKW, Umsatzsteuerpflichtiger Eigenverbrauch"]
[null,"aktivierungspflichtige Ausgaben (Bilanz!): Grunderwerbsteuer, Maklergebühr für den Kauf einer Immobilie, Abriss(kosten) eines alten Hauses auf einem neu gekauften Grundstück, Lohnkosten einer beauftragten Werkstatt (nachträglicher Einbau einer Klimaan¬lage in den Firmen-Lkw für 6.000 €)"]
[null,"Aufwendungen (GuV!): Verkaufsprovision, GWG zwischen 0 und 150 € (bei Sofortaufwand!), Zinszahlung für ein in Anspruch genommenes Darlehen, Grundsteuer, Reparatur (durch Vertragswerkstatt) einer defekten Klimaanlage im Firmen-LKW"]
[null,"Ertrag (GuV!): aktivierte Eigenleistungen, Bestandsveränderungen auf der „Haben-Seite“, Umsatzsteuerpflichtiger Eigenverbrauch (Wertabgabe) nicht jedoch die Privatentnahme selber!"]
[]
[null,"43.) In der Fibu (Finanzbuchhaltung) wurden folgende Buchungen durchgeführt. Wie wirken sich die Buchungen auf folgende Positionen aus:"]
[null,"1. Buchungssatz:",null,null,null,null,null,"Bank",null,null,null,null,null,null,null,null,null,59500,null,null,null,"an",null,"Maschinen",null,null,null,null,null,null,null,null,null,null,null,null,null,{"$f":"R579/1.19-AL581","v":45000}]
[null,null,null,null,null,null,null,null,null,null,null,null,null,null,null,null,null,null,null,null,null,null,null,"Umsatzsteuer",null,null,null,null,null,null,null,null,null,null,null,null,null,{"$f":"R579/1.19*0.19","v":9500}]
[null,null,null,null,null,null,null,null,null,null,null,null,null,null,null,null,null,null,null,null,null,null,null,"Buchgewinn a. Abgang ",null,null,null,null,null,null,null,null,null,null,null,null,null,5000]
[]
[null,"2. Buchungssatz:",null,null,null,null,null,"Rückstellungen",null,null,null,null,null,null,null,null,null,25000,null,null,null,"an",null,"Ertrag Auflösung RSt",null,null,null,null,null,null,null,null,null,null,null,null,null,3000]
[null,null,null,null,null,null,null,"Vorsteuer",null,null,null,null,null,null,null,null,null,4180,null,null,null,null,null,"Verbindlk. LuL",null,null,null,null,null,null,null,null,null,null,null,null,null,{"$f":"R584/0.19*1.19","v":26180}]
[]
[]
[]
[null,"Anlage-",null,null,"Umlauf-",null,null,null,null,null,"Eigen-",null,null,null,"Fremd-",null,null,null,null,null,"Bilanz-",null,null,null,null,null,"GuV"]
[null,"vermögen",null,null,"vermögen",null,null,null,null,null,"kapital",null,null,null,"kapital",null,null,null,null,null,"summe"]
["1.",{"$f":"-AL579","v":-45000},null,{"$f":"R579","v":59500},null,null,null,null,{"$f":"AL581","v":5000},null,null,null,{"$f":"+AL580","v":9500},null,null,null,null,null,{"$f":"I590+M590","v":14500},null,null,null,null,null,{"$f":"AL581","v":5000}]
[]
["2.","-",null,{"$f":"+R584","v":4180},null,null,null,null,{"$f":"+AL583","v":3000},null,null,null,{"$f":"-R583","v":-25000},null,null,null,null,null,{"$f":"I592+M592+M593","v":4180},null,null,null,null,null,{"$f":"AL583","v":3000}]
[null,null,null,null,null,null,null,null,null,null,null,null,{"$f":"+AL584","v":26180}]
[]
[]
[]
[]
[]
[null,"44.) Buchen Sie nur die Gehaltsabrechnung sowie den Anteil für den Arbeitgeber, jedoch ohne die Abführung an die jeweiligen Träger für die Mitarbeiterin XX, verheiratet, 2 Kinder und keiner Kirche angehörig. Frau XX hat im letzten Monat einen Gehaltsvorschuss von 300 € erhalten und bewohnt eine firmenei¬gene Wohnung, für die ihr 200 € Miete berechnet werden. Folgende Daten (zur Vereinfachung gerundet!) liegen vor: steuerpflichtiges Bruttogehalt: 3.800 €, Lohn¬steuer: 500.- €, Solidaritätszuschlag: 28.- €, Krankenversicherung 310 €, Rentenver¬sicherung: 370.- €, Pflegeversicherung: 35.- € und Arbeitslosenversicherung: 57.- €."]
[]
[null,"Buchungssatz:"]
[null,"1. Gehalts-",null,null,null,null,null,"Gehälter",null,null,null,null,null,null,null,null,null,3800,null,null,null,"an",null,"Ford. a. Mitarbeiter",null,null,null,null,null,null,null,null,null,null,null,null,null,300]
[null,"    abrechnung",null,null,null,null,null,null,null,null,null,null,null,null,null,null,null,null,null,null,null,null,null,"Verblk. an SV",null,null,null,null,null,null,null,null,null,null,null,null,null,{"$f":"310+370+35+57","v":772}]
[null,null,null,null,null,null,null,null,null,null,null,null,null,null,null,null,null,null,null,null,null,null,null,"Verblk. an Finanzamt",null,null,null,null,null,null,null,null,null,null,null,null,null,{"$f":"500+28","v":528}]
[null,null,null,null,null,null,null,null,null,null,null,null,null,null,null,null,null,null,null,null,null,null,null,"\"Miet\"Ertrag",null,null,null,null,null,null,null,null,null,null,null,null,null,200]
[null,null,null,null,null,null,null,null,null,null,null,null,null,null,null,null,null,null,null,null,null,null,null,"Bank",null,null,null,null,null,null,null,null,null,null,null,null,null,{"$f":"R602-AL602-AL603-AL604-AL605","v":2000}]
[null,"=> Gewinnauswirkung",null,null,null,null,null,null,null,null,null,null,null,null,null,null,null,{"$f":"-R602+AL605","v":-3600}]
[]
[null,"2. AG-Anteil",null,null,null,null,null,"Sozialkosten",null,null,null,null,null,null,null,null,null,{"$f":"AL603","v":772},null,null,null,"an",null,{"$f":"X603","v":"Verblk. an SV"},null,null,null,null,null,null,null,null,null,null,null,null,null,{"$f":"R609","v":772}]
[null,"=> Gewinnauswirkung",null,null,null,null,null,null,null,null,null,null,null,null,null,null,null,{"$f":"-R609","v":-772}]

{"sheet":"Klausur","index":33,"n_rows":104,"n_cols":43,"rows_kept":104,"cut":false,"hidden":false,"merged":[[7,7,7,16],[7,17,7,20],[7,37,7,40],[9,7,9,16],[9,17,9,20],[9,37,9,40],[8,7,8,16],[8,17,8,20],[19,37,19,40],[11,37,11,40],[22,1,22,2],[22,7,22,16],[22,17,22,20],[18,1,18,2],[18,7,18,16],[18,17,18,20],[14,17,14,20],[11,7,11,16],[11,17,11,20],[21,7,21,16],[21,17,21,20],[21,37,21,40],[8,1,8,2],[17,7,17,16],[17,17,17,20],[17,37,17,40],[14,7,14,16],[27,1,27,2],[27,7,27,16],[27,17,27,20],[27,37,27,40],[22,37,22,40],[23,37,23,40],[23,3,23,5],[26,7,26,16],[26,17,26,20],[26,37,26,40],[14,37,14,40],[15,1,15,2],[15,7,15,16],[15,17,15,20],[12,1,12,2],[12,7,12,16],[12,17,12,20],[18,37,18,40],[29,7,29,16],[29,17,29,20],[29,37,29,40],[35,7,35,16],[35,17,35,20],[35,37,35,40],[32,7,32,16],[32,17,32,20],[32,37,32,40],[33,1,33,2],[33,7,33,16],[33,17,33,20],[33,37,33,40],[30,1,30,2],[30,7,30,16],[30,17,30,20],[30,37,30,40],[40,1,40,2],[40,7,40,16],[40,17,40,20],[40,37,40,40],[36,1,36,2],[36,7,36,16],[36,17,36,20],[36,37,36,40],[41,3,41,5],[44,8,44,27],[45,5,45,13],[45,14,45,17],[45,18,45,26],[45,27,45,30],[47,18,47,26],[47,27,47,30],[46,5,46,13],[46,14,46,17],[46,18,46,26],[46,27,46,30],[47,5,47,13],[47,14,47,17],[62,1,62,2],[62,5,62,8],[63,1,63,2],[64,1,64,2],[54,5,54,13],[54,14,54,17],[49,18,49,26],[49,27,49,30],[48,5,48,13],[48,14,48,17],[48,18,48,26],[53,14,53,17],[53,18,53,26],[53,27,53,30],[48,27,48,30],[49,5,49,13],[49,14,49,17],[57,18,57,26],[57,27,57,30],[56,5,56,13],[56,14,56,17],[56,18,56,26],[56,27,56,30],[70,7,70,16],[70,17,70,20],[70,37,70,40],[74,1,74,2],[74,7,74,16],[74,17,74,20],[74,37,74,40],[73,7,73,16],[73,17,73,20],[73,37,73,40],[71,1,71,2],[71,7,71,16],[71,17,71,20],[71,37,71,40],[77,1,77,2],[77,7,77,16],[77,17,77,20],[77,37,77,40],[79,7,79,16],[79,17,79,20],[79,37,79,40],[76,7,76,16],[76,17,76,20],[76,37,76,40],[84,7,84,16],[84,17,84,20],[84,37,84,40],[85,1,85,2],[85,7,85,16],[85,17,85,20],[85,37,85,40],[80,1,80,2],[80,7,80,16],[80,17,80,20],[80,37,80,40],[90,37,90,40],[91,1,91,2],[91,7,91,16],[91,17,91,20],[91,37,91,40],[87,7,87,16],[87,17,87,20],[87,37,87,40],[88,1,88,2],[88,7,88,16],[88,17,88,20],[88,37,88,40],[97,5,97,13],[97,14,97,17],[97,18,97,26],[97,27,97,30],[90,7,90,16],[90,17,90,20],[99,18,99,26],[99,27,99,30],[98,5,98,13],[98,14,98,17],[98,18,98,26],[98,27,98,30],[99,5,99,13],[99,14,99,17],[96,1,96,2],[103,5,103,13],[103,14,103,17],[73,42,73,45],[76,42,76,45],[38,0,38,39],[60,0,60,39],[82,0,82,39],[94,0,94,39],[103,18,103,26],[100,5,100,13],[100,14,100,17],[100,18,100,26],[100,27,100,30],[101,5,101,13],[101,14,101,17],[103,27,103,30],[102,5,102,13],[102,14,102,17],[102,18,102,26],[102,27,102,30],[101,18,101,26],[101,27,101,30],[96,8,96,27],[0,0,0,39],[2,0,2,39],[3,0,3,39],[5,0,5,39],[25,0,25,39],[69,0,69,39],[55,18,55,26],[55,27,55,30],[57,5,57,13],[57,14,57,17],[63,5,63,8],[64,5,64,8],[65,5,65,8],[66,5,66,8],[66,1,66,2],[65,1,65,2],[54,18,54,26],[54,27,54,30],[55,5,55,13],[55,14,55,17],[45,1,45,2],[52,8,52,27],[53,1,53,2],[53,5,53,13]]}
["Klausur: WS 2008/2009 "]
[]
["Bearbeitungszeit:  60 Minuten \nHilfsmittel: nicht programmierbarer Taschenrechner"]
["Wichtige Hinweise \n• Die Klausur umfasst 6 Seiten (inkl. Deckblatt).\n• Es gelten die aktuellen Mehrwertsteuersätze (19 % bzw. 7 %).\n• €-Beträge sind auf zwei Nach-Komma-Stellen zu runden.\n• Lösungen sind nur in die hierfür vorgesehenen Felder einzutragen. Bei nicht ausreichendem Platz die Lösung bitte auf die jeweilige Rückseite des Blattes eintragen (Hinweis darauf auf der Vorderseite!).\n• Bei Berechnungen sind in den jeweiligen Lösungsfeldern die Rechen¬wege darzustellen. \n• Konzeptblätter gelten nicht als Lösungsblatt."]
[]
["Aufgabe 1: Die Firma Klar OHG mit Sitz in Pforzheim ist ein Hersteller von Glaswaren aller Art. Die Aufgaben beziehen sich gegebenenfalls auf diese OHG.\n1. Ein Debitor bezahlt eine offene Rechnung (Rechnungsbetrag 2.975 €) unter Abzug von 2% Skonto. \n2. Die Chemiefabrik Grünlaub GmbH liefert 3.000 kg Sodapulver auf Ziel, das Kilo zu 0,50 € zuzüglich USt.\n3. Die Deutsche Bahn AG berechnet für die Zustellung von Glasgranulat 750 € zuzügl. USt.\n4. Unter Abzug von 3% Skonto überweist die Klar OHG 17.314,50 € für eine offene Rechnung (Bezug von Rohstoffen).\n5. Eine Maschinenbaufirma schickt der OHG eine Rechnung über 4.760 € für die Reparatur eines Förderbandes."]
[]
["1.",null,null,null,null,null,null,"Bank",null,null,null,null,null,null,null,null,null,{"$f":"2975*0.98","v":2915.5},null,null,null,"an",null,"Forderungen LuL",null,null,null,null,null,null,null,null,null,null,null,null,null,2975]
[null,3,null,null,null,null,null,"Umsatzerlöse (Sonto)",null,null,null,null,null,null,null,null,null,{"$f":"AL8*2%/1.19","v":50}]
[null,null,null,null,null,null,null,"USt",null,null,null,null,null,null,null,null,null,{"$f":"R9*0.19","v":9.5}]
[]
["2.",null,null,null,null,null,null,"Rohstoffe",null,null,null,null,null,null,null,null,null,{"$f":"3000*0.5","v":1500},null,null,null,"an",null,"Verblk. LuL",null,null,null,null,null,null,null,null,null,null,null,null,null,{"$f":"3000*0.5*1.19","v":1785}]
[null,1.5,null,null,null,null,null,"Vorsteuer",null,null,null,null,null,null,null,null,null,{"$f":"R12*0.19","v":285}]
[]
["3.",null,null,null,null,null,null,"Rohstoffe/Bezugs-NK",null,null,null,null,null,null,null,null,null,750,null,null,null,"an",null,"Verblk. LuL",null,null,null,null,null,null,null,null,null,null,null,null,null,{"$f":"R15+R16","v":892.5}]
[null,1.5,null,null,null,null,null,"Vorsteuer",null,null,null,null,null,null,null,null,null,{"$f":"R15*0.19","v":142.5}]
[]
["4.",null,null,null,null,null,null,"Verblk. LuL",null,null,null,null,null,null,null,null,null,{"$f":"17314.5/0.97","v":17850},null,null,null,"an",null,"Bank",null,null,null,null,null,null,null,null,null,null,null,null,null,{"$f":"R18*0.97","v":17314.5}]
[null,3,null,null,null,null,null,null,null,null,null,null,null,null,null,null,null,null,null,null,null,null,null,"Rohstoffe/erh. Skonto",null,null,null,null,null,null,null,null,null,null,null,null,null,{"$f":"R18*0.03/1.19","v":450}]
[null,null,null,null,null,null,null,null,null,null,null,null,null,null,null,null,null,null,null,null,null,null,null,"Vorsteuer",null,null,null,null,null,null,null,null,null,null,null,null,null,{"$f":"AL19*0.19","v":85.5}]
[]
["5.",null,null,null,null,null,null,"Reparaturaufwand",null,null,null,null,null,null,null,null,null,{"$f":"AL22/1.19","v":4000},null,null,null,"an",null,"Verblk. a LuL",null,null,null,null,null,null,null,null,null,null,null,null,null,4760]
[null,1.5,null,null,null,null,null,"Vorsteuer",null,null,null,null,null,null,null,null,null,{"$f":"R22*0.19","v":760}]
[null,null,null,{"$f":"B9+B13+B16+B19+B23","v":10.5}]
[]
["Aufgabe: \n6. Die Maschinenfabrik Müller GmbH liefert einen Glasschmelzofen und stellt in Rechnung:\nListenpreis der Maschine 100.000 €, Fracht für Lieferung 2.000 €. Zwei Arbeiter der OHG montieren die Maschine und schließen sie an. Dabei fallen Lohnkosten in Höhe von 4.000 € und Materialkosten in Höhe von 1.600 € an.\n7. Gesellschafter Paul Klar entnimmt dem Lager 100 Bierkrüge, die er im Freundeskreis verschenkt. Die Herstellkosten der Bierkrüge betragen 1,50 €, der Verkaufspreis beträgt \n2,50 € pro Bierkrug.\n8. Eine am 30.04.2008 gekaufte Maschine mit einer geschätzten Nutzungsdauer von 12 Jahren wird am 31.12.2008 linear mit 4.500 € abgeschrieben. Wie hoch war der Kaufpreis der Maschine inkl. USt, wenn der Transport Kosten von netto 2.000 € verursacht hat?\n9. Verbuchen Sie die Abschreibung aus Aufgabe 8.\n"]
["6.",null,null,null,null,null,null,"Machine",null,null,null,null,null,null,null,null,null,{"$f":"100000+2000+4000+1600","v":107600},null,null,null,"an",null,"Verblk a. LuL",null,null,null,null,null,null,null,null,null,null,null,null,null,{"$f":"(100000+2000)*1.19","v":121380}]
[null,3,null,null,null,null,null,"Vorsteuer",null,null,null,null,null,null,null,null,null,{"$f":"(100000+2000)*0.19","v":19380},null,null,null,null,null,"akt. Eigenleistungen",null,null,null,null,null,null,null,null,null,null,null,null,null,{"$f":"4000+1600","v":5600}]
[]
["7.",null,null,null,null,null,null,"Privatentnahme",null,null,null,null,null,null,null,null,null,{"$f":"AL30+AL31","v":178.5},null,null,null,"an",null,"Wertabgabe",null,null,null,null,null,null,null,null,null,null,null,null,null,{"$f":"100*1.5","v":150}]
[null,2,null,null,null,null,null,null,null,null,null,null,null,null,null,null,null,null,null,null,null,null,null,"USt ",null,null,null,null,null,null,null,null,null,null,null,null,null,{"$f":"AL30*0.19","v":28.5}]
[]
["8.",null,null,null,null,null,null,{"$f":"4500/9*12","v":6000},null,null,null,null,null,null,null,null,null,{"$f":"H34-2000","v":70000}]
[null,4,null,null,null,null,null,{"$f":"H33*12","v":72000},null,null,null,null,null,null,null,null,null,{"$f":"R33*1.19","v":83300}]
[]
["9.",null,null,null,null,null,null,"Abschreibung",null,null,null,null,null,null,null,null,null,4500,null,null,null,"an",null,"Maschine",null,null,null,null,null,null,null,null,null,null,null,null,null,{"$f":"R36","v":4500}]
[null,1]
[]
["Aufgabe: \n10. Erklären Sie den Geschäftsfall, für den folgende Buchung vorgenommen wurde \n(mit Nennung der Beträge).\n Rückstellungen                 12.000 € \n VSt                                      1.900 € \nan Periodenfremder Ertrag             2.000 €\n Bank                                             11.900 €\n11. Von der OHG wurden folgende Buchungen durchgeführt: \na) Bank                               59.500 \n an  Maschinen                               45.000\n   Umsatzsteuer                               9.500\n   sonst. Ertrag                                 5.000\nb) Bank                          18.659,20 \n Erlösschmälerungen         320,00\n Umsatzsteuer                      60,80\n an   Forderungen                          19.040,00\nWie wirken sich die Buchungen unter a) und b) auf folgende Bilanzpositionen aus? \nGeben Sie alle €-Beträge – gegebenenfalls getrennt - mit Vorzeichen an.\n AV -  UV  - EK  - FK  - Bilanzsumme\n"]
["10.",null,null,null,null,null,null,"Auflösung RSt, zu hoch gebildet, Bezahlung, Eingangsrechung"]
[null,2]
[null,null,null,{"$f":"B28+B31+B34+B37+B41","v":12}]
[]
[]
["11a.",null,null,null,null,"Aktiva",null,null,"Bilanz zum 31.12.2008",null,null,null,null,null,null,null,null,null,null,null,null,null,null,null,null,null,null,null,null,null,"Passiv"]
[null,2,null,null,null,"AV",null,null,null,null,null,null,null,null,-45000,null,null,null,"EK",null,null,null,null,null,null,null,null,5000]
[]
[null,null,null,null,null,"UV",null,null,null,null,null,null,null,null,59500,null,null,null,"FK",null,null,null,null,null,null,null,null,9500]
[]
[null,null,null,null,"Veränderung","Bilanzsumme",null,null,null,null,null,null,null,null,{"$f":"SUM(O46:R49)","v":14500},null,null,null,"Bilanzsumme",null,null,null,null,null,null,null,null,{"$f":"SUM(AB46:AE49)","v":14500}]
[]
[]
["11b.",null,null,null,null,"Aktiva",null,null,"Bilanz zum 31.12.2008",null,null,null,null,null,null,null,null,null,null,null,null,null,null,null,null,null,null,null,null,null,"Passiv"]
[null,2,null,null,null,"AV",null,null,null,null,null,null,null,null,null,null,null,null,"EK",null,null,null,null,null,null,null,null,-320]
[]
[null,null,null,null,null,"UV",null,null,null,null,null,null,null,null,18659.2,null,null,null,"FK",null,null,null,null,null,null,null,null,-60.8]
[null,null,null,null,null,null,null,null,null,null,null,null,null,null,-19040]
[null,null,null,null,"Veränderung","Bilanzsumme",null,null,null,null,null,null,null,null,{"$f":"SUM(O54:R57)","v":-380.79999999999927},null,null,null,"Bilanzsumme",null,null,null,null,null,null,null,null,{"$f":"SUM(AB54:AE57)","v":-380.8}]
[]
[]
["Aufgabe:\n\n12. Kreuzen Sie an, ob folgende Aussagen jeweils richtig oder falsch sind. Falsche Aussagen stellen Sie bitte verbal richtig. Achten Sie auf Exaktheit und Vollständigkeit. \na. Privateinlagen erhöhen den Gewinn.\nb. Die Bildung von Rückstellungen erhöht den Aufwand.\nc. Die Verbuchung des Barkaufs eines Notebooks (800 €) erhöht den Aufwand.\nd. Die Verbuchung der Vorsteuer erhöht die Verbindlichkeiten an das Finanzamt.\ne. Ein Kontenplan ist eine Übersicht aller in einer Wirtschaftsbranche möglichen Konten.\n\nNr. richtig falsch Wenn falsch, ...Berichtigung\n"]
["12."]
[null,1,null,null,null,"falsch"]
[null,1,null,null,null,"richtig"]
[null,1,null,null,null,"falsch"]
[null,1,null,null,null,"falsch"]
[null,1,null,null,null,"richtig"]
[]
[]
["Aufgabe:\n\n13. Eine gekaufte und bereits verbuchte Tischlampe fürs Büro (Rechnungspreis 166,60 €) \nwird an den Lieferanten zurückgegeben. Verbuchen Sie die Gutschrift für die Tischlampe.\n14. Der Insolvenzverwalter des Kunden Glashaus GmbH überweist der OHG wegen offener Forderung 2.975 €. \n15. In einem weiteren Brief teilt der Insolvenzverwalter mit, dass die restlichen 75 % der ursprünglichen Forderung uneinbringlich sind (vgl. Aufgabe 14). \n16. Die elektronische Steuerung der Glaspresse wird aufgerüstet. Dazu werden zusätzliche Speicherbausteine (Rechnungsbetrag 950 € zuzügl. USt.) eingebaut.\n"]
["13.",null,null,null,null,null,null,"Bank",null,null,null,null,null,null,null,null,null,166.6,null,null,null,"an",null,"GWG",null,null,null,null,null,null,null,null,null,null,null,null,null,{"$f":"R71-AL72","v":140}]
[null,3,null,null,null,null,null,null,null,null,null,null,null,null,null,null,null,null,null,null,null,null,null,"Vorsteuer",null,null,null,null,null,null,null,null,null,null,null,null,null,{"$f":"R71/1.19*0.19","v":26.6}]
[]
["14.",null,null,null,null,null,null,"Bank",null,null,null,null,null,null,null,null,null,2975,null,null,null,"an",null,"Ford. a LuL",null,null,null,null,null,null,null,null,null,null,null,null,null,{"$f":"R74-AL75","v":2975},null,null,null,null,{"$f":"AL74/1.19","v":2500}]
[null,2]
[]
["15.",null,null,null,null,null,null,"Forderungsausfall",null,null,null,null,null,null,null,null,null,{"$f":"AL77/1.19","v":10000},null,null,null,"an",null,"Ford. a LuL",null,null,null,null,null,null,null,null,null,null,null,null,null,{"$f":"AL74/0.25","v":11900},null,null,null,null,{"$f":"AQ74/0.25","v":10000}]
[null,2,null,null,null,null,null,"USt",null,null,null,null,null,null,null,null,null,{"$f":"R77*0.19","v":1900}]
[]
["16.",null,null,null,null,null,null,"Maschine",null,null,null,null,null,null,null,null,null,950,null,null,null,"an",null,"Verblk. a LuL",null,null,null,null,null,null,null,null,null,null,null,null,null,{"$f":"R80+R81","v":1130.5}]
[null,2.5,null,null,null,null,null,"Vorsteuer",null,null,null,null,null,null,null,null,null,{"$f":"R80*0.19","v":180.5}]
[]
["Aufgabe:\n\nAm 31.12.2008 sind noch folgende vorbereitenden Abschlussbuchungen zu machen:\n17. Bei Inventur wird ein Kassenfehlbetrag von 37,50 € entdeckt.\n18. Inventurbestand bei fertigen Erzeugnissen: 31.12.2008: 27.000 €,  31.12.2007: 29.000 €\n19. Am 28.12.2008 überwies die Klar OHG bereits die Januarmiete (3.100 €) für ein \nAußenlager."]
[]
["17.",null,null,null,null,null,null,"(sbA ) Privat",null,null,null,null,null,null,null,null,null,37.5,null,null,null,"an",null,"Kasse",null,null,null,null,null,null,null,null,null,null,null,null,null,{"$f":"R85+R86","v":37.5}]
[null,2]
[]
["18.",null,null,null,null,null,null,"Bestandsminderung",null,null,null,null,null,null,null,null,null,{"$f":"29000-27000","v":2000},null,null,null,"an",null,"FE",null,null,null,null,null,null,null,null,null,null,null,null,null,{"$f":"R88+R89","v":2000}]
[null,1]
[]
["19.",null,null,null,null,null,null,"ARAP",null,null,null,null,null,null,null,null,null,3100,null,null,null,"an",null,"Bank",null,null,null,null,null,null,null,null,null,null,null,null,null,{"$f":"R91+R92","v":3100}]
[null,1]
[]
[]
["Aufgabe:\n20. Erstellen Sie für die Klar OHG aus folgenden Angaben eine G&V - Rechnung in \nT-Konten-Form und schließen Sie das GuV-Konto ab. Die Reihenfolge auf der Soll- und Habenseite ist beliebig. Vorsicht: Sie benötigen nicht alle angegebenen Informationen. Alle Beträge verstehen sich gegebenenfalls ohne USt. Für einen laufenden Prozess müssen noch Rückstellungen in Höhe von 15.000 € gebildet werden. Die Mieteinnahmen für einen vermieteten Gebäudeteil stehen zum 31.12. noch aus. Dafür wird der Mieter im Januar eine Miete in Höhe von 4.000 € überweisen.  \nAufnahme eines Kredits    90.000 € \nLöhne und Gehälter     70.000 € \nVorschuss an Mitarbeiter      5.000 € \nKauf von 12 Notebooks auf Ziel   10.000 € \nÜberweisung der Umsatzsteuer-Zahllast  12.000 € \nPrivateinlage      26.000 € \nVerkauf von Erzeugnissen    60.000 € \nZinsgutschrift auf dem Bankkonto   11.000 € \nMinderbestand an Fertigerzeugnissen   14.000 € \nKauf eines PKWs     80.000 € \nReparatur eines LKWs       2.000 € "]
["20."]
[null,7,null,null,null,"Aufwendungen",null,null,"Gewinn- und Verlustrechnung",null,null,null,null,null,null,null,null,null,null,null,null,null,null,null,null,null,null,null,"Ertrag"]
[null,null,null,null,null,null,null,null,null,null,null,null,null,null,15000,null,null,null,null,null,null,null,null,null,null,null,null,4000]
[null,null,null,null,null,null,null,null,null,null,null,null,null,null,70000,null,null,null,null,null,null,null,null,null,null,null,null,60000]
[null,null,null,null,null,null,null,null,null,null,null,null,null,null,14000,null,null,null,null,null,null,null,null,null,null,null,null,11000]
[null,null,null,null,null,null,null,null,null,null,null,null,null,null,2000,null,null,null,"Verlust",null,null,null,null,null,null,null,null,26000]
[]
[]
[null,null,null,null,null,null,null,null,null,null,null,null,null,null,{"$f":"SUM(O98:R103)","v":101000},null,null,null,null,null,null,null,null,null,null,null,null,{"$f":"SUM(AB98:AE103)","v":101000}]

{"sheet":"Vorlage","index":34,"n_rows":47,"n_cols":31,"rows_kept":47,"cut":false,"hidden":false,"merged":[[41,18,41,26],[41,27,41,30],[42,14,42,17],[42,27,42,30],[11,5,11,13],[9,27,9,30],[11,27,11,30],[6,27,6,30],[8,5,8,13],[8,14,8,17],[8,18,8,26],[8,27,8,30],[9,14,9,17],[11,14,11,17],[39,5,39,13],[39,14,39,17],[39,18,39,26],[39,27,39,30],[40,5,40,13],[40,14,40,17],[40,18,40,26],[40,27,40,30],[41,5,41,13],[41,14,41,17],[46,5,46,13],[46,14,46,17],[46,18,46,26],[46,27,46,30],[43,5,43,13],[43,14,43,17],[43,18,43,26],[43,27,43,30],[44,14,44,17],[44,27,44,30],[45,5,45,13],[45,14,45,17],[45,18,45,26],[45,27,45,30],[12,5,12,13],[12,14,12,17],[12,18,12,26],[12,27,12,30],[37,5,37,13],[37,14,37,17],[37,18,37,26],[37,27,37,30],[38,5,38,13],[38,14,38,17],[38,18,38,26],[38,27,38,30],[35,8,35,27],[36,5,36,13],[36,14,36,17],[36,18,36,26],[36,27,36,30],[13,5,13,13],[13,14,13,17],[13,18,13,26],[13,27,13,30],[14,5,14,13],[14,14,14,17],[14,18,14,26],[2,8,2,27],[3,5,3,13],[3,14,3,17],[3,18,3,26],[3,27,3,30],[10,5,10,13],[10,14,10,17],[10,18,10,26],[10,27,10,30],[4,5,4,13],[4,14,4,17],[4,18,4,26],[4,27,4,30],[7,5,7,13],[7,14,7,17],[7,18,7,26],[7,27,7,30],[5,5,5,13],[5,14,5,17],[5,18,5,26],[5,27,5,30],[6,5,6,13],[6,14,6,17],[6,18,6,26],[14,27,14,30],[19,8,19,27],[20,5,20,13],[20,14,20,17],[20,18,20,26],[20,27,20,30],[24,5,24,13],[24,14,24,17],[24,18,24,26],[24,27,24,30],[23,27,23,30],[21,5,21,13],[21,14,21,17],[21,18,21,26],[21,27,21,30],[22,5,22,13],[22,14,22,17],[22,18,22,26],[22,27,22,30],[16,14,16,17],[17,14,17,17],[18,14,18,17],[27,5,27,13],[27,14,27,17],[27,18,27,26],[27,27,27,30],[30,5,30,13],[30,14,30,17],[30,18,30,26],[30,27,30,30],[28,14,28,17],[29,5,29,13],[29,14,29,17],[29,18,29,26],[29,27,29,30],[28,27,28,30],[25,5,25,13],[25,14,25,17],[25,18,25,26],[25,27,25,30],[23,5,23,13],[23,14,23,17],[23,18,23,26],[26,14,26,17],[26,27,26,30]]}
[]
[null,null,null,null,null,null,null,null,null,null,null,null,null,null,null,null,"vorläufige "]
[null,null,null,null,null,"Aufwendungen (S)",null,null,"Gewinn- und Verlustrechnung",null,null,null,null,null,null,null,null,null,null,null,null,null,null,null,null,null,null,null,"Ertrag (H)"]
[]
[]
[]
[]
[]
[]
[]
[]
[]
[]
[null,null,null,null,null,"vorläufiger Gewinn",null,null,null,null,null,null,null,null,{"$f":"AB4+AB5+AB6+AB7+AB8+AB9+AB10+AB11+AB12+AB13+AB14-O4-O5-O6-O7-O8-O9-O10-O11-O12-O13","v":0},null,null,null,"Verlust"]
[null,null,null,null,null,null,null,null,null,null,null,null,null,null,{"$f":"SUM(O4:R14)","v":0},null,null,null,null,null,null,null,null,null,null,null,null,{"$f":"SUM(AB4:AE14)","v":0}]
[]
[]
[]
[]
[null,null,null,null,null,"Aktiva",null,null,"Bilanz zum __________________",null,null,null,null,null,null,null,null,null,null,null,null,null,null,null,null,null,null,null,null,null,"Passiv"]
[null,null,null,null,null,"AV",null,null,null,null,null,null,null,null,null,null,null,null,"EK"]
[]
[]
[]
[]
[null,null,null,null,null,"UV",null,null,null,null,null,null,null,null,null,null,null,null,"FK"]
[]
[]
[]
[]
[null,null,null,null,"Veränderung","Bilanzsumme",null,null,null,null,null,null,null,null,{"$f":"SUM(O21:R30)","v":0},null,null,null,"Bilanzsumme",null,null,null,null,null,null,null,null,{"$f":"SUM(AB21:AE30)","v":0}]
[]
[]
[]
[]
[null,null,null,null,null,"Soll",null,null,"Eigenkapital",null,null,null,null,null,null,null,null,null,null,null,null,null,null,null,null,null,null,null,null,null,"Haben"]
[]
[null,null,null,null,null,null,null,null,null,null,null,null,null,null,null,null,null,null,"AB",null,null,null,null,null,null,null,null,7600000]
[]
[null,null,null,null,null,"Abgänge",null,null,null,null,null,null,null,null,null,null,null,null,"Zugänge"]
[null,null,null,null,null," Verlust",null,null,null,null,null,null,null,null,112000,null,null,null," Gewinn"]
[null,null,null,null,null," Privatentnahmen",null,null,null,null,null,null,null,null,{"$f":"4800*12","v":57600},null,null,null," Privateinlagen",null,null,null,null,null,null,null,null,{"$f":"7869600-7600000","v":269600}]
[]
[null,null,null,null,null,"EB (Schlussbestand)",null,null,null,null,null,null,null,null,7700000]
[]
[]
[null,null,null,null,"Veränderung",null,null,null,null,null,null,null,null,null,{"$f":"SUM(O37:R46)","v":7869600},null,null,null,null,null,null,null,null,null,null,null,null,{"$f":"SUM(AB37:AE46)","v":7869600}]

{"sheet":"Punkte","index":35,"n_rows":131,"n_cols":17,"rows_kept":131,"cut":false,"hidden":false,"merged":[[2,10,2,11]]}
[]
[]
[1,null,null,null,null,null,null,null,null,null,"BRUNOLD"]
[{"$f":"A3+1","v":2},null,null,null,null,null,null,null,null,null,"Note","Anzahl","%"]
[{"$f":"A4+1","v":3},null,null,null,null,null,null,null,0,15,5,{"$f":"1+1+1+1+1+1+1+1+1+1+1","v":11},{"$f":"L5/$L$22","v":0.1},{"$f":"K5*L5","v":55}]
[4,null,null,null,null,null,null,null,16,24,4.7,{"$f":"1+1+1+1+1+1+1+1+1+1+1+1+1+1+1+1+1+1+1","v":19},{"$f":"L6/$L$22","v":0.17272727272727273},{"$f":"K6*L6","v":89.3}]
[5,null,null,null,null,null,null,null,25,25,4,{"$f":"1+1+1","v":3},{"$f":"L7/$L$22","v":2.7272727272727271E-2},12]
[6,null,null,null,null,null,null,null,26,28,3.7,{"$f":"1+1+1+1+1+1+1+1+1","v":9},{"$f":"L8/$L$22","v":8.1818181818181818E-2},33.300000000000004]
[7,null,null,null,null,null,null,null,29,31,3.3,{"$f":"1+1+1+1+1+1+1+1+1+1+1+1","v":12},0.10909090909090909,39.599999999999994]
[8,null,null,null,null,null,null,null,32,34,3,{"$f":"1+1+1+1+1+1+1+1","v":8},7.2727272727272724E-2,24]
[9,null,null,null,null,null,null,null,35,36,2.7,{"$f":"1+1+1+1+1+1+1+1+1+1+1+1+1+1+1+1+1+1","v":18},0.16363636363636364,48.6]
[10,null,null,null,null,null,null,null,37,40,2.2999999999999998,{"$f":"1+1+1+1+1+1+1+1+1+1+1+1+1+1","v":14},0.12727272727272726,32.199999999999996]
[11,null,null,null,null,null,null,null,40.5,42,2,{"$f":"1+1+1+1","v":4},3.6363636363636362E-2,8]
[12,null,null,null,null,null,null,null,43,45,1.7,{"$f":"1+1+1+1+1+1","v":6},5.4545454545454543E-2,10.199999999999999]
[13,null,null,null,null,null,null,null,45.5,48,1.3,{"$f":"1+1+1+1+1+1","v":6},5.4545454545454543E-2,7.8000000000000007]
[14,null,null,null,null,null,null,null,49,50,1,null,0,0]
[15]
[16,null,null,null,null,null,null,null,null,null,"Durchschnitt",{"$f":"N18/L22","v":3.2727272727272729},null,{"$f":"SUM(N5:N17)","v":360}]
[17,null,null,null,null,null,null,null,null,null,"Durchfallquote",{"$f":"M5+M6","v":0.27272727272727271}]
[18,null,null,null,null,null,null,null,null,null,"nicht teilgenommen",{"$f":"7+7+4+7+1","v":26}]
[19]
[20,null,null,null,null,null,null,null,null,null,null,{"$f":"SUM(L5:L16)","v":110},{"$f":"SUM(M5:M21)","v":1}]
[21,null,null,null,null,null,null,null,null,null,null,{"$f":"L5+L6","v":30},{"$f":"L23/L22","v":0.27272727272727271}]
[22]
[23,null,null,null,null,null,null,null,null,null,null,{"$f":"L20+L22","v":136}]
[null,null,{"$f":"SUM(C3:C25)","v":0},null,{"$f":"SUM(E3:E25)","v":0},null,null,null,null,null,null,5,"Minuten",null,{"$f":"L25*L26","v":680},{"$f":"O26/60","v":11.333333333333334},"Stunden"]
[null,null,null,null,null,null,null,null,null,null,null,null,null,null,"Vorlesung",56,"Stunden"]
[null,null,null,null,null,null,null,null,null,null,null,null,null,null,"Fahrzeit",{"$f":"14*1.5","v":21},"Stunden"]
["1)","Rohstoffe",null,{"$f":"20000*0.9","v":18000},null,"Verblk. LuL",null,{"$f":"D29+D30","v":21420},null,3,null,null,null,null,"Klausureinsicht/vorb.",2,"Stunden"]
[null,"Vorsteuer",null,{"$f":"D29*0.19","v":3420},null,null,null,null,null,null,null,null,null,null,null,{"$f":"SUM(P26:P29)","v":90.333333333333329},"Stunden"]
[null,null,null,null,null,null,null,null,null,null,null,null,null,null,null,2049]
["2)","Bank",null,1731.45,null,"Ford. LuL",null,{"$f":"D32/0.97","v":1785},null,3,null,null,null,null,null,{"$f":"P31/P30","v":22.682656826568266}]
[null,"UE",null,{"$f":"H32*0.03/1.19","v":45}]
[null,"Ust",null,{"$f":"D33*0.19","v":8.5500000000000007}]
[]
["3)","Rechtsberatung",null,1600,null,"Verblk. LuL",null,{"$f":"1600*1.19","v":1904},null,2]
[null,"Vorsteuer",null,{"$f":"D36*0.19","v":304}]
[]
["4)","sonst. Verblk. ",null,780,null,"Bank (Mietaufw.)",null,780,null,2]
[]
["5)","Ford. LuL",null,21420,null,"UE",null,{"$f":"D41/1.19","v":18000},null,2]
[null,null,null,null,null,"Ust",null,{"$f":"H41*0.19","v":3420}]
[null,null,null,null,null,null,null,null,null,null,{"$f":"SUM(J29:J42)","v":12}]
[]
[]
[]
[]
["6)","Verblk. LuL",null,900,null,"Hilfsstoffe",null,{"$f":"D48/1.19","v":756.30252100840335},null,2]
[null,null,null,null,null,"Vorsteuer",null,{"$f":"H48*0.19","v":143.69747899159663}]
[]
["7)","zw. Forderungen",null,{"$f":"800*1.19","v":952},null,"Ford. LuL",null,{"$f":"D51","v":952},null,2]
[]
["8)","a.o. Abschreibungen",null,160000,null,"Gebäude",null,120000,null,2]
[null,null,null,null,null,"Rohstoffe",null,40000]
[]
["9)","Verblk. LuL",null,{"$f":"H56+H57+H58","v":28322},23800,"Bank",null,{"$f":"23800*1.19*0.98","v":27755.56},{"$f":"E56*0.98","v":23324},3]
[null,null,null,null,null,"Maschine",null,{"$f":"23800*0.02","v":476},{"$f":"(E56-I56)/1.19","v":400}]
[null,null,null,null,null,"Vorsteuer",null,{"$f":"H57*0.19","v":90.44},{"$f":"I57*0.19","v":76}]
[]
["10)","freiw.soz.Zuwend.",null,{"$f":"29.9/1.07","v":27.943925233644858},null,"Kasse",null,29.9,null,2]
[null,"Vorsteuer",null,{"$f":"29.9/1.07*0.07","v":1.9560747663551403}]
[]
["11)","BGA",null,{"$f":"H63+H64","v":2000},null,"akt. Eigenleistungen",null,{"$f":"1100+900","v":2000},null,2]
[null,"(GWG)",null,null,null,null,null,null,null,null,{"$f":"SUM(J48:J64)","v":13}]
[]
[]
["12.1)",30000,400,800,{"$f":"-1%*B67","v":-300},null,null,{"$f":"SUM(B67:E67)","v":30900},null,2]
[]
["12.2)",{"$f":"H67","v":30900},13,7,12,null,null,{"$f":"B69/C69/E69*D69","v":1386.5384615384617},null,2]
[]
["12.3)",{"$f":"B67+E67","v":29700},{"$f":"B71*0.19","v":5643},{"$f":"B71+C71","v":35343},null,null,null,null,null,2]
[null,{"$f":"B67+E67+C67","v":30100},{"$f":"B72*0.19","v":5719},{"$f":"B72+C72","v":35819},null,null,null,null,null,null,null,{"$f":"30000*0.99+400","v":30100}]
[]
[]
[null,"mindernd",null,"erhöhend",null,"neutral"]
[]
["13.1)",null,null,null,null,null,null,null,null,0.5]
[]
["13.2)",null,null,null,null,null,null,null,null,0.5]
[]
["13.3)",null,null,null,null,null,null,null,null,0.5]
[]
["13.4)",null,null,null,null,null,null,null,null,0.5]
[]
["13.5)",null,null,null,null,null,null,null,null,0.5]
[]
["13.6)",null,null,null,null,null,null,null,null,0.5]
[]
["13.7)",null,null,null,null,null,null,null,null,0.5]
[]
["13.8)",null,null,null,null,null,null,null,null,0.5]
[]
["13.9)",null,null,null,null,null,null,null,null,0.5,null,4.5]
[null,null,null,null,null,null,null,null,null,null,{"$f":"SUM(J66:J94)","v":10.5}]
[]
["14.1)",false,null,"Aktiv-/Passivminderung",null,null,null,null,null,0.5]
[]
["14.2)",false,null,"Betrag geringer 1.000 Euro, unabhängig von ND",null,null,null,null,null,0.5]
[]
["14.3)","RICHTIG",null,null,null,null,null,null,null,0.5]
[]
["14.4)",false,null,"Vermögen = Schulden",null,null,null,null,null,0.5]
[]
["14.5)",false,null,"trägt nur AN",null,null,null,null,null,0.5]
[null,{"$f":"B100","v":"RICHTIG"},null,"AG ist immer NULL!"]
[]
[null,"AV","UV",null,"EK","FK",null,"BS"]
[null,null,3808,null,-12800,-2432,null,{"$f":"C108+C109","v":-15232},null,3]
[null,null,-19040,null,null,null,null,{"$f":"E108+F108","v":-15232}]
[]
[null,null,950,null,-5000,null,null,{"$f":"C111+C112","v":-5000},null,2]
[null,null,-5950,null,null,null,null,{"$f":"E111+F111","v":-5000}]
[null,null,null,null,null,null,null,null,null,null,{"$f":"SUM(J96:J113)","v":7.5}]
[]
["16)","Zinsaufw.",null,1080,"sonst. Verblk.",null,null,{"$f":"SUM(B115:E115)","v":1080},null,1]
[]
["17)","ARAP",null,120,"Bank (Miete)",null,null,{"$f":"SUM(B117:E117)","v":120},null,1]
[]
["18)","Instandhaltung",null,3000,"RSt",null,null,{"$f":"SUM(B119:E119)","v":3000},null,1]
[]
["19)","Bank",null,"XXXX","PRAP",null,null,"XXXX",null,1]
[]
["20)","Privatentnahmen",null,{"$f":"4000*12","v":48000},null,"Privateinlage",null,20000,null,2]
[null,null,null,null,null,"Privateinlage",null,30000]
[]
[null,"Privat",null,2000,"Eigenkapital",null,null,2000]
[]
["21)","UE",null,1860,"Erlösberichtigungen",null,null,{"$f":"SUM(B128:E128)","v":1860},null,1]
[null,null,null,null,null,null,null,null,null,null,{"$f":"SUM(J115:J129)","v":7}]
[]
[null,null,null,null,null,null,null,null,null,null,{"$f":"SUM(K29:K130)","v":50}]

{"sheet":"Vorlage (2)","index":36,"n_rows":47,"n_cols":31,"rows_kept":47,"cut":false,"hidden":false,"merged":[[46,5,46,13],[46,14,46,17],[46,18,46,26],[46,27,46,30],[11,5,11,13],[44,14,44,17],[44,27,44,30],[45,5,45,13],[45,14,45,17],[45,18,45,26],[45,27,45,30],[42,14,42,17],[42,27,42,30],[43,5,43,13],[43,14,43,17],[43,18,43,26],[43,27,43,30],[40,5,40,13],[40,14,40,17],[40,18,40,26],[40,27,40,30],[41,5,41,13],[41,14,41,17],[41,18,41,26],[41,27,41,30],[38,5,38,13],[38,14,38,17],[38,18,38,26],[38,27,38,30],[39,5,39,13],[39,14,39,17],[39,18,39,26],[39,27,39,30],[35,8,35,27],[36,5,36,13],[36,14,36,17],[36,18,36,26],[36,27,36,30],[37,5,37,13],[37,14,37,17],[37,18,37,26],[37,27,37,30],[29,5,29,13],[29,14,29,17],[29,18,29,26],[29,27,29,30],[30,5,30,13],[30,14,30,17],[30,18,30,26],[30,27,30,30],[27,5,27,13],[27,14,27,17],[27,18,27,26],[27,27,27,30],[28,14,28,17],[28,27,28,30],[25,5,25,13],[25,14,25,17],[25,18,25,26],[25,27,25,30],[26,14,26,17],[26,27,26,30],[23,5,23,13],[23,14,23,17],[23,18,23,26],[23,27,23,30],[24,5,24,13],[24,14,24,17],[24,18,24,26],[24,27,24,30],[21,5,21,13],[21,14,21,17],[21,18,21,26],[21,27,21,30],[22,5,22,13],[22,14,22,17],[22,18,22,26],[22,27,22,30],[18,14,18,17],[19,8,19,27],[20,5,20,13],[20,14,20,17],[20,18,20,26],[20,27,20,30],[14,5,14,13],[14,14,14,17],[14,18,14,26],[14,27,14,30],[16,14,16,17],[17,14,17,17],[12,5,12,13],[12,14,12,17],[12,18,12,26],[12,27,12,30],[13,5,13,13],[13,14,13,17],[13,18,13,26],[13,27,13,30],[9,14,9,17],[10,5,10,13],[10,14,10,17],[10,18,10,26],[10,27,10,30],[11,14,11,17],[7,5,7,13],[7,14,7,17],[7,18,7,26],[7,27,7,30],[8,5,8,13],[8,14,8,17],[8,18,8,26],[8,27,8,30],[5,5,5,13],[5,14,5,17],[5,18,5,26],[5,27,5,30],[6,5,6,13],[6,14,6,17],[6,18,6,26],[6,27,6,30],[2,8,2,27],[3,5,3,13],[3,14,3,17],[3,18,3,26],[3,27,3,30],[4,5,4,13],[4,14,4,17],[4,18,4,26],[4,27,4,30]]}
[]
[null,null,null,null,null,null,null,null,null,null,null,null,null,null,null,null,"vorläufige "]
[null,null,null,null,null,"Aufwendungen (S)",null,null,"Gewinn- und Verlustrechnung",null,null,null,null,null,null,null,null,null,null,null,null,null,null,null,null,null,null,null,"Ertrag (H)"]
[]
[]
[]
[]
[]
[]
[]
[]
[]
[]
[null,null,null,null,null,"vorläufiger Gewinn",null,null,null,null,null,null,null,null,null,null,null,null,"Verlust"]
[null,null,null,null,null,null,null,null,null,null,null,null,null,null,{"$f":"SUM(O4:R13)","v":0},null,null,null,null,null,null,null,null,null,null,null,null,{"$f":"SUM(AB4:AE13)","v":0}]
[]
[]
[]
[]
[null,null,null,null,null,"Aktiva",null,null,"Bilanz zum __________________",null,null,null,null,null,null,null,null,null,null,null,null,null,null,null,null,null,null,null,null,null,"Passiv"]
[null,null,null,null,null,"AV",null,null,null,null,null,null,null,null,0,null,null,null,"EK"]
[]
[]
[]
[]
[null,null,null,null,null,"UV",null,null,null,null,null,null,null,null,null,null,null,null,"FK"]
[]
[]
[]
[]
[null,null,null,null,"Veränderung","Bilanzsumme",null,null,null,null,null,null,null,null,{"$f":"SUM(O21:R30)","v":0},null,null,null,"Bilanzsumme",null,null,null,null,null,null,null,null,{"$f":"SUM(AB21:AE30)","v":0}]
[]
[]
[]
[]
[null,null,null,null,null,"Soll",null,null,"Eigenkapital (passives Bestandskonto)",null,null,null,null,null,null,null,null,null,null,null,null,null,null,null,null,null,null,null,null,null,"Haben"]
[]
[null,null,null,null,null,"Abgänge",null,null,null,null,null,null,null,null,null,null,null,null,"Anfangsbestand"]
[null,null,null,null,null," Verlust"]
[null,null,null,null,null," Privatentnahmen"]
[null,null,null,null,null,null,null,null,null,null,null,null,null,null,null,null,null,null,"Zugänge"]
[null,null,null,null,null,"Endbestand",null,null,null,null,null,null,null,null,null,null,null,null," Gewinn"]
[null,null,null,null,null,null,null,null,null,null,null,null,null,null,null,null,null,null," Privateinlagen (EU/PersG)"]
[]
[]
[]
[null,null,null,null,"Veränderung",null,null,null,null,null,null,null,null,null,{"$f":"SUM(O37:R46)","v":0},null,null,null,null,null,null,null,null,null,null,null,null,{"$f":"SUM(AB37:AE46)","v":0}]

{"sheet":"Tabelle1","index":37,"n_rows":145,"n_cols":8,"rows_kept":145,"cut":false,"hidden":false,"merged":[]}
[]
[null,null,null,null,"Anlagevermögen"]
[null,5,1600,{"$f":"B3*C3","v":8000},"BGA"]
[null,null,null,100,"BGA","AKN"]
[null,null,null,{"$f":"-D3*2%","v":-160},"BGA","AK-Minderungen"]
[]
[]
[null,null,null,{"$f":"SUM(D3:D7)","v":7940}]
[]
[]
[null,"Rückstellungen",null,"=>","Schlussbilanz(konto)"]
[]
[]
[null,"An den Kunden Schmidt wurden im laufenden Jahr Tische für netto ",null,null,null,null,12000]
[null,"geliefert. Im Herbst wurde bei Schmidt ein Insolvenzverfahren eröffnet"]
[null,"Nun erhält SG 20% auf dem Bankkonto gutgeschrieben"]
[null,"Der Rest ist uneinbringlich"]
[]
["1)","Ford. LuL",{"$f":"G14*1.19","v":14280},"an","UE",{"$f":"G14","v":12000}]
[null,null,null,null,"Ust",{"$f":"F19*0.19","v":2280}]
[]
["2)","zw. Ford.",{"$f":"C19","v":14280},"an",{"$f":"B19","v":"Ford. LuL"},{"$f":"C19","v":14280}]
[]
["3)","Bank",null,{"$f":"C22*0.2","v":2856},"an",{"$f":"B22","v":"zw. Ford."},{"$f":"C22","v":14280}]
[null,"Forderungsaufsfall/-verlust"]
[null,"(Abschreibung Foderung)",null,{"$f":"F19*0.8","v":9600}]
[null,"Aufwand"]
[null,"Ust ",null,{"$f":"F20*0.8","v":1824}]
[]
[]
[null,"Eine Maschine mit einer Nutzungsdauer von 5 Jahren wird im Jahr 2013 mit"]
[null,"einem Betrag von 1.050 Euro auf 0 Euro linear abgeschrieben. Im Jahr des Kaufs"]
[null,"wurde die Maschine mit 3.150 Euro abgeschrieben. Wie hoch war der Kaufpreis"]
[null,"der Maschine und in welchem Monat / Jahr wurde diese angeschafft?"]
[]
[null,null,"Abschreibung",null,1050,{"$f":"E36/350","v":3},"Monate"]
[null,null,null,null,3150,{"$f":"E37/350","v":9},"Monate"]
[null,null,null,"12 Monate",{"$f":"SUM(E36:E37)","v":4200}]
[null,null,null,"mtl.",{"$f":"E38/12","v":350}]
[null,null,null,"5 Jahre"]
[null,null,null,"60 Monate",{"$f":"E39*60","v":21000},"Netto-Anschaffungskosten"]
[null,null,null,null,{"$f":"E41*1.19","v":24990},"Brutto-Kaufpreis"]
[]
[null,null,null,null,"2008-04-01"]
[]
[]
[null,"Bsp. ","Kfz-Versicherung für 1 Jahr im voraus:"]
[]
[null,null,"1.7.2013:",2000,"Euro"]
[]
[null,null,"Kfz-Versicherungsaufwand",null,2000,"an ","Bank",2000]
[]
[null,"korrektur:","ARAP",null,1000,"an","Kfz-Aufw.",1000]
[]
[]
[null,"2013-12-31","Jahresabschluss: Schlussbilanz "]
[]
[null,null,"Aktiva","Schlussbilanz 31.12.2013",null,"Passiva"]
[]
[]
[]
[null,null,"ARAP",1000]
[]
[null,null,"Schlussbilanzkonto",null,1000,"an ","ARAP",1000]
[]
[]
[null,"Die Gehaltsabrechnung für den Angestellten Müller für den Monat Januar ist zu erstellen."]
[null,"Folgende Daten sind bekannt:"]
[null,"Gehalt: 3.500 Euro"]
[null,"Lohn-/Kirchensteuer/Soli: 680 Euro"]
[null,"und für die Sozialabgaben für Müller (Arbeitnehmeranteil) 728 Euro"]
[null,"Buchen Sie die Gehaltsabrechnung zum 30.1.2013 sowie die Abführung der SV"]
[null,"Beiträge und Steuern"]
[]
[null,"Gehälter",null,3500,"an","Bank",{"$f":"3500-680-728","v":2092}]
[null,null,null,null,null,"Verblk. FA",680]
[null,null,null,null,null,"Verblk. SV",728]
[]
[null,"AG-Anteil SV-Kosten",null,{"$f":"G77","v":728},"an","Verblk. SV",{"$f":"G77","v":728}]
[]
[null,"Verblk. SV",null,{"$f":"G77+G79","v":1456},"an ","Bank",{"$f":"D81+D82","v":2136}]
[null,"Verblk. FA",null,{"$f":"G78+G76","v":680}]
[]
[null,"Die Gehaltsabrechnung für den Angestellten Müller für den Monat Januar ist zu erstellen."]
[null,"Folgende Daten sind bekannt:"]
[null,"Gehalt: 3.500 Euro, Vorschuss: 300"]
[null,"Lohn-/Kirchensteuer/Soli: 680 Euro"]
[null,"und für die Sozialabgaben für Müller (Arbeitnehmeranteil) 728 Euro"]
[null,"Buchen Sie die Gehaltsabrechnung zum 30.1.2013 sowie die Abführung der SV"]
[null,"Beiträge und Steuern"]
[]
[null,"Gehälter",null,3500,"an","Bank",{"$f":"3500-680-728-300","v":1792}]
[null,null,null,null,null,"Verblk. FA",680]
[null,null,null,null,null,"Verblk. SV",728]
[null,null,null,null,null,"Ford. MA",300]
[]
[]
[null,"Die SG kauft einen Lieferwagen zum Listenpreis von 31.000 Euro zzgl. Ust auf Ziel."]
[null,"Auf den Listenpreis wird ein Rabatt von 10% gewährt. Die Überführungskosten"]
[null,"betragen 700 Euro zzgl. Ust. "]
[null,"Die Zulassungsgebühren in Höhe von 38 Euro werden bar bezahlt."]
[]
[null,null,"Anlagekonto:","Fuhrpark","Anschaffungskosten"]
[]
[null,null,31000,"(Netto-) Listen"]
[null,null,738,"+ Anschaffungsnebenkosten"]
[null,null,{"$f":"-C105*0.1","v":-3100},"- Anschaffungskostenminderungen (Rabatt, Skonto etc.)"]
[null,null,{"$f":"SUM(C105:C107)","v":28638},"Nutzungsdauer"]
[]
[]
[null,"Fuhrpark",{"$f":"C108","v":28638},"an","Verblk. LuL",{"$f":"C111+C112-38","v":34034}]
[null,"Vorsteuer",{"$f":"(31000-3100)*0.19+700*0.19","v":5434},null,"Kasse",38]
[]
[]
[null,null,null,null,null,{"$f":"(31000-3100)*1.19","v":33201}]
[null,null,null,null,null,{"$f":"700*1.19","v":833}]
[null,null,null,null,null,{"$f":"SUM(F115:F116)","v":34034}]
[]
[null,"AV","UV","EK","FK","Bilanzsumme"]
[null,27938,5434,-700,{"$f":"F126","v":34034},{"$f":"B120+C120+C121","v":33334}]
[null,null,-38,null,null,{"$f":"D120+E120","v":33334}]
[null,{"$f":"C111","v":28638},{"$f":"C112","v":5434},null,{"$f":"F111","v":34034},{"$f":"B122+C122+C123","v":34034}]
[null,null,{"$f":"-F112","v":-38},null,null,{"$f":"D122+E122","v":34034}]
[]
[]
[null,"Fuhrpark",{"$f":"C111-700","v":27938},"an","Verblk. LuL",{"$f":"F111","v":34034}]
[null,"Frachtkosten",700,null,"Kasse",38]
[null,"Vorsteuer",{"$f":"(31000-3100)*0.19+700*0.19","v":5434}]
[]
[]
[]
[null,"Eine im Dezember notwendig gewordene Maschinenreparatur"]
[null,"(geschätzter Wert damals: 8.000 Euro) wurde nicht mehr ausgeführt."]
[null,"Für die Reparatur berechnet und die Fa. Im Folgejahr einschließlich"]
[null,"Ust 8.925 Euro."]
[]
[null,"alten Jahr: unterlassene Instandhaltung"]
[null,"neuen Jahr: innerhalb von 3 Monaten nachgeholt!"]
[]
[null,"Rechnung:",{"$f":"E140-D140","v":7500},{"$f":"E140/1.19*0.19","v":1425},8925]
[]
[null,null,"Reparaturaufw.",null,8000,"an","RST",{"$f":"E142","v":8000}]
[]
[null,null,"Rückstellungen",null,8000,"an","Ertrag",{"$f":"E144-C140","v":500}]
[null,null,"Vorsteuer",null,{"$f":"D140","v":1425},null,"Bank",{"$f":"E140","v":8925}]